BEGIN:VCALENDAR
VERSION:2.0
PRODID:-//Settlers Tavern - ECPv6.15.20//NONSGML v1.0//EN
CALSCALE:GREGORIAN
METHOD:PUBLISH
X-WR-CALNAME:Settlers Tavern
X-ORIGINAL-URL:https://www.settlerstavern.com
X-WR-CALDESC:Events for Settlers Tavern
REFRESH-INTERVAL;VALUE=DURATION:PT1H
X-Robots-Tag:noindex
X-PUBLISHED-TTL:PT1H
BEGIN:VTIMEZONE
TZID:Australia/Perth
BEGIN:STANDARD
TZOFFSETFROM:+0800
TZOFFSETTO:+0800
TZNAME:AWST
DTSTART:20180101T000000
END:STANDARD
END:VTIMEZONE
BEGIN:VEVENT
DTSTART;TZID=Australia/Perth:20191206T213000
DTEND;TZID=Australia/Perth:20191206T213000
DTSTAMP:20260423T193931
CREATED:20191124T170215Z
LAST-MODIFIED:20240530T054115Z
UID:10000503-1575667800-1575667800@www.settlerstavern.com
SUMMARY:THE FLOORS
DESCRIPTION:Friday December 6th\, 9:30pm. Free Entry.\n“Come Unstuck”\, the third full length album from The Floors was unearthed and born in a rural abode in France while the band toured Europe in 2018. \nLuke Dux speaks about the writing process: \n“It’s a rare thing to find all 3 of us in a room together\, touring with others bands keeps us apart\, which is most likely why we still tolerate each other. With no outside distractions and a plentiful supply of wine\, cider\, beer\, hash and cheese we spent 4 days jamming and writing in a small farmhouse in the middle of the French countryside. The perfect algorithm of quintessential + cabin fever= songs.”  \nThe album speaks the idea of growing up and coming to terms with the distortion of life’s twists and turns. The title of the album\, inspired by Kurt Vonnegut\, ties in with the nation that we all lose our way at some point. \nThe Floors previous album “Beat It Down” was recorded on an 8 track tape machine however this time\, a broken tape-machine yielded an opportunity for The Floors to explore new sonic depth in their recording. A change in recording style saw the band move from live tracking\, to a combination of the former\, plus the added bonus of over-dubbing and more complex layering. \n“The large room at Rada studios allows us to play live together and turn up as loud as we like with little bleed into the other mics. Finding the tape machine broken was a bummer at first but I think we ended up with a fuller\, more realized record\, rather than limiting ourselves to 8 tracks and no overdubs\, like we usually do\, we could record 600 plus bass guitar tracks.” \nRecorded with producer Dan Carroll at Rada studios\, The Floors have emerged with “Come Unstuck”; it’s all the same hard-hitting\, bare-knuckled blues music you’ve come to know from The Floors\, but with a few extra nuts and bolts thrown into the equation for good measure. \nThe album will be set free exclusively online and on vinyl August 26 th via BEAST records
URL:https://www.settlerstavern.com/event/the-floors/
LOCATION:Settlers Tavern\, 114 Bussell Hwy\, Margaret River\, WA\, 6285\, Australia
CATEGORIES:Music,Rock
ATTACH;FMTTYPE=image/jpeg:https://www.settlerstavern.com/wp-content/uploads/2024/04/FLOORS_DecTour_WEB-2.jpg
GEO:-33.9498;115.0736
X-APPLE-STRUCTURED-LOCATION;VALUE=URI;X-ADDRESS=Settlers Tavern 114 Bussell Hwy Margaret River WA 6285 Australia;X-APPLE-RADIUS=500;X-TITLE=114 Bussell Hwy:geo:115.0736,-33.9498
END:VEVENT
BEGIN:VEVENT
DTSTART;TZID=Australia/Perth:20191201T150000
DTEND;TZID=Australia/Perth:20191201T150000
DTSTAMP:20260423T193931
CREATED:20191124T161816Z
LAST-MODIFIED:20240530T054114Z
UID:10000502-1575212400-1575212400@www.settlerstavern.com
SUMMARY:THE LANSDELL BROTHERS
DESCRIPTION:Sunday December 1\, 3pm. Free Entry.\nNate Lansdell brings his “Emmanuel-esque” guitar techniques from his solo one man band show and is accompanied by his brother Kieren on drums and singing harmonies. \nThe Lansdell’s have been playing music together for around 15 years and this shows in their tight and complimentary sound. Growing up with a myriad of genres and styles makes for a versatile and entertaining show
URL:https://www.settlerstavern.com/event/the-lansdell-brothers/
LOCATION:Settlers Tavern\, 114 Bussell Hwy\, Margaret River\, WA\, 6285\, Australia
CATEGORIES:Music,Rock
ATTACH;FMTTYPE=image/jpeg:https://www.settlerstavern.com/wp-content/uploads/2024/04/Lansdell-Brothers.jpg
GEO:-33.9498;115.0736
X-APPLE-STRUCTURED-LOCATION;VALUE=URI;X-ADDRESS=Settlers Tavern 114 Bussell Hwy Margaret River WA 6285 Australia;X-APPLE-RADIUS=500;X-TITLE=114 Bussell Hwy:geo:115.0736,-33.9498
END:VEVENT
END:VCALENDAR