BEGIN:VCALENDAR
VERSION:2.0
PRODID:-//Settlers Tavern - ECPv6.15.20//NONSGML v1.0//EN
CALSCALE:GREGORIAN
METHOD:PUBLISH
X-ORIGINAL-URL:https://www.settlerstavern.com
X-WR-CALDESC:Events for Settlers Tavern
REFRESH-INTERVAL;VALUE=DURATION:PT1H
X-Robots-Tag:noindex
X-PUBLISHED-TTL:PT1H
BEGIN:VTIMEZONE
TZID:Australia/Perth
BEGIN:STANDARD
TZOFFSETFROM:+0800
TZOFFSETTO:+0800
TZNAME:AWST
DTSTART:20200101T000000
END:STANDARD
END:VTIMEZONE
BEGIN:VEVENT
DTSTART;TZID=Australia/Perth:20221008T210000
DTEND;TZID=Australia/Perth:20221008T210000
DTSTAMP:20260426T002439
CREATED:20220912T195121Z
LAST-MODIFIED:20240530T054719Z
UID:10000755-1665262800-1665262800@www.settlerstavern.com
SUMMARY:WAGF 2022 - Chaos Divine plays Metallica & More
DESCRIPTION:Western Australia Guitar Festival 2022 Presents Chaos Devine\nFacebook event: facebook.com/events/1504267196679294/ \n\n\nWeekend Passes\, Day Passes and Individual Event Tickets available at https://events.humanitix.com/wagf-2022 \nFeaturing Chaos Divine performing Metallica & More with support from Electric State \n\nKick on at the Tav with Chaos Divine & Electric State\, two of WA’s top heavy rock acts.\nThis is an 18+ Event\n—————————————-\nCHAOS DIVINE\nAs live performers\, Chaos Divine ascended from the ranks of a ‘local band’ to that of a national and then international touring act – growing from a sought-after support into a towering headliner. They have earned coveted spots on festivals in Australia and Europe\, have been met with chart positions\, radio play\, and a global following that is beyond loyal. Now\, led by the soaring feature track Beacon\, Chaos Divine return with Legacies in hand – a testament to their own enduring legacy as Australia’s most formidable progressive band.\nELECTRIC STATE\nMost Popular WAM Live Act for 2020\nMost Popular WAM New Act for 2020\nElectric State a grunge styled hard rock outfit\, from Perth\, is a recipe of Alice in Chains\, a dash of Nothing But Thieves\, chopped with Rival Sons\, Soundgarden with a Pearl Jam infusion. Throw a little bit of Killswitch in the end and then simmer until done. Rock served hot\, hard and a little heavy! Electric State is a heavily riff rock laden groove-based juggernaut from Perth WA.\n—————————————-\nCheck out Artist profiles\, Event Info\, FAQ’s and full Terms & Conditions at https://www.waguitarfestival.com.au/
URL:https://www.settlerstavern.com/event/wagf-2022-chaos-divine-plays-metallica-more/
LOCATION:Settlers Tavern\, 114 Bussell Hwy\, Margaret River\, WA\, 6285\, Australia
CATEGORIES:Music,Rock,Strings Attached Guitar Festival,Tickets
ATTACH;FMTTYPE=image/jpeg:https://www.settlerstavern.com/wp-content/uploads/2024/04/Chaos-Devine.jpeg
GEO:-33.9498;115.0736
X-APPLE-STRUCTURED-LOCATION;VALUE=URI;X-ADDRESS=Settlers Tavern 114 Bussell Hwy Margaret River WA 6285 Australia;X-APPLE-RADIUS=500;X-TITLE=114 Bussell Hwy:geo:115.0736,-33.9498
END:VEVENT
BEGIN:VEVENT
DTSTART;TZID=Australia/Perth:20211010T150000
DTEND;TZID=Australia/Perth:20211010T190000
DTSTAMP:20260426T002439
CREATED:20210805T213350Z
LAST-MODIFIED:20240530T054417Z
UID:10000634-1633878000-1633892400@www.settlerstavern.com
SUMMARY:Daniel Wiggins Group / Sunbird Three – Strings Attached Festival
DESCRIPTION:Live Music Australia – an Australian Government initiative\nFREE ENTRY\nFacebook event: https://www.facebook.com/events/397567708368587/ \n\nDaniel Wiggins Group\n \n\n\nThe Daniel Wiggins Group is a dynamic and versatile rock fusion trio hailing from Fremantle. \nWith a repertoire of original vocal and instrumental music\, the group blend elements of progressive rock\, jazz and funk music. \nEsteemed for his virtuosic guitar playing and enigmatic song writing\, Wiggins has gained notoriety across WA as both a prolific solo artist (releasing 7 albums since 2016)\, and as former member of WAM award-winning band\, Dilip ‘n the Davs. \nJoining him is his father\, Mark Wiggins on bass – the father/son team have been a force in the local scene for 7+ years. Longtime collaborator\, Rolf Fox occupies the drum throne\, grooving seamlessly between odd time-signatures and contrasting styles. \n \n\nSunbird Three\n \n\n\nSunbird 3 play the music of WA multi-instrumentalist and singer-songwriter Dave Lawrence\, working as a trio with live bass from Kev McDonald and Lee Cummings on drums. \nBlues\, jazz\, rock\, swing\, soul\, ska\, latin\, funk\, gospel\, folk – guitar\, keys\, banjo\, and plenty of passionate vocals from Dave\, and a Rolls Royce rhythm section with Lee and Kev in the engine room. Sunbird 3’s music is wild\, clever and fun\, and these experienced players really shine in the live setting. Put your dancing shoes on! \nDave has lived and performed music all over the world\, from Perth to Paris\, Margaret River to Morocco\, Bali to Barcelona. His music has received national and international airplay and featured in film\, TV and theatre productions. His song Lush Like You ran over the closing titles of the 2014 Australian feature film The Little Death. Coming late to life as a lead singer\, Dave has also featured as a sideman over the years for such luminaries as Donna Simpson (The Waifs)\, Abi Tucker (Heartbreak High) and Mike Vdelli.
URL:https://www.settlerstavern.com/event/daniel-wiggins-group-sunbird-three-strings-attached-festival/
LOCATION:Settlers Tavern\, 114 Bussell Hwy\, Margaret River\, WA\, 6285\, Australia
CATEGORIES:Strings Attached Guitar Festival
ATTACH;FMTTYPE=image/jpeg:https://www.settlerstavern.com/wp-content/uploads/2024/04/Strings-Attached-Poster-Landscape-Generic-2021-WEB.jpg
GEO:-33.9498;115.0736
X-APPLE-STRUCTURED-LOCATION;VALUE=URI;X-ADDRESS=Settlers Tavern 114 Bussell Hwy Margaret River WA 6285 Australia;X-APPLE-RADIUS=500;X-TITLE=114 Bussell Hwy:geo:115.0736,-33.9498
END:VEVENT
BEGIN:VEVENT
DTSTART;TZID=Australia/Perth:20211009T210000
DTEND;TZID=Australia/Perth:20211009T210000
DTSTAMP:20260426T002439
CREATED:20210802T232640Z
LAST-MODIFIED:20240530T054412Z
UID:10000629-1633813200-1633813200@www.settlerstavern.com
SUMMARY:Vdelli\, Moonlighter + Sky Cave - Strings Attached Festival
DESCRIPTION:TICKETS FROM HUMANTIX\n \n\nVDELLI\nThe band VDELLI relocated to Hamburg\, Germany in 2014\, to keep their momentum going and successfully break new ground. The move earning them high praise. \n“One of the most ground-breaking groups in Blues Rock”\n(Classic Rock Magazine). \n“The list of great Australian rock bands is long and goes from A\, as in AC/DC\, through C\, as in Cold Chisel\, and R\, as in Rose Tattoo\, to V as in VDELLI.”\n(Musix Magazine\, Germany). \n“Once again the Australian Power Trio proves it’s a major leaguer…”\n(ROCKS Magazine Germany). \nSince moving to Europe VDELLI has played shows & festivals in Germany\, Sweden\, Netherlands\, Austria\, France\, Belgium\, Slovakia\, Czech Republic\, Switzerland\, Denmark\, England\, Poland\, Sri Lanka\, Thailand and Norway. \nMichael Vdelli has supported and collaborated with artists such as: \n▪ BB King\n▪ Buddy Guy\n▪ ZZ Top\n▪ Kenny Wayne Sheppard\n▪ The Yardbirds\n▪ The Animals\n▪ Tommy Emmanuel\n▪ Brian Auger \n \nMoonlighter\n\nMoonlighter is a Psychedelic Blues band from Fremantle\, Western Australia consisting of guitarist Sascha Seabourne-Carlin\, bassist Connor Hart and drummer David James Brennan. \nFormed in 2016\, the music is a raucous blend of energetic rock and immersive psychedelia that is steeped in long semi-improvised jams. Following a two-year hiatus while the members pursued other projects\, 2021 will see the band hit the ground running. \nTheir new single “Epinephrine” alludes to a new direction: a loose and wildly expressive melting pot of garage rock\, heavy psych and electric blues music\, intrinsically connected to their homeland of the remote Australian coast. \nUpon their new single release on March 5th\, 2021 will see Moonlighter touring extensively and preparing further releases of this potent sonic blend. \nA band continuing to hone its sonic fingerprint and solidify it’s formidable live show\, Moonlighter will be an exciting band to watch this year.” \n \nSky Cave\n\nOriginating in Perth 2020 during lockdown with their original track ‘Breakdown’ written by Oliver Quinlan alongside the talented producer Nathan Gaunt\, the band based their sound in heavy blues rock.  All four band members are multi-talented artists with a long history of stage performances between them. \nOffering smooth licks and a voice you could get extremely used to\, Sky Cave back up their well groomed transitions with punchy\, eat your heart out type rock n roll blues with a strong hint of psychedelic overtones. \nAfter two impressively successful single launches/tours based off their releases ’Rise Up’ and ‘The Weir’  the band is on track to put out their third single titled ‘Waiting’ on the 6th of August.
URL:https://www.settlerstavern.com/event/vdelli-moonlighter-sky-cave/
LOCATION:Settlers Tavern\, 114 Bussell Hwy\, Margaret River\, WA\, 6285\, Australia
CATEGORIES:Strings Attached Guitar Festival,Tickets
ATTACH;FMTTYPE=image/jpeg:https://www.settlerstavern.com/wp-content/uploads/2024/04/Strings-Attached-Poster-Landscape-Generic-2021-WEB.jpg
GEO:-33.9498;115.0736
X-APPLE-STRUCTURED-LOCATION;VALUE=URI;X-ADDRESS=Settlers Tavern 114 Bussell Hwy Margaret River WA 6285 Australia;X-APPLE-RADIUS=500;X-TITLE=114 Bussell Hwy:geo:115.0736,-33.9498
END:VEVENT
BEGIN:VEVENT
DTSTART;TZID=Australia/Perth:20211008T210000
DTEND;TZID=Australia/Perth:20211008T210000
DTSTAMP:20260426T002439
CREATED:20210802T234244Z
LAST-MODIFIED:20240530T054413Z
UID:10000630-1633726800-1633726800@www.settlerstavern.com
SUMMARY:Grand Casual + Dallas Radio
DESCRIPTION:Live Music Australia – an Australian Government initiative\nFREE ENTRY\nFacebook event: https://www.facebook.com/events/167667972100142/ \nGrand Casual\n \nEsperance-based three-piece Grand Casual seem a little unusual. It’s not all that often that three musicians draw together with boldly different personalities\, influences\, and life experiences to create music that perfectly reflects this fact. \nMatt Cooper is a window cleaner by trade though don’t let his day-to-day employment sway your perception of the man. Cooper is a tinkerer a perfectionist a partially deaf guitarist whose search for exotic and interesting tones gives rise to an ever-evolving sound for the three-piece. Forever altering his musical tools\, Matt occasionally leaves the pedantic vocalist and comedic drummer somewhat exasperated\, though this exasperation quickly turns to delight when something fresh bends its way from a finely tuned Fender. \nJoe Franzone is the youngest of the three\, a man caught between comedy\, acting\, ridiculous haircuts\, social influencer\, and finally where his true talent lies\, behind a set of Pro-Mark drum sticks he regularly pretends are wizards wands. And a wizard he is. To see the depth of concentration ripple across the lad’s visage as his explosive\, and intricate drumming style ignites a Grand Casual live set\, leaving the audience spellbound is something truly special. Wizardry abounds with revelers floored by the realization that Joe is drumming one-handed and taking the role of bass player with his second hand\, musicians’ favorite milk crates holding his second weapon of choice a Novation Bass Station Synthesiser. \nKyron spent his younger years imagining how it would feel to perform as a solitary vocalist\, allowed to move where an accompanying guitar would not allow\, allowed to dance the way a smooth surface\, wide-open space\, enthralled audience\, and lack of inhibition would allow. Able to drift vocals across music drawn forth by two of the most exuberant performers regional WA has produced. Finally\, he has that chance\, finally\, he gets to channel Elvis\, Jim Morrison\, Johnny Cash\, Keenan Maynard\, heroes\, legends enraptured by the bliss that is live performance. Kyron is pedantic\, over organized\, quick to stress\, this persona fades away when Grand Casual takes the stage. \nA stellar run of dates in Feb and March 2021 saw the lads hit the live circuit hard with epic performances at Nannup Music Festival\, Clancy’s Fremantle\, South Side of Summer Esperance\, and Wamfest proving “there’s nothing casual about these guys”. \n\nDallas Radio\n\nDallas Radio are a 5-piece Australian rock band from Dunsborough\, WA. The band formed in early 2019 largely from the division of two bands\, Dallas Royal and Desert Radio. \nLead by spirited front man Mitch Baker\, the new band quickly returned to form playing venues across the south west of WA. \nDallas Radio’s reputation for\nconsistently delivering pumping rock shows soon lead to the band headlining a festival tour across the country that culminated in the final show at The Domain in Sydney playing to\na crowd of 18\,000. \nWith live shows on hold last year due to COVID19\, the band quickly shifted focus to writing new music that draws from their diverse range of influences and\nexperience supporting acts such as Cog\, British India\, Dune Rats\, Jebediah\, Phil Jameson and Josh Pyke. \nTheir unique brand of\nentertainment fuses big vocals and catchy melodies with 90’s style guitar riffs and plenty of stage presence to make you get\nup and party. \nRecent easing of COVID\nrestrictions in WA means\nDallas Radio are back playing live gigs. They’ve wasted no time in\nshowcasing their new music\, which is resonating very well with audiences and secured them a WAMFEST show at Amplifier Bar in Perth. \nThe band is also busy in the\nrecording studio and will be\nplaying a series of live shows coinciding with the release of their first single ‘Suffering’ in late\nJuly 2021.
URL:https://www.settlerstavern.com/event/grand-casual-dallas-radio/
LOCATION:Settlers Tavern\, 114 Bussell Hwy\, Margaret River\, WA\, 6285\, Australia
CATEGORIES:Live Music,Strings Attached Guitar Festival
ATTACH;FMTTYPE=image/jpeg:https://www.settlerstavern.com/wp-content/uploads/2024/04/GC-banner.jpg
GEO:-33.9498;115.0736
X-APPLE-STRUCTURED-LOCATION;VALUE=URI;X-ADDRESS=Settlers Tavern 114 Bussell Hwy Margaret River WA 6285 Australia;X-APPLE-RADIUS=500;X-TITLE=114 Bussell Hwy:geo:115.0736,-33.9498
END:VEVENT
END:VCALENDAR