BEGIN:VCALENDAR
VERSION:2.0
PRODID:-//Settlers Tavern - ECPv6.15.18//NONSGML v1.0//EN
CALSCALE:GREGORIAN
METHOD:PUBLISH
X-ORIGINAL-URL:https://www.settlerstavern.com
X-WR-CALDESC:Events for Settlers Tavern
REFRESH-INTERVAL;VALUE=DURATION:PT1H
X-Robots-Tag:noindex
X-PUBLISHED-TTL:PT1H
BEGIN:VTIMEZONE
TZID:Australia/Perth
BEGIN:STANDARD
TZOFFSETFROM:+0800
TZOFFSETTO:+0800
TZNAME:AWST
DTSTART:20200101T000000
END:STANDARD
END:VTIMEZONE
BEGIN:VEVENT
DTSTART;TZID=Australia/Perth:20240420T210000
DTEND;TZID=Australia/Perth:20240420T233000
DTSTAMP:20260420T162818
CREATED:20240326T181528Z
LAST-MODIFIED:20240530T052527Z
UID:10000495-1713646800-1713655800@www.settlerstavern.com
SUMMARY:RUSTY presents RIVIVAL Global Premiere
DESCRIPTION:RUSTY PRESENTS: REVIVAL – GLOBAL PREMIERE \nREVIVAL – Rusty’s first full-length surf film since Changes in 2008. \nStarring: Letty Mortensen\, Wade Carmichael\, Ollie Henry\, Jacob Szekely  & Caio Ibelli \nRevival\, filmed over the course of 2 years\, chronicles the team’s journey across South Aus\, West Aus\, the USA\, and Central America\, uncovering rare Mentawai gems along the way\, with numerous members of the Rusty crew joining in on the adventure. \nDON’T FORGOT WE ARE HERE TO CELEBRATE SO LESSS GOOO STR8 INTO THE AFTA PARDY~ \nTINA SAYS // House/Club \nTina Says is a rising talent in the electronic music scene\, known for her passion for dance music and energetic DJ sets. She has played alongside some of the biggest names in the industry\, including Duke Dumont\, Sofi Tukker\, Fatboy Slim and Fisher for his national beach tour. \nCRUSH MOOD TRAX B2B SAUSSBAUSS // Grime/Garage \nProducer and DJ Crush Mood Trax is an OG in the Perth electronic music scene taking influence from underground lo-fi club sounds of the 90s as well as the new wave coming from NYC. Tag-teaming with SaussBauss up on the wheels of plastic for one night only so expect a hi-NRG booty bouncing dance floor blowout. \nA NITE TO REMEMBA\nMEET THE PROS\nWATCH SOME HACKS\nAND GET SILLY ~@!# \nSTRICTLY 18+ \n9PM SCREENING\n> RINSE ’TIL CLOSE\nFREE ENTRY\nStrictly 18 Plus. Don’t miss out on this epic event! ‍♂️
URL:https://www.settlerstavern.com/event/rusty-presents-rivival-global-premiere/
LOCATION:Settlers Tavern\, 114 Bussell Hwy\, Margaret River\, WA\, 6285\, Australia
CATEGORIES:Featured,Music,Special Event,Sports,Surf,Video DJ
ATTACH;FMTTYPE=image/png:https://www.settlerstavern.com/wp-content/uploads/2024/04/FB_BANNER_REVIVAL_CREAM59.png
GEO:-33.9498;115.0736
X-APPLE-STRUCTURED-LOCATION;VALUE=URI;X-ADDRESS=Settlers Tavern 114 Bussell Hwy Margaret River WA 6285 Australia;X-APPLE-RADIUS=500;X-TITLE=114 Bussell Hwy:geo:115.0736,-33.9498
END:VEVENT
BEGIN:VEVENT
DTSTART;TZID=Australia/Perth:20210423T210000
DTEND;TZID=Australia/Perth:20210423T210000
DTSTAMP:20260420T162818
CREATED:20210323T192629Z
LAST-MODIFIED:20240530T054325Z
UID:10000562-1619211600-1619211600@www.settlerstavern.com
SUMMARY:DJ The HouseJunkie
DESCRIPTION:FREE ENTRY\nOver 2 decades he’s mixed it up at Clubs in Bali\, Perth\, the South West and dropped sets at GTM and Southbound’s Coconut Club. Now The Housejunkies back for another epic Video Mixup of the Freshest New Dance tracks\, Classic House Anthems and all your favourite Club Bangers on the big screen.\nLock it in and get set to Party \nFacebook event: https://www.facebook.com/events/178664507253079/
URL:https://www.settlerstavern.com/event/dj-the-housejunkie-3-3/
LOCATION:Settlers Tavern\, 114 Bussell Hwy\, Margaret River\, WA\, 6285\, Australia
CATEGORIES:DJ,Music,Video DJ
ATTACH;FMTTYPE=image/jpeg:https://www.settlerstavern.com/wp-content/uploads/2024/04/poster.jpeg
GEO:-33.9498;115.0736
X-APPLE-STRUCTURED-LOCATION;VALUE=URI;X-ADDRESS=Settlers Tavern 114 Bussell Hwy Margaret River WA 6285 Australia;X-APPLE-RADIUS=500;X-TITLE=114 Bussell Hwy:geo:115.0736,-33.9498
END:VEVENT
BEGIN:VEVENT
DTSTART;TZID=Australia/Perth:20210219T210000
DTEND;TZID=Australia/Perth:20210219T210000
DTSTAMP:20260420T162818
CREATED:20201112T215423Z
LAST-MODIFIED:20240530T054245Z
UID:10000572-1613768400-1613768400@www.settlerstavern.com
SUMMARY:DJ The Housejunkie Video Mixup
DESCRIPTION:FREE ENTRY\nDJ Tim “The HouseJunkie” Woodward is driven by his passionate love for music.\nNo matter where he’s performing or what tracks he’s playing\,\nThe Housejunkie is always focused on the synergy between music and audience.\nAlong with his infectious Funky sets the experience and the talent to gauge a crowd\nand drop the perfect beat at just the right moment.
URL:https://www.settlerstavern.com/event/dj-the-housejunkie-2/
LOCATION:Settlers Tavern\, 114 Bussell Hwy\, Margaret River\, WA\, 6285\, Australia
CATEGORIES:DJ,Music,Video DJ
ATTACH;FMTTYPE=image/jpeg:https://www.settlerstavern.com/wp-content/uploads/2024/04/the-housejunkie-fb.jpg
GEO:-33.9498;115.0736
X-APPLE-STRUCTURED-LOCATION;VALUE=URI;X-ADDRESS=Settlers Tavern 114 Bussell Hwy Margaret River WA 6285 Australia;X-APPLE-RADIUS=500;X-TITLE=114 Bussell Hwy:geo:115.0736,-33.9498
END:VEVENT
END:VCALENDAR