BEGIN:VCALENDAR
VERSION:2.0
PRODID:-//Settlers Tavern - ECPv6.15.20//NONSGML v1.0//EN
CALSCALE:GREGORIAN
METHOD:PUBLISH
X-WR-CALNAME:Settlers Tavern
X-ORIGINAL-URL:https://www.settlerstavern.com
X-WR-CALDESC:Events for Settlers Tavern
REFRESH-INTERVAL;VALUE=DURATION:PT1H
X-Robots-Tag:noindex
X-PUBLISHED-TTL:PT1H
BEGIN:VTIMEZONE
TZID:Australia/Perth
BEGIN:STANDARD
TZOFFSETFROM:+0800
TZOFFSETTO:+0800
TZNAME:AWST
DTSTART:20240101T000000
END:STANDARD
END:VTIMEZONE
BEGIN:VEVENT
DTSTART;TZID=Australia/Perth:20250413T153000
DTEND;TZID=Australia/Perth:20250413T183000
DTSTAMP:20260423T183759
CREATED:20250219T033229Z
LAST-MODIFIED:20250219T033229Z
UID:10000937-1744558200-1744569000@www.settlerstavern.com
SUMMARY:CHARLI JADE
DESCRIPTION:Charli Jade is an independent\, nomadic musician currently travelling Australia in her van\, while sharing her music along the way. Originally from Mackay\, Queensland\, Charli’s roots are deeply embedded in country music\, infused with a distinctive blend of coastal folk. Over the past eight months\, she has been performing in cities and towns across Australia\, from Broome to Exmouth\, and is now based in the Perth/Margaret River Region of WA.
URL:https://www.settlerstavern.com/event/charli-jade/
LOCATION:Settlers Tavern\, 114 Bussell Hwy\, Margaret River\, WA\, 6285\, Australia
CATEGORIES:Coastal,Country,Live Music,Live Music Australia,Roots
ATTACH;FMTTYPE=image/png:https://www.settlerstavern.com/wp-content/uploads/2025/02/Screenshot-2025-02-19-at-11.31.52 AM.png
GEO:-33.9498;115.0736
X-APPLE-STRUCTURED-LOCATION;VALUE=URI;X-ADDRESS=Settlers Tavern 114 Bussell Hwy Margaret River WA 6285 Australia;X-APPLE-RADIUS=500;X-TITLE=114 Bussell Hwy:geo:115.0736,-33.9498
END:VEVENT
END:VCALENDAR