BEGIN:VCALENDAR
VERSION:2.0
PRODID:-//Settlers Tavern - ECPv6.15.20//NONSGML v1.0//EN
CALSCALE:GREGORIAN
METHOD:PUBLISH
X-ORIGINAL-URL:https://www.settlerstavern.com
X-WR-CALDESC:Events for Settlers Tavern
REFRESH-INTERVAL;VALUE=DURATION:PT1H
X-Robots-Tag:noindex
X-PUBLISHED-TTL:PT1H
BEGIN:VTIMEZONE
TZID:Australia/Perth
BEGIN:STANDARD
TZOFFSETFROM:+0800
TZOFFSETTO:+0800
TZNAME:AWST
DTSTART:20240101T000000
END:STANDARD
END:VTIMEZONE
BEGIN:VEVENT
DTSTART;TZID=Australia/Perth:20250309T153000
DTEND;TZID=Australia/Perth:20250309T183000
DTSTAMP:20260423T225658
CREATED:20250206T071204Z
LAST-MODIFIED:20250206T071204Z
UID:10000925-1741534200-1741545000@www.settlerstavern.com
SUMMARY:MUFASSA
DESCRIPTION:Join us at Settlers Tavern in Margaret River for a hazy Sunday session featuring MUFASSA. With his blend of salty roots and reggae\, this big Lion shares songs and stories of life and love on the road.\n\nMUFASSA has recently released his latest EP\, “Drifting Away.”\n\nRecorded at Yama-Nui Studios on the Sunshine Coast and achieving a remarkable No.2 on the AMRAP Charts\, MUFASSA brings his eclectic mix of originals and covers to our stage.\n\nWitness the artistry as he skillfully blends sounds from the stomp box\, harmonica\, acoustic guitar\, loop pedal and more\, crafting a unique musical atmosphere.\n\nExperience the depth and vibrancy of MUFASSA’s talents\, including tracks from his new EP. Dive into “Drifting Away” before the show by listening here: https://gyro.to/186199DriftingAway.
URL:https://www.settlerstavern.com/event/mufassa-6/
LOCATION:Settlers Tavern\, 114 Bussell Hwy\, Margaret River\, WA\, 6285\, Australia
CATEGORIES:Live Music,Live Music Australia,Reggae,Roots
ATTACH;FMTTYPE=image/png:https://www.settlerstavern.com/wp-content/uploads/2025/02/Screen-Shot-2025-02-06-at-3.09.39-pm.png
GEO:-33.9498;115.0736
X-APPLE-STRUCTURED-LOCATION;VALUE=URI;X-ADDRESS=Settlers Tavern 114 Bussell Hwy Margaret River WA 6285 Australia;X-APPLE-RADIUS=500;X-TITLE=114 Bussell Hwy:geo:115.0736,-33.9498
END:VEVENT
BEGIN:VEVENT
DTSTART;TZID=Australia/Perth:20250316T153000
DTEND;TZID=Australia/Perth:20250316T183000
DTSTAMP:20260423T225658
CREATED:20250206T062214Z
LAST-MODIFIED:20250206T062214Z
UID:10000924-1742139000-1742149800@www.settlerstavern.com
SUMMARY:EMJAY
DESCRIPTION:Since embarking on a solo career in early 2018\, Emjay Angeni has melted hearts and captured imaginations throughout Australasia with her relaxed brand of coastal roots/pop and affable nature both on and off stage.\n\nInfluenced by the likes of Jack Johnson\, Ben Harper\, Donavon Frankenwrieter and Norah Jones; Emjay weaves a blend of her own original songs\, interpretations of crowd favourites and spontaneous stories which blend to casually invite her audiences to relax\, smile and engage with each other as well as her performance–and all with an ease you might feel if you were sat for a cup of tea in her living room.\n\nThis point of difference has seen her become a sought-after act by many West Australian venues of note\, including residencies playing six nights per week\, for months on end at famous locations such as El Questro Station and Lake Argyle Resort. Emjay has appeared at Nukara\, WAM Fest and Fluffstival music festivals as a solo artist\, supported acts the likes of Saritah\, Juzzie Smith\, Karin Page and Little Quirks\, and also performs as one half of folk duo “Moon & Honey” with her partner Dan White-who opened Good Day Sunshine Festival October 2020\, performing with the likes of John Butler\, XavierRudd\, Eskimo Joe\, and Vicki Thorne. In addition to this Emjay appeared as a feature vocalist with Fluid Groove act “Blue ChildCollective” who were awarded “Best Regional Act” at the 2019 West Australian Music Awards and were regulars on the festival and international touring circuit-recently playing NZ Spirit Fest\, Bendigo Blues and Roots\, Nannup Music Festival\, Nukara Music Festival and having supported such acts as Xavier Rudd\, Sticky Fingers and The Cat Empire.
URL:https://www.settlerstavern.com/event/emjay-4/
LOCATION:Settlers Tavern\, 114 Bussell Hwy\, Margaret River\, WA\, 6285\, Australia
CATEGORIES:Live Music,Live Music Australia,Pop,Roots
ATTACH;FMTTYPE=image/png:https://www.settlerstavern.com/wp-content/uploads/2025/02/Screenshot-2025-02-06-at-2.20.51 PM.png
GEO:-33.9498;115.0736
X-APPLE-STRUCTURED-LOCATION;VALUE=URI;X-ADDRESS=Settlers Tavern 114 Bussell Hwy Margaret River WA 6285 Australia;X-APPLE-RADIUS=500;X-TITLE=114 Bussell Hwy:geo:115.0736,-33.9498
END:VEVENT
BEGIN:VEVENT
DTSTART;TZID=Australia/Perth:20250322T210000
DTEND;TZID=Australia/Perth:20250322T233000
DTSTAMP:20260423T225658
CREATED:20250213T053314Z
LAST-MODIFIED:20250213T053314Z
UID:10000931-1742677200-1742686200@www.settlerstavern.com
SUMMARY:SALT & STEEL
DESCRIPTION:Settlers Tavern will be an action packed night and a free event!\nSalt & Steel are on the road again! This time\, heading west across South Australia and Western Australia.\nSalt and Steel offer a raw\, earthy rock experience\, blending psychedelic elements with the grounded essence of rock roots and blues. The couple live full time in their van\, ‘the solar powered recording and rehearsal studio’ and have performed at festivals across Australia like Woodford Folk Festival\, Party In the Paddock and Airlie Beach Festival of Music. Known for music that is ‘fierce\, emotive and genuine\,’ Nkechi Anele from Triple J Roots ‘n’ All describes them as a ‘dynamic duo who go from strength to strength\, bringing nothing less than power and passion to their music.’In 2024 Salt & Steel took their project to the world with an East Asian tour\, captivating audiences at ‘Kahilwayan Festival’ in the Philippines and ‘Its Garage Fest’ in Cambodia\, before returning to announce more headlining shows at Townsville Folk Festival and Airlie Beach Festival of Music. They finished a strong year by releasing a festive track in December.The two are starting 2025 strong with an Australian national support tour with ‘Wheatus’. This will be followed with their own headline tour across the country to Western Australia and to festivals such as Nannup Music Festival.
URL:https://www.settlerstavern.com/event/saltsteel/
LOCATION:Settlers Tavern\, 114 Bussell Hwy\, Margaret River\, WA\, 6285\, Australia
CATEGORIES:Blues,Live Music,Live Music Australia,Rock,Roots
ATTACH;FMTTYPE=image/png:https://www.settlerstavern.com/wp-content/uploads/2025/02/Screenshot-2025-02-13-at-1.32.11 PM.png
GEO:-33.9498;115.0736
X-APPLE-STRUCTURED-LOCATION;VALUE=URI;X-ADDRESS=Settlers Tavern 114 Bussell Hwy Margaret River WA 6285 Australia;X-APPLE-RADIUS=500;X-TITLE=114 Bussell Hwy:geo:115.0736,-33.9498
END:VEVENT
BEGIN:VEVENT
DTSTART;TZID=Australia/Perth:20250329T210000
DTEND;TZID=Australia/Perth:20250329T233000
DTSTAMP:20260423T225658
CREATED:20240521T175013Z
LAST-MODIFIED:20250322T072838Z
UID:10000802-1743282000-1743291000@www.settlerstavern.com
SUMMARY:LIGHTNIN JACK DUO
DESCRIPTION:Lightnin Jack DUO \nLightnin Jack was literally born for the music\, brought up on small holdings in a Jarrah Milling Town of Southwest Western Australia\, raised on a diet of Lynyrd Skynyrd\, Creedence\, Lead Belly and local bluesmen\, an upbringing that’s reflected in his evocative\, soulful music and adds a discernible touch of authenticity to everything he does. \nBusking and bootlegging CD’s were just the beginning\, with Jacks career spanning the last 3 decades and bringing the release of three studio albums\, and 2023’s rollicking Live recording featuring Callum Kramer (The Southern River Band) on drums.  A live sound that brings energy and tone far beyond the one man that sits on stage has seen him work in the studio\, in support of\, or alongside a list of artists that would make your head spin – The Angels\, Phil Emmanuel\, Roshani\, Blue Shaddy\, Tony Joe White\, Ash Grunwald\, and The Southern River Band to name a few. \nJack is not one to sit still\, notching up an incredible average of over 120 live performances every year\, with audiences witnessing the breadth of his repertoire\, ranging from intimate acoustic shows featuring lap steel\, resonator and crooning lyrics\, to the high energy sets at festivals like Nannup Music Festival & Blues on Broadbeach\, where his valve amp tones\, heavy electric grind and percussive performance capture the Blues Roots Grunge style that is very much his own. \nWhether you have been following Lightnin Jack for the duration or are a newcomer to his incredible music\, it doesn’t matter – come along and witness the full force of this 3rd generation musician
URL:https://www.settlerstavern.com/event/lightnin-jack-duo/
LOCATION:Settlers Tavern\, 114 Bussell Hwy\, Margaret River\, WA\, 6285\, Australia
CATEGORIES:Blues,Grunge,Music,Roots
ATTACH;FMTTYPE=image/jpeg:https://www.settlerstavern.com/wp-content/uploads/2024/12/Settlers_Tavern_Food_OBJ887492.jpg
GEO:-33.9498;115.0736
X-APPLE-STRUCTURED-LOCATION;VALUE=URI;X-ADDRESS=Settlers Tavern 114 Bussell Hwy Margaret River WA 6285 Australia;X-APPLE-RADIUS=500;X-TITLE=114 Bussell Hwy:geo:115.0736,-33.9498
END:VEVENT
END:VCALENDAR