BEGIN:VCALENDAR
VERSION:2.0
PRODID:-//Settlers Tavern - ECPv6.15.20//NONSGML v1.0//EN
CALSCALE:GREGORIAN
METHOD:PUBLISH
X-ORIGINAL-URL:https://www.settlerstavern.com
X-WR-CALDESC:Events for Settlers Tavern
REFRESH-INTERVAL;VALUE=DURATION:PT1H
X-Robots-Tag:noindex
X-PUBLISHED-TTL:PT1H
BEGIN:VTIMEZONE
TZID:Australia/Perth
BEGIN:STANDARD
TZOFFSETFROM:+0800
TZOFFSETTO:+0800
TZNAME:AWST
DTSTART:20240101T000000
END:STANDARD
END:VTIMEZONE
BEGIN:VEVENT
DTSTART;TZID=Australia/Perth:20250208T210000
DTEND;TZID=Australia/Perth:20250208T233000
DTSTAMP:20260424T042425
CREATED:20250124T020801Z
LAST-MODIFIED:20250124T020801Z
UID:10000918-1739048400-1739057400@www.settlerstavern.com
SUMMARY:SOUTH 76
DESCRIPTION:South 76 hails from Western Australia’s sun-kissed coast\, blending Blues\, Roots\, Country\, and Southern Rock. Named after the rugged 76-mile stretch between Cape Naturaliste and Cape Leeuwin\, their music reflects the land they live on. These five musicians craft heartfelt journeys inspired from salt-stained summers to the depths of long grey winters\, delivering passionate\, dramatic\, and fun performances.
URL:https://www.settlerstavern.com/event/south-76/
LOCATION:Settlers Tavern\, 114 Bussell Hwy\, Margaret River\, WA\, 6285\, Australia
CATEGORIES:Blues,Live Music,Live Music Australia,Rock,Roots
ATTACH;FMTTYPE=image/png:https://www.settlerstavern.com/wp-content/uploads/2025/01/Screenshot-2025-01-24-at-10.06.16 AM.png
GEO:-33.9498;115.0736
X-APPLE-STRUCTURED-LOCATION;VALUE=URI;X-ADDRESS=Settlers Tavern 114 Bussell Hwy Margaret River WA 6285 Australia;X-APPLE-RADIUS=500;X-TITLE=114 Bussell Hwy:geo:115.0736,-33.9498
END:VEVENT
BEGIN:VEVENT
DTSTART;TZID=Australia/Perth:20250209T153000
DTEND;TZID=Australia/Perth:20250209T183000
DTSTAMP:20260424T042425
CREATED:20250124T023038Z
LAST-MODIFIED:20250124T023038Z
UID:10000919-1739115000-1739125800@www.settlerstavern.com
SUMMARY:TRAV COLLINS
DESCRIPTION:Trav Collins is an Adelaide based singer- songwriter/ multi-instrumentalist. He has been playing shows and street performing all over the country since 2016. He has played everywhere from house concerts in far north Queensland and Broome\, to front bars a few streets away from home in Adelaide. Trav plays a 12 string acoustic guitar plugged into an array of effects pedals and a tube amp which he creates unique roots/ folk style cinematic soundscapes with. The didgeridoo\, banjo\, harmonica and lap steel guitar also make appearances during his live set making his sound very expansive for a single person on stage. His lyrics and stories are from experiences in his life both beautiful and heartbreaking\, his vocals reflect tones of sincerity and truth in each word. Trav is currently releasing singles every so often with the latest being “Shoes”.  Follow his social media to stay up to date on his touring and new music releases!
URL:https://www.settlerstavern.com/event/trav-collins/
LOCATION:Settlers Tavern\, 114 Bussell Hwy\, Margaret River\, WA\, 6285\, Australia
CATEGORIES:Folk,Live Music,Live Music Australia,Roots
ATTACH;FMTTYPE=image/png:https://www.settlerstavern.com/wp-content/uploads/2025/01/Screenshot-2025-01-24-at-10.29.57 AM.png
GEO:-33.9498;115.0736
X-APPLE-STRUCTURED-LOCATION;VALUE=URI;X-ADDRESS=Settlers Tavern 114 Bussell Hwy Margaret River WA 6285 Australia;X-APPLE-RADIUS=500;X-TITLE=114 Bussell Hwy:geo:115.0736,-33.9498
END:VEVENT
BEGIN:VEVENT
DTSTART;TZID=Australia/Perth:20250223T153000
DTEND;TZID=Australia/Perth:20250223T183000
DTSTAMP:20260424T042425
CREATED:20250124T025721Z
LAST-MODIFIED:20250124T061351Z
UID:10000922-1740324600-1740335400@www.settlerstavern.com
SUMMARY:FREEWAY SOUTH
DESCRIPTION:FREEWAY SOUTH\nLive at Settlers Tavern | Sunday 23 Feb | 3:30pm \nGet ready for an extra special set as Freeway South takes the stage with a 6-piece lineup\, featuring the incredible Kate Telchader on violin and Beth Wynn on vocals and percussion. \nExpect brand-new originals exploring themes of love\, life\, and death\, alongside their signature ska and gypsy roots grooves that never fail to elevate the vibe. Don’t miss this vibrant Sunday session!
URL:https://www.settlerstavern.com/event/freeway-south-2/
LOCATION:Settlers Tavern\, 114 Bussell Hwy\, Margaret River\, WA\, 6285\, Australia
CATEGORIES:Gypsy,Live Music Australia,Roots,Ska
ATTACH;FMTTYPE=image/png:https://www.settlerstavern.com/wp-content/uploads/2025/01/Screenshot-2025-01-24-at-2.13.26 PM.png
GEO:-33.9498;115.0736
X-APPLE-STRUCTURED-LOCATION;VALUE=URI;X-ADDRESS=Settlers Tavern 114 Bussell Hwy Margaret River WA 6285 Australia;X-APPLE-RADIUS=500;X-TITLE=114 Bussell Hwy:geo:115.0736,-33.9498
END:VEVENT
END:VCALENDAR