BEGIN:VCALENDAR
VERSION:2.0
PRODID:-//Settlers Tavern - ECPv6.15.18//NONSGML v1.0//EN
CALSCALE:GREGORIAN
METHOD:PUBLISH
X-WR-CALNAME:Settlers Tavern
X-ORIGINAL-URL:https://www.settlerstavern.com
X-WR-CALDESC:Events for Settlers Tavern
REFRESH-INTERVAL;VALUE=DURATION:PT1H
X-Robots-Tag:noindex
X-PUBLISHED-TTL:PT1H
BEGIN:VTIMEZONE
TZID:Australia/Perth
BEGIN:STANDARD
TZOFFSETFROM:+0800
TZOFFSETTO:+0800
TZNAME:AWST
DTSTART:20180101T000000
END:STANDARD
END:VTIMEZONE
BEGIN:VEVENT
DTSTART;TZID=Australia/Perth:20200912T213000
DTEND;TZID=Australia/Perth:20200912T213000
DTSTAMP:20260421T234951
CREATED:20200806T180243Z
LAST-MODIFIED:20240530T054227Z
UID:10000557-1599946200-1599946200@www.settlerstavern.com
SUMMARY:Psychedelic Porn Crumpets | MR PRISM TOUR
DESCRIPTION:SOLD OUT\n\n\nPsychedelic Porn Crumpets + Pot Plant House Party + Grace Sanders SOLD OUT! Saturday 12th September. Please do not fall… \nPosted by Settlers Tavern Margaret River on Tuesday\, 8 September 2020 \n\n\nPPC play a handful of WA shows to celebrate the release of their brand new track Mr.Prism – these will be the band’s first headline shows of 2020\, get your ticket so you don’t miss out.\nTake the trail out of Perth via Leederville and keep on driving\, and you might just stumble across an old horse shed – one where weirdness roams free. Across the bridge from said shed\, house parties rage until the early hours and beyond\, while around the corner there’s a sky-high pile of trash that acts as a makeshift home for the local rat population. It’s here\, amongst jam sessions that would last six-hours plus\, that the wacky\, sprawling sound of Psychedelic Porn Crumpets was born. Psychedelic Porn Crumpets’ night-long jam sessions and unconventional abodes are just the tip of their iceberg of happy accidents. \nJack and pals needed something visceral. “We took the harder approach – big riffs\,” he says with an audible grin\, “When you’re on a site for six days a week\, it’s nice to get back in the evening and go ‘RAAAAARGH’ into a mic.” That primal\, intuitive style followed them through to their live shows\, which would see the band writing a song one evening\, and playing it in the local pubs the following night\, inciting mosh-pits and wig-outs with barely a pause for breath. \nThat unforgettable name is yet another example of their go-it-alone approach – “I wanted something memorable like marmite – you either love it or you hate it\,” laughs Jack. One thing’s for sure – the Psychedelic Porn Crumpets’ tale is already one for the ages.
URL:https://www.settlerstavern.com/event/psychedelic-porn-crumpets-mr-prism-tour/
LOCATION:Settlers Tavern\, 114 Bussell Hwy\, Margaret River\, WA\, 6285\, Australia
CATEGORIES:Grunge,Music,Psychedelic,Rock
ATTACH;FMTTYPE=image/jpeg:https://www.settlerstavern.com/wp-content/uploads/2024/04/LAYERED-JACK-II_web.jpg
GEO:-33.9498;115.0736
X-APPLE-STRUCTURED-LOCATION;VALUE=URI;X-ADDRESS=Settlers Tavern 114 Bussell Hwy Margaret River WA 6285 Australia;X-APPLE-RADIUS=500;X-TITLE=114 Bussell Hwy:geo:115.0736,-33.9498
END:VEVENT
BEGIN:VEVENT
DTSTART;TZID=Australia/Perth:20200307T213000
DTEND;TZID=Australia/Perth:20200307T213000
DTSTAMP:20260421T234951
CREATED:20200204T174338Z
LAST-MODIFIED:20240530T054215Z
UID:10000546-1583616600-1583616600@www.settlerstavern.com
SUMMARY:Jordan McRobbie
DESCRIPTION:Fremantle born\, Australian Roots performer Jordan McRobbie has fast become known for his honest voice and virtuosic ability on the 12 and 6 stringed guitars. Over his short career he’s released two EP’s to Sold-out crowds\, toured nationally and taken out multiple songwriting and performance awards including the West Australian Blues/Roots Song of the year for his track ‘High Tide’ that’s garnered the young artist airplay on local and commercial radio nationwide including Triple J. \n“Jordan McRobbie is an amazing contemporary finger-style guitarist. He has complete command of his instrument with intense guitar percussion\, finger tapping\, and lightning fast Celtic grooves! And this guy can sing! A great\, strong\, clear and articulate voice. His performance had 100% commitment with the intensity of tightly wound steel spring. He even added harmonica to the performance\, truly a modern day one man band!”\nAllan Spencer
URL:https://www.settlerstavern.com/event/jordan-mcrobbie/
LOCATION:Settlers Tavern\, 114 Bussell Hwy\, Margaret River\, WA\, 6285\, Australia
CATEGORIES:Indie,Music,Rock,Roots
ATTACH;FMTTYPE=image/jpeg:https://www.settlerstavern.com/wp-content/uploads/2024/04/Jordan-McRobbie.jpg
GEO:-33.9498;115.0736
X-APPLE-STRUCTURED-LOCATION;VALUE=URI;X-ADDRESS=Settlers Tavern 114 Bussell Hwy Margaret River WA 6285 Australia;X-APPLE-RADIUS=500;X-TITLE=114 Bussell Hwy:geo:115.0736,-33.9498
END:VEVENT
BEGIN:VEVENT
DTSTART;TZID=Australia/Perth:20200306T213000
DTEND;TZID=Australia/Perth:20200306T213000
DTSTAMP:20260421T234951
CREATED:20200204T173939Z
LAST-MODIFIED:20240530T054214Z
UID:10000545-1583530200-1583530200@www.settlerstavern.com
SUMMARY:Kallidad
DESCRIPTION:With their trademark “Day of the Dead” facepaint\, Kallidad has a visual image every bit as striking as their one of a kind sound. \n“Flamingo Fiesta” trio Kallidad formed in unlikely circumstances\, busking alongside Sydney’s iconic Bondi Beach. From humble beginnings Kallidad have become a world class headining act. \nAn all instrumental show\, Kallidad do not need to utter one word to create a bond with their audience\, combining Spanish guitar styles with Heavy Metal roots to create a once in a lifetime sound that has seen the group visit Europe\, Japan\, Indonesia and New Zealand. \nKallidad is one of Australia’s hardest working bands\, constantly crisscrossing the great southern land\, spreading their music and engaging with the land itself. The lineup is simple two Spanish guitars and percussion. But don’t let the lightweight set up fool you! These three amigos can rock a crowd from top to bottom.  \nThe group has released five albums independently\, proudly turning their backs on the establishment music industry and developing a tight\, direct bond with their insanely loyal audience. \nMajor festivals such as Montreux Jazz Festival\, Open Air St. Gallen\, Splendor in the Grass\, Falls Festival\, Party in the Paddock and other mainstream festivals\, plus many smaller indie events\, have booked Kallidad\, easily spotting the group’s formidable talent. Kallidad \n was also voted “Most Popular Band” at Italy’s Ferrara Festival- the world’s premier street music competition! The three amigos live and breathe music and their live show is a testament to their obsession with the craft of connection.
URL:https://www.settlerstavern.com/event/kallidad/
LOCATION:Settlers Tavern\, 114 Bussell Hwy\, Margaret River\, WA\, 6285\, Australia
CATEGORIES:Indie,Metal,Music,Rock
ATTACH;FMTTYPE=image/jpeg:https://www.settlerstavern.com/wp-content/uploads/2024/04/Kallidad-album-Poster-Feb2020_Margs_crop.jpg
GEO:-33.9498;115.0736
X-APPLE-STRUCTURED-LOCATION;VALUE=URI;X-ADDRESS=Settlers Tavern 114 Bussell Hwy Margaret River WA 6285 Australia;X-APPLE-RADIUS=500;X-TITLE=114 Bussell Hwy:geo:115.0736,-33.9498
END:VEVENT
BEGIN:VEVENT
DTSTART;TZID=Australia/Perth:20200222T213000
DTEND;TZID=Australia/Perth:20200222T213000
DTSTAMP:20260421T234951
CREATED:20200122T231728Z
LAST-MODIFIED:20240530T054206Z
UID:10000539-1582407000-1582407000@www.settlerstavern.com
SUMMARY:The Milkmen
DESCRIPTION:The Milkmen – A 4 piece acoustic rock band based in Perth\, Western Australia\n\n\n\n\n\n\nOnce upon a time\, the Milkmen were those that used to deliver cold fresh milk at the doorsteps of your house: empty bottles left with coins to pay for more milk. Turn the page of history to today and The Milkmen are not what you think. \nThe Milkmen are indeed an indie acoustic rock band playing original material based in Perth WA. Listen closely and you can hear years of blended velvet sounding ballads\, driving rhythms\, catchy and thoughtful lyrics which take the listener from original folk/blues/indie rock/pop to foot tapping pure rock. When asked to categorize their style\, says the band “Genres are boundaries so we don’t like to define our style. We’re all about good music with captivating lyrics”.
URL:https://www.settlerstavern.com/event/the-milkmen/
LOCATION:Settlers Tavern\, 114 Bussell Hwy\, Margaret River\, WA\, 6285\, Australia
CATEGORIES:Acoustic,Music,Rock
ATTACH;FMTTYPE=image/jpeg:https://www.settlerstavern.com/wp-content/uploads/2024/04/the-milkmen.jpg
GEO:-33.9498;115.0736
X-APPLE-STRUCTURED-LOCATION;VALUE=URI;X-ADDRESS=Settlers Tavern 114 Bussell Hwy Margaret River WA 6285 Australia;X-APPLE-RADIUS=500;X-TITLE=114 Bussell Hwy:geo:115.0736,-33.9498
END:VEVENT
BEGIN:VEVENT
DTSTART;TZID=Australia/Perth:20200221T213000
DTEND;TZID=Australia/Perth:20200221T213000
DTSTAMP:20260421T234951
CREATED:20200123T204836Z
LAST-MODIFIED:20240530T054208Z
UID:10000540-1582320600-1582320600@www.settlerstavern.com
SUMMARY:Tom Fisher and the Layabouts
DESCRIPTION:Son of renowned Australian musician Jim Fisher\, Tom has been performing live since age 9 and has played extensively nationally and internationally. Tom’s strengths as a songwriter come to the fore in the country\, blues\, rock outfit the Layabouts. With a classic southern rock\, blues vibe with a touch of alt country delivered with a slick high energy live show Tom and the Layabouts are always a hit on the local festival circuit. \nHis solo show offers a great mix of story telling\, power vocals\, fantastic energy and a natural flare for entertaining and engaging an audience.
URL:https://www.settlerstavern.com/event/tom-fisher-and-the-layabouts/
LOCATION:Settlers Tavern\, 114 Bussell Hwy\, Margaret River\, WA\, 6285\, Australia
CATEGORIES:Country,Music,Rock
ATTACH;FMTTYPE=image/jpeg:https://www.settlerstavern.com/wp-content/uploads/2024/04/1600-x-1600-1.jpg
GEO:-33.9498;115.0736
X-APPLE-STRUCTURED-LOCATION;VALUE=URI;X-ADDRESS=Settlers Tavern 114 Bussell Hwy Margaret River WA 6285 Australia;X-APPLE-RADIUS=500;X-TITLE=114 Bussell Hwy:geo:115.0736,-33.9498
END:VEVENT
BEGIN:VEVENT
DTSTART;TZID=Australia/Perth:20200215T213000
DTEND;TZID=Australia/Perth:20200215T213000
DTSTAMP:20260421T234951
CREATED:20200118T224715Z
LAST-MODIFIED:20240530T054204Z
UID:10000537-1581802200-1581802200@www.settlerstavern.com
SUMMARY:Dosed
DESCRIPTION:Carving through the alt-rock scene with their clean and vibrant sound\, Dosed are a trio known for their contagious and high-energy presence on stage. Bringing back their own shaken-up adaption of 90’s rock\, their music is stripped down to the essentials and has a similar sense of familiarity\, but blends in elements of funk\, punk\, reggae and ska. At the forefront of a diverse range of influences are the Red Hot Chili Peppers and Sublime. This deadly combo results in their bold\, groovy tunes undeniably alluring all to the dance floor. \nThe band features Oskar Campbell on guitar and vocals\, Noah Webbe on bass and Rory Stirton on drums. As friends\, these three go as far back as you can get without sharing the same last name. All growing up on the Sunshine Coast Hinterland and all sharing the same interest in music meant their frequent jams at parties inevitably formed a band. Since officially launching onto digital streaming services with ‘Too Crazy’ in July 2018\, they’ve been stacking up plays on community radio across Australia\, and have landed on popular Spotify playlists that reach out internationally to both the US and the UK.
URL:https://www.settlerstavern.com/event/dosed/
LOCATION:Settlers Tavern\, 114 Bussell Hwy\, Margaret River\, WA\, 6285\, Australia
CATEGORIES:Music,Punk,Rock,Roots
ATTACH;FMTTYPE=image/jpeg:https://www.settlerstavern.com/wp-content/uploads/2024/04/dosed-logo.jpg
GEO:-33.9498;115.0736
X-APPLE-STRUCTURED-LOCATION;VALUE=URI;X-ADDRESS=Settlers Tavern 114 Bussell Hwy Margaret River WA 6285 Australia;X-APPLE-RADIUS=500;X-TITLE=114 Bussell Hwy:geo:115.0736,-33.9498
END:VEVENT
BEGIN:VEVENT
DTSTART;TZID=Australia/Perth:20200126T153000
DTEND;TZID=Australia/Perth:20200126T153000
DTSTAMP:20260421T234951
CREATED:20200115T234044Z
LAST-MODIFIED:20240530T054158Z
UID:10000532-1580052600-1580052600@www.settlerstavern.com
SUMMARY:Sunbird Three - Australia Day Long Weekend
DESCRIPTION:SunBird is a vocal trio of award winning singer songwriters. Their unique sound will take you on a captivating journey from satirical commentary on society to intimate songs of love and loss. Stripped back and playing an assortment of acoustic and electric instruments\, this is storytelling at its best. Attendees of major festivals including Port Fairie\, Gympie Muster and the Tommy Emmanuel Gibson Showcase in Nashville\, these entertainers arrive with vast experience in both live performance and recorded projects.. With an APRA sponsored QMusic award\, ARIA nods for recorded projects and international touring under their belts\, they have been referred to as the ‘accidental super group’ \n“SunBird are a World Class\, International Act”…. Tony Hillier\, National Music Journalist (The Australian)
URL:https://www.settlerstavern.com/event/sunbird-three-australia-day-long-weekend/
LOCATION:Settlers Tavern\, 114 Bussell Hwy\, Margaret River\, WA\, 6285\, Australia
CATEGORIES:Acoustic,Funk,Music,Rock
ATTACH;FMTTYPE=image/jpeg:https://www.settlerstavern.com/wp-content/uploads/2024/04/Sunbird-Three-PHOTO-2.jpg
GEO:-33.9498;115.0736
X-APPLE-STRUCTURED-LOCATION;VALUE=URI;X-ADDRESS=Settlers Tavern 114 Bussell Hwy Margaret River WA 6285 Australia;X-APPLE-RADIUS=500;X-TITLE=114 Bussell Hwy:geo:115.0736,-33.9498
END:VEVENT
BEGIN:VEVENT
DTSTART;TZID=Australia/Perth:20200125T213000
DTEND;TZID=Australia/Perth:20200125T213000
DTSTAMP:20260421T234951
CREATED:20200115T233620Z
LAST-MODIFIED:20240530T054157Z
UID:10000531-1579987800-1579987800@www.settlerstavern.com
SUMMARY:Wizards of OZ - Australia Day Long Weekend
DESCRIPTION:With a shared passion for Australian rock\, five professional  musicians from the south west of WA have combined to bring you the Wizards of OZ. Drawing on many years of experience they bring to life the rich musical heritage of our great nation. With a selection of songs spanning over four decades\, this outfit generates a polished and powerful show that never fails to impress!
URL:https://www.settlerstavern.com/event/wizards-of-oz-australia-day-long-weekend/
LOCATION:Settlers Tavern\, 114 Bussell Hwy\, Margaret River\, WA\, 6285\, Australia
CATEGORIES:Music,Rock,Tribute
ATTACH;FMTTYPE=image/jpeg:https://www.settlerstavern.com/wp-content/uploads/2024/04/settlersposterjan2020-1-crop-web.jpg
GEO:-33.9498;115.0736
X-APPLE-STRUCTURED-LOCATION;VALUE=URI;X-ADDRESS=Settlers Tavern 114 Bussell Hwy Margaret River WA 6285 Australia;X-APPLE-RADIUS=500;X-TITLE=114 Bussell Hwy:geo:115.0736,-33.9498
END:VEVENT
BEGIN:VEVENT
DTSTART;TZID=Australia/Perth:20200110T213000
DTEND;TZID=Australia/Perth:20200110T213000
DTSTAMP:20260421T234951
CREATED:20191210T155754Z
LAST-MODIFIED:20240530T054144Z
UID:10000521-1578691800-1578691800@www.settlerstavern.com
SUMMARY:MonGrella
DESCRIPTION:Mongrella is a 4 piece original Alt-Rock outfit from Gracetown Western Australia. The band popped up in the music scene in 2012 under their former name Broken Sea playing shows across Australias South West. A few years later they released their debut EP State of Confusion which received great reviews and had 5 of its 6 songs played on FM radio stations in over 40 different countries.\nMongrella offers a unique blend of influences in their music\, ranging from stoner rock\, like Kyuss\, ’90s alt-rock\, grunge and classic hard rock.\nWith a heap of original songs and a selection of covers Mongrella deliver a solid unique sound that will leave you wanting more.
URL:https://www.settlerstavern.com/event/mongrella/
LOCATION:Settlers Tavern\, 114 Bussell Hwy\, Margaret River\, WA\, 6285\, Australia
CATEGORIES:Alternative,Music,Rock
ATTACH;FMTTYPE=image/jpeg:https://www.settlerstavern.com/wp-content/uploads/2024/04/mongrella.jpg
GEO:-33.9498;115.0736
X-APPLE-STRUCTURED-LOCATION;VALUE=URI;X-ADDRESS=Settlers Tavern 114 Bussell Hwy Margaret River WA 6285 Australia;X-APPLE-RADIUS=500;X-TITLE=114 Bussell Hwy:geo:115.0736,-33.9498
END:VEVENT
BEGIN:VEVENT
DTSTART;TZID=Australia/Perth:20191226T213000
DTEND;TZID=Australia/Perth:20191226T213000
DTSTAMP:20260421T234951
CREATED:20191209T022758Z
LAST-MODIFIED:20240530T054136Z
UID:10000513-1577395800-1577395800@www.settlerstavern.com
SUMMARY:Oversize
DESCRIPTION:OVERSIZE are a local three piece original rock band(guitar\, drums and bass) from Margaret River. We all have been playing for over 18 years individually in different bands and outfits and currently as OVERSIZE. We have been playing around the Margaret River area for nearly Six years. In this time we have been working on our original rock set from blues rock to hard rock.
URL:https://www.settlerstavern.com/event/oversize/
LOCATION:Settlers Tavern\, 114 Bussell Hwy\, Margaret River\, WA\, 6285\, Australia
CATEGORIES:Blues,Music,Rock
ATTACH;FMTTYPE=image/jpeg:https://www.settlerstavern.com/wp-content/uploads/2024/04/oversize.jpg
GEO:-33.9498;115.0736
X-APPLE-STRUCTURED-LOCATION;VALUE=URI;X-ADDRESS=Settlers Tavern 114 Bussell Hwy Margaret River WA 6285 Australia;X-APPLE-RADIUS=500;X-TITLE=114 Bussell Hwy:geo:115.0736,-33.9498
END:VEVENT
BEGIN:VEVENT
DTSTART;TZID=Australia/Perth:20191220T213000
DTEND;TZID=Australia/Perth:20191220T213000
DTSTAMP:20260421T234951
CREATED:20191209T011752Z
LAST-MODIFIED:20240530T054133Z
UID:10000510-1576877400-1576877400@www.settlerstavern.com
SUMMARY:Lincoln MacKinnon and the Wrecking Train
DESCRIPTION:Sometime assassins\, sometime saints\, Fremantle based rockers ‘Lincoln MacKinnon & The Wrecking Train’ combine uplifting choruses\, heartbreak harmonies and a barely contained menace to produce music that is as powerful as it is memorable. \nBased in Fremantle\, WA\, these port-town rockers have been wowing crowds across the country with their infectious melodies; ener- getic live shows and wild and unruly swagger. \nWith recent shows across the country with celebrated artists: Tex Perkins\, Big Country\, Kill Devil Hills\, William Crighton\, Wagons and Southern River Band\, Lincoln’s contagious hooks are spreading..
URL:https://www.settlerstavern.com/event/lincoln-mackinnon-and-the-wrecking-train/
LOCATION:Settlers Tavern\, 114 Bussell Hwy\, Margaret River\, WA\, 6285\, Australia
CATEGORIES:Alternative,Country,Music,Rock
ATTACH;FMTTYPE=image/jpeg:https://www.settlerstavern.com/wp-content/uploads/2024/04/Lincoln-MacKinnon.jpg
GEO:-33.9498;115.0736
X-APPLE-STRUCTURED-LOCATION;VALUE=URI;X-ADDRESS=Settlers Tavern 114 Bussell Hwy Margaret River WA 6285 Australia;X-APPLE-RADIUS=500;X-TITLE=114 Bussell Hwy:geo:115.0736,-33.9498
END:VEVENT
BEGIN:VEVENT
DTSTART;TZID=Australia/Perth:20191206T213000
DTEND;TZID=Australia/Perth:20191206T213000
DTSTAMP:20260421T234951
CREATED:20191124T170215Z
LAST-MODIFIED:20240530T054115Z
UID:10000503-1575667800-1575667800@www.settlerstavern.com
SUMMARY:THE FLOORS
DESCRIPTION:Friday December 6th\, 9:30pm. Free Entry.\n“Come Unstuck”\, the third full length album from The Floors was unearthed and born in a rural abode in France while the band toured Europe in 2018. \nLuke Dux speaks about the writing process: \n“It’s a rare thing to find all 3 of us in a room together\, touring with others bands keeps us apart\, which is most likely why we still tolerate each other. With no outside distractions and a plentiful supply of wine\, cider\, beer\, hash and cheese we spent 4 days jamming and writing in a small farmhouse in the middle of the French countryside. The perfect algorithm of quintessential + cabin fever= songs.”  \nThe album speaks the idea of growing up and coming to terms with the distortion of life’s twists and turns. The title of the album\, inspired by Kurt Vonnegut\, ties in with the nation that we all lose our way at some point. \nThe Floors previous album “Beat It Down” was recorded on an 8 track tape machine however this time\, a broken tape-machine yielded an opportunity for The Floors to explore new sonic depth in their recording. A change in recording style saw the band move from live tracking\, to a combination of the former\, plus the added bonus of over-dubbing and more complex layering. \n“The large room at Rada studios allows us to play live together and turn up as loud as we like with little bleed into the other mics. Finding the tape machine broken was a bummer at first but I think we ended up with a fuller\, more realized record\, rather than limiting ourselves to 8 tracks and no overdubs\, like we usually do\, we could record 600 plus bass guitar tracks.” \nRecorded with producer Dan Carroll at Rada studios\, The Floors have emerged with “Come Unstuck”; it’s all the same hard-hitting\, bare-knuckled blues music you’ve come to know from The Floors\, but with a few extra nuts and bolts thrown into the equation for good measure. \nThe album will be set free exclusively online and on vinyl August 26 th via BEAST records
URL:https://www.settlerstavern.com/event/the-floors/
LOCATION:Settlers Tavern\, 114 Bussell Hwy\, Margaret River\, WA\, 6285\, Australia
CATEGORIES:Music,Rock
ATTACH;FMTTYPE=image/jpeg:https://www.settlerstavern.com/wp-content/uploads/2024/04/FLOORS_DecTour_WEB-2.jpg
GEO:-33.9498;115.0736
X-APPLE-STRUCTURED-LOCATION;VALUE=URI;X-ADDRESS=Settlers Tavern 114 Bussell Hwy Margaret River WA 6285 Australia;X-APPLE-RADIUS=500;X-TITLE=114 Bussell Hwy:geo:115.0736,-33.9498
END:VEVENT
BEGIN:VEVENT
DTSTART;TZID=Australia/Perth:20191201T150000
DTEND;TZID=Australia/Perth:20191201T150000
DTSTAMP:20260421T234951
CREATED:20191124T161816Z
LAST-MODIFIED:20240530T054114Z
UID:10000502-1575212400-1575212400@www.settlerstavern.com
SUMMARY:THE LANSDELL BROTHERS
DESCRIPTION:Sunday December 1\, 3pm. Free Entry.\nNate Lansdell brings his “Emmanuel-esque” guitar techniques from his solo one man band show and is accompanied by his brother Kieren on drums and singing harmonies. \nThe Lansdell’s have been playing music together for around 15 years and this shows in their tight and complimentary sound. Growing up with a myriad of genres and styles makes for a versatile and entertaining show
URL:https://www.settlerstavern.com/event/the-lansdell-brothers/
LOCATION:Settlers Tavern\, 114 Bussell Hwy\, Margaret River\, WA\, 6285\, Australia
CATEGORIES:Music,Rock
ATTACH;FMTTYPE=image/jpeg:https://www.settlerstavern.com/wp-content/uploads/2024/04/Lansdell-Brothers.jpg
GEO:-33.9498;115.0736
X-APPLE-STRUCTURED-LOCATION;VALUE=URI;X-ADDRESS=Settlers Tavern 114 Bussell Hwy Margaret River WA 6285 Australia;X-APPLE-RADIUS=500;X-TITLE=114 Bussell Hwy:geo:115.0736,-33.9498
END:VEVENT
END:VCALENDAR