BEGIN:VCALENDAR
VERSION:2.0
PRODID:-//Settlers Tavern - ECPv6.15.20//NONSGML v1.0//EN
CALSCALE:GREGORIAN
METHOD:PUBLISH
X-ORIGINAL-URL:https://www.settlerstavern.com
X-WR-CALDESC:Events for Settlers Tavern
REFRESH-INTERVAL;VALUE=DURATION:PT1H
X-Robots-Tag:noindex
X-PUBLISHED-TTL:PT1H
BEGIN:VTIMEZONE
TZID:Australia/Perth
BEGIN:STANDARD
TZOFFSETFROM:+0800
TZOFFSETTO:+0800
TZNAME:AWST
DTSTART:20230101T000000
END:STANDARD
END:VTIMEZONE
BEGIN:VEVENT
DTSTART;TZID=Australia/Perth:20241011T210000
DTEND;TZID=Australia/Perth:20241011T233000
DTSTAMP:20260423T122908
CREATED:20240628T035023Z
LAST-MODIFIED:20240912T025955Z
UID:10000836-1728680400-1728689400@www.settlerstavern.com
SUMMARY:CARAVÃNA SUN
DESCRIPTION:MARGARET RIVER – Caravãna Sun are back in the South West for one night only of dancing at Settlers Tavern FRI 11th OCT \nJoined by local legends Dingo Sungod \nTickets will sell out fast here!  18 Plus event only \nSince 2011\, Sydneysiders CARAVÃNA SUN have built a renowned reputation across the globe for their dynamic and energetic live performances. Their infectious grooves which progressively merge their surfy coastal lifestyle with elements of explosive rock\, euphoric electronica/dance and rambunctious reggae/ska have earned the band slots on some of the world’s most coveted stages. Highlights include Boardmasters (UK)\, Boomtown (UK)\, Reggae Sun Ska (France)\, Bluesfest Byron Bay\, Summer in the City (Germany)\, Party in the Paddock (TAS)\, Woodford Folk Festival (QLD) and headlining Madnes (Netherlands) to name a few. They have also toured with iconic artists such as Madness\, UB40\, The Cat Empire and Fat Freddy’s Drop among many others. CARAVÃNA SUN also had success with their hypnotic track ‘Whale Song’\, which was featured in the global award winning documentary\, ‘Seaspiracy’. The film featured in the top 10 most watched on Netflix across numerous countries upon its release\, generating significant traction on the issue of ocean conservation. This saw the band further secure their place on the world stage and brought with it a huge influx of new fans from far and wide. \nIn 2022\, CARAVÃNA SUN performed to one of their biggest crowds on the main stage at Bluesfest Byron Bay\, which saw over 10\,000 in attendance. With lots of exciting new music in tow and fresh off another extensive European and national tour\, the band is determined to deliver another fan favourite performance with their new live show at Bluesfest 2024! \nCARAVÃNA SUN have not only cemented their place as a standout band across the world\, but also shown no signs of slowing down\, signing in 2020 with Berlin’s Embassy of Music and joining a heavyweight roster\, including Björk\, Moby\, and fellow Aussie acts Ball Park Music. As a result of their extensive touring schedule pre-Covid\, the release of the album ‘Live in Germany’ was only natural\, extending their live show from colossal crowds to listeners around the globe. Since the settling of the pandemic\, the band has returned to hardcore touring around Australia and beyond\, and also released their self-produced third studio album\, ‘Burning Palms’ in early 2022. In 2023\, CARAVÃNA SUN rejoined forces with producer Joel Quartermain (Eskimo Joe\, Budjerah\, Gflip\, Meg Mac) to pursue their next body of work\, featuring their latest club-filling singles ‘Moments’ and ‘Hearts Awake’. \n“The Sydneysiders’ third album is a sonic treat. With a solid backbone of rhythm and the loose tag of surf rock\, their songs contort themselves in a variety of styles.”\nSydney Morning Herald \n“Charlie’\, the first single of the year for Caravãna Sun\, sees the typically ebullient band get vulnerable\, if still uplifting.”\nMusic Feeds \n“It’s a brilliant track that really captures the group at a new peak\, teasing their forthcoming material with some of the best work they’ve put out to date.”\nPilerats
URL:https://www.settlerstavern.com/event/caravana-sun/
LOCATION:Settlers Tavern\, 114 Bussell Hwy\, Margaret River\, WA\, 6285\, Australia
CATEGORIES:Dance,Live Music,Live Music Australia,Reggae,Rock,Ska,Tickets
ATTACH;FMTTYPE=image/jpeg:https://www.settlerstavern.com/wp-content/uploads/2024/06/Caravana-Sun-New-Press-02-2022.jpg
GEO:-33.9498;115.0736
X-APPLE-STRUCTURED-LOCATION;VALUE=URI;X-ADDRESS=Settlers Tavern 114 Bussell Hwy Margaret River WA 6285 Australia;X-APPLE-RADIUS=500;X-TITLE=114 Bussell Hwy:geo:115.0736,-33.9498
END:VEVENT
END:VCALENDAR