BEGIN:VCALENDAR
VERSION:2.0
PRODID:-//Settlers Tavern - ECPv6.15.20//NONSGML v1.0//EN
CALSCALE:GREGORIAN
METHOD:PUBLISH
X-ORIGINAL-URL:https://www.settlerstavern.com
X-WR-CALDESC:Events for Settlers Tavern
REFRESH-INTERVAL;VALUE=DURATION:PT1H
X-Robots-Tag:noindex
X-PUBLISHED-TTL:PT1H
BEGIN:VTIMEZONE
TZID:Australia/Perth
BEGIN:STANDARD
TZOFFSETFROM:+0800
TZOFFSETTO:+0800
TZNAME:AWST
DTSTART:20230101T000000
END:STANDARD
END:VTIMEZONE
BEGIN:VEVENT
DTSTART;TZID=Australia/Perth:20240531T210000
DTEND;TZID=Australia/Perth:20240601T000000
DTSTAMP:20260423T225231
CREATED:20240307T180554Z
LAST-MODIFIED:20240530T060810Z
UID:10000484-1717189200-1717200000@www.settlerstavern.com
SUMMARY:SMOKE STACK RHINO
DESCRIPTION:Hailed as ‘Australia’s hottest up-and-coming blues and roots rockers’ by Beat Mag\, Smoke Stack Rhino are bringing their first ever headline show to Margaret River! They’ve been tearing it up around Australia. Their album ‘The Mojo Funk’ hit #2 on the ARIA Blues chart and they’ve delivered their high-energy\, feel good live show at leading festivals like Bridgetown Blues Festival\, Echuca Winter Blues\, Grampians Grape Escape\, and many more. Now they’re in WA to bring the mojo back\, launching their new EP at Settler’s Tavern on Friday 31st May. ‘Love the stomping blues sound…’ – Triple J ‘Catchy\, rootsy rock…’ – Triple M \n  \n  \nlearn more… \nSmoke Stack Rhino have been hailed as ‘Australia’s most exciting up-and-coming blues and roots rockers’ (Beat Mag). Featuring a band-name that’s just one heavy animal away from the blues (just ask Howlin’ Wolf)\, this trio from the Yarra Valley near Melbourne are wowing crowds around Australia. In the last 12 months they’ve appeared at festivals like Blues at Bridgetown\, Moruya Blues and Roots\, St Kilda Blues Festival\, Healesville Music Festival\, Echuca Winter Blues and more. They’ve found airplay on triple J and Triple M\, ran Rock The Valley Music Festival and placed on Spotify playlists. \n\n\n\nNew album The Mojo Funk sees the group claim a sound of their own which they call… ‘The Mojo Funk’. Mixed by Ocean Alley’s producer Callum Howell\, the record debuted at #2 on the ARIA Blues/Jazz Albums Chart and is “a high energy\, semi-psychedelic montage of funky blues rock that’s sure to get your mojo back”. \nOn stage the band’s electric live show reaches new heights. Singer-guitarist Ash King is a whirlwind with resonator guitar in hand\, his earthy vocals reaching from deep baritone low notes to high screams\, drummer Matt Berg pushes the band forward from behind the kit and bassist Shane Andison stays rock solid\, holding the whole thing together with an infectious\, catchy groove. \nSmoke Stack Rhino are on the rise and are well and truly here to bring the mojo back. \n‘Love the stompin’ blues sound…’ – Triple J \n‘Catchy\, rootsy rock’ – Triple M
URL:https://www.settlerstavern.com/event/smoke-stack-rhino/
LOCATION:Settlers Tavern\, 114 Bussell Hwy\, Margaret River\, WA\, 6285\, Australia
CATEGORIES:Blues,Live Music,Live Music Australia,Music,Party,Rock,Roots
ATTACH;FMTTYPE=image/jpeg:https://www.settlerstavern.com/wp-content/uploads/2024/04/Smoke-Stack-Rhino-Promo-Photo-1-scaled-1.jpg
GEO:-33.9498;115.0736
X-APPLE-STRUCTURED-LOCATION;VALUE=URI;X-ADDRESS=Settlers Tavern 114 Bussell Hwy Margaret River WA 6285 Australia;X-APPLE-RADIUS=500;X-TITLE=114 Bussell Hwy:geo:115.0736,-33.9498
END:VEVENT
END:VCALENDAR