BEGIN:VCALENDAR
VERSION:2.0
PRODID:-//Settlers Tavern - ECPv6.15.20//NONSGML v1.0//EN
CALSCALE:GREGORIAN
METHOD:PUBLISH
X-WR-CALNAME:Settlers Tavern
X-ORIGINAL-URL:https://www.settlerstavern.com
X-WR-CALDESC:Events for Settlers Tavern
REFRESH-INTERVAL;VALUE=DURATION:PT1H
X-Robots-Tag:noindex
X-PUBLISHED-TTL:PT1H
BEGIN:VTIMEZONE
TZID:Australia/Perth
BEGIN:STANDARD
TZOFFSETFROM:+0800
TZOFFSETTO:+0800
TZNAME:AWST
DTSTART:20210101T000000
END:STANDARD
END:VTIMEZONE
BEGIN:VEVENT
DTSTART;TZID=Australia/Perth:20221009T150000
DTEND;TZID=Australia/Perth:20221009T170000
DTSTAMP:20260426T055511
CREATED:20220912T195846Z
LAST-MODIFIED:20240530T054720Z
UID:10000756-1665327600-1665334800@www.settlerstavern.com
SUMMARY:WAGF 2022 - Padderick Henry & J.V. Rail Sunday Sesh
DESCRIPTION:Western Australia Guitar Festival 2022 Presents Padderick Henry & J.V. Rail\n\nFREE ENTRY\nFacebook event: facebook.com/events/751776252564451/\n\nSunday arvo on the verandah at Settlers Tav? Yes please!\n—————————————-\nJ.V. RAIL\nJ.V. Rail are a brand new country rock outfit homegrown in South West WA. Formed by Jon Vee on keys\, vocals and guitar the band originally took their name from a train renowned for rescuing survivors in WA’s rugged outback.\n“That train pulled men out of the belly of the earth – thats what music did for me\,” says Jon. “It all went to dust. My mind\, my health and eventually my marriage. You have this life you were so focussed on and then with a snap of the fingers\, it all disappears. That’s when the music started. From the dust it worked it’s way into my dreams.”\nWith honky tonk piano\, shimmering vocal harmonies and soaring guitar solos JV Rail conjure sounds reminiscent of Glen Campbell\, Steve Miller Band and ZZ Top. Rounding out the band are Jack Grazioti on bass\, Ben Clake on drums and Dave Kent on lead guitar. Together they play the tales of life through their instruments into a high energy\, heartfelt sing along.\nPADDERICK HENRY\nPadderick Henry is a fingerpicking solo guitarist who leans heavy on his mid 1970s model Takeharu acoustic and a much modified Fender resonator guitar to produce music that is pretty much unique in today’s scene.\nHis setlist is made up of his own songs as well as covers of tunes that\nresonate in him and to which he wants to pay tribute. Padderick\nbelieves that good music comes from playing for oneself initially and\nmaking yourself happy\, and if you can do that\, you can’t help but sound\ngood.\n—————————————-\nAll minors must be accompanied by an adult at all times – Settlers Tavern is a licensed premises\, no BYO.\n—————————————-\nCheck out Artist profiles\, Event Info\, FAQ’s and full Terms & Conditions at https://www.waguitarfestival.com.au/
URL:https://www.settlerstavern.com/event/wagf-2022-padderick-henry-j-v-rail-sunday-sesh/
LOCATION:Settlers Tavern\, 114 Bussell Hwy\, Margaret River\, WA\, 6285\, Australia
CATEGORIES:Country,Live Music,Live Music Australia,Music,Rock
ATTACH;FMTTYPE=image/jpeg:https://www.settlerstavern.com/wp-content/uploads/2024/04/Paddrick-Henry_JvRail.jpeg
GEO:-33.9498;115.0736
X-APPLE-STRUCTURED-LOCATION;VALUE=URI;X-ADDRESS=Settlers Tavern 114 Bussell Hwy Margaret River WA 6285 Australia;X-APPLE-RADIUS=500;X-TITLE=114 Bussell Hwy:geo:115.0736,-33.9498
END:VEVENT
END:VCALENDAR