BEGIN:VCALENDAR
VERSION:2.0
PRODID:-//Settlers Tavern - ECPv6.15.20//NONSGML v1.0//EN
CALSCALE:GREGORIAN
METHOD:PUBLISH
X-ORIGINAL-URL:https://www.settlerstavern.com
X-WR-CALDESC:Events for Settlers Tavern
REFRESH-INTERVAL;VALUE=DURATION:PT1H
X-Robots-Tag:noindex
X-PUBLISHED-TTL:PT1H
BEGIN:VTIMEZONE
TZID:Australia/Perth
BEGIN:STANDARD
TZOFFSETFROM:+0800
TZOFFSETTO:+0800
TZNAME:AWST
DTSTART:20210101T000000
END:STANDARD
END:VTIMEZONE
BEGIN:VEVENT
DTSTART;TZID=Australia/Perth:20220924T210000
DTEND;TZID=Australia/Perth:20220924T210000
DTSTAMP:20260426T105951
CREATED:20220817T193110Z
LAST-MODIFIED:20240530T054707Z
UID:10000748-1664053200-1664053200@www.settlerstavern.com
SUMMARY:Code Red w/ Amberdown
DESCRIPTION:FREE ENTRY\nFacebook event: https://www.facebook.com/events/3237129916544276/ \nFremantle-based hard rock/grunge 4 piece\, Code Red\, channels the influences of monster artists such as Led Zeppelin\, Alice in Chains\, and Pearl Jam amongst many others\, whilst ensuring they create and weave their own flavour to build a contemporary sound.\nMusicians from the UK\, America\, Chile and Poland have come together through a shared love of hard rock. This past year has seen the band garner a reputation as one of WA’s must-see\, powerhouse\, hard rock performers with searing guitars\, punchy riffs\, soaring vocals and thunderous rhythms.\nSupporting them is Amberdown\, an Alt-Rock powerhouse band from Western Australia with an enormous sound.\nThey have put together quite the resume\, supporting gigantic\, world-class touring acts such as Alice Cooper and Motley Crue.\nThese guys are not to be missed – catch them while you can!
URL:https://www.settlerstavern.com/event/code-red-w-amberdown/
LOCATION:Settlers Tavern\, 114 Bussell Hwy\, Margaret River\, WA\, 6285\, Australia
CATEGORIES:Grunge,Music,Rock
ATTACH;FMTTYPE=image/jpeg:https://www.settlerstavern.com/wp-content/uploads/2024/04/code-red-web.jpg
GEO:-33.9498;115.0736
X-APPLE-STRUCTURED-LOCATION;VALUE=URI;X-ADDRESS=Settlers Tavern 114 Bussell Hwy Margaret River WA 6285 Australia;X-APPLE-RADIUS=500;X-TITLE=114 Bussell Hwy:geo:115.0736,-33.9498
END:VEVENT
END:VCALENDAR