BEGIN:VCALENDAR
VERSION:2.0
PRODID:-//Settlers Tavern - ECPv6.15.18//NONSGML v1.0//EN
CALSCALE:GREGORIAN
METHOD:PUBLISH
X-WR-CALNAME:Settlers Tavern
X-ORIGINAL-URL:https://www.settlerstavern.com
X-WR-CALDESC:Events for Settlers Tavern
REFRESH-INTERVAL;VALUE=DURATION:PT1H
X-Robots-Tag:noindex
X-PUBLISHED-TTL:PT1H
BEGIN:VTIMEZONE
TZID:Australia/Perth
BEGIN:STANDARD
TZOFFSETFROM:+0800
TZOFFSETTO:+0800
TZNAME:AWST
DTSTART:20240101T000000
END:STANDARD
END:VTIMEZONE
BEGIN:VEVENT
DTSTART;TZID=Australia/Perth:20251101T210000
DTEND;TZID=Australia/Perth:20251101T233000
DTSTAMP:20260422T043414
CREATED:20251004T003831Z
LAST-MODIFIED:20251004T003831Z
UID:10001028-1762030800-1762039800@www.settlerstavern.com
SUMMARY:UNB'ROCKEN
DESCRIPTION:Unb’rocken is a high-energy rock band from Bali\, blending blues\, psychedelic textures\, and vintage rock’n’roll attitude. With two albums under their belt and over a decade of stage experience-including seven tours across Australia-they’re a raw\, unfiltered force. Influenced by legends like Jimi Hendrix and Deep Purple\, they’ve built a reputation for soul- soaked guitar work and tight grooves. Fronted by a vocalist with a raw\, grungy growl\, their sound harks back to when rock was loud\, loose\, and dangerous-delivered with the spirit and swagger to match.
URL:https://www.settlerstavern.com/event/unbrocken/
LOCATION:Settlers Tavern\, 114 Bussell Hwy\, Margaret River\, WA\, 6285\, Australia
CATEGORIES:Alternative,Blues,Live Music,Rock
ATTACH;FMTTYPE=image/jpeg:https://www.settlerstavern.com/wp-content/uploads/2025/10/552210234_18531184738030835_877658274894687389_n.jpg
GEO:-33.9498;115.0736
X-APPLE-STRUCTURED-LOCATION;VALUE=URI;X-ADDRESS=Settlers Tavern 114 Bussell Hwy Margaret River WA 6285 Australia;X-APPLE-RADIUS=500;X-TITLE=114 Bussell Hwy:geo:115.0736,-33.9498
END:VEVENT
BEGIN:VEVENT
DTSTART;TZID=Australia/Perth:20251115T210000
DTEND;TZID=Australia/Perth:20251115T233000
DTSTAMP:20260422T043414
CREATED:20251014T112012Z
LAST-MODIFIED:20251014T112012Z
UID:10001034-1763240400-1763249400@www.settlerstavern.com
SUMMARY:SUNDAY LEMONADE
DESCRIPTION:Named the ‘People’s Choice’ at Tamworth Country Music Festival 2024\, infectious indie folk & roots duo Sunday Lemonade have created a fizz amongst crowds across Australia. With a splash of heartfelt folk\, a dash of powerful rock and a squeeze of riffin’ roots the bubbly pair are the refreshing rom-com drink you didn’t know you needed! \nBased on the far south coast of New South Wales but self-confessed van lifer enthusiasts\, Tyson & Loz have been persistent in their pursuit of music. Since winning the ‘Emerging Artist’ award at Nannup 2020 the pair have supported Australian favourites such as 19-Twenty\, Sons of the East\, Caravana Sun\, Thirsty Merc\, The Rubens & The Little Quirks amidst multiple nation wide tours\, embarked on a debut overseas tour and featured on diverse festival line ups such as Cobargo Folk\, Moruya Blues & Roots & Yackandandah Folk proving their can-do attitude to be where ever\, when ever. \nHitting the road this September to celebrate the release of their new single ‘Lucy Goosey’ – a letter to the voice in your head that tries to tell you you’re no good – the bubbly duo will be travelling nation-wide including their first visit to Tasmania to share their intimate\, bare all stories and ‘joie de Vivre’
URL:https://www.settlerstavern.com/event/sunday-lemonade/
LOCATION:Settlers Tavern\, 114 Bussell Hwy\, Margaret River\, WA\, 6285\, Australia
CATEGORIES:Folk,Live Music,Live Music Australia,Rock
ATTACH;FMTTYPE=image/jpeg:https://www.settlerstavern.com/wp-content/uploads/2025/10/SL-PROMO-2025.jpg
GEO:-33.9498;115.0736
X-APPLE-STRUCTURED-LOCATION;VALUE=URI;X-ADDRESS=Settlers Tavern 114 Bussell Hwy Margaret River WA 6285 Australia;X-APPLE-RADIUS=500;X-TITLE=114 Bussell Hwy:geo:115.0736,-33.9498
END:VEVENT
BEGIN:VEVENT
DTSTART;TZID=Australia/Perth:20251122T210000
DTEND;TZID=Australia/Perth:20251122T233000
DTSTAMP:20260422T043414
CREATED:20250921T043250Z
LAST-MODIFIED:20250921T043250Z
UID:10001026-1763845200-1763854200@www.settlerstavern.com
SUMMARY:CHASING ASTRID
DESCRIPTION:Exploding into the South West music scene are new indie rockers Chasing Astrid. In a short but sweet career they have played at some big venues including The River\, Whalebone Brewery and Froth Brewery and have shared the stage with Eskimo Jo\, Lazy Ghost and Rodney Starfish. Their debut single reached over 2000 streams in a month and received great reviews from the local community. \nThey are releasing their self-titled EP in October with a few more singles to come before.
URL:https://www.settlerstavern.com/event/chasing-astrid/
LOCATION:Settlers Tavern\, 114 Bussell Hwy\, Margaret River\, WA\, 6285\, Australia
CATEGORIES:Indie,Live Music,Live Music Australia,Rock
ATTACH;FMTTYPE=image/png:https://www.settlerstavern.com/wp-content/uploads/2025/09/Screenshot-2025-08-28-at-2.24.29 pm.png
GEO:-33.9498;115.0736
X-APPLE-STRUCTURED-LOCATION;VALUE=URI;X-ADDRESS=Settlers Tavern 114 Bussell Hwy Margaret River WA 6285 Australia;X-APPLE-RADIUS=500;X-TITLE=114 Bussell Hwy:geo:115.0736,-33.9498
END:VEVENT
END:VCALENDAR