BEGIN:VCALENDAR
VERSION:2.0
PRODID:-//Settlers Tavern - ECPv6.15.18//NONSGML v1.0//EN
CALSCALE:GREGORIAN
METHOD:PUBLISH
X-ORIGINAL-URL:https://www.settlerstavern.com
X-WR-CALDESC:Events for Settlers Tavern
REFRESH-INTERVAL;VALUE=DURATION:PT1H
X-Robots-Tag:noindex
X-PUBLISHED-TTL:PT1H
BEGIN:VTIMEZONE
TZID:Australia/Perth
BEGIN:STANDARD
TZOFFSETFROM:+0800
TZOFFSETTO:+0800
TZNAME:AWST
DTSTART:20240101T000000
END:STANDARD
END:VTIMEZONE
BEGIN:VEVENT
DTSTART;TZID=Australia/Perth:20250517T210000
DTEND;TZID=Australia/Perth:20250517T233000
DTSTAMP:20260422T164533
CREATED:20250508T011620Z
LAST-MODIFIED:20250508T012106Z
UID:10000961-1747515600-1747524600@www.settlerstavern.com
SUMMARY:HEY RAMONA + BETH CHIA
DESCRIPTION:HEY RAMONA – Margaret River based rock band playing a selection of alt-rock tunes from the 70s to current day. With powerful vocals\, tight musicianship\, and an unstoppable rhythm section\, their setlist is packed with songs that never fail to get an audience on their feet and dancing. \nAND \nBETH CHIA blends edgy and ethereal in a unique mix of electric guitar\, vocals\, and an indefinable mix of exotic roots rhythms. The intrigue in her songs comes from moody folk lyricism\, a touch of grunge\,  and an ever present dance between fragility and power. Joined by her drummer\, the duo will be tearing up the stage with loud riffs and heavy beats. \n 
URL:https://www.settlerstavern.com/event/hey-ramona/
LOCATION:Settlers Tavern\, 114 Bussell Hwy\, Margaret River\, WA\, 6285\, Australia
CATEGORIES:Live Music,Live Music Australia,Rock
ATTACH;FMTTYPE=image/png:https://www.settlerstavern.com/wp-content/uploads/2025/05/Screenshot-2025-05-08-at-9.16.23 AM.png
GEO:-33.9498;115.0736
X-APPLE-STRUCTURED-LOCATION;VALUE=URI;X-ADDRESS=Settlers Tavern 114 Bussell Hwy Margaret River WA 6285 Australia;X-APPLE-RADIUS=500;X-TITLE=114 Bussell Hwy:geo:115.0736,-33.9498
END:VEVENT
END:VCALENDAR