BEGIN:VCALENDAR
VERSION:2.0
PRODID:-//Settlers Tavern - ECPv6.15.18//NONSGML v1.0//EN
CALSCALE:GREGORIAN
METHOD:PUBLISH
X-ORIGINAL-URL:https://www.settlerstavern.com
X-WR-CALDESC:Events for Settlers Tavern
REFRESH-INTERVAL;VALUE=DURATION:PT1H
X-Robots-Tag:noindex
X-PUBLISHED-TTL:PT1H
BEGIN:VTIMEZONE
TZID:Australia/Perth
BEGIN:STANDARD
TZOFFSETFROM:+0800
TZOFFSETTO:+0800
TZNAME:AWST
DTSTART:20240101T000000
END:STANDARD
END:VTIMEZONE
BEGIN:VEVENT
DTSTART;TZID=Australia/Perth:20250405T210000
DTEND;TZID=Australia/Perth:20250405T233000
DTSTAMP:20260422T214143
CREATED:20240416T203642Z
LAST-MODIFIED:20250305T072927Z
UID:10000939-1743886800-1743895800@www.settlerstavern.com
SUMMARY:THE CHAIR
DESCRIPTION:Get ready to dive headfirst into the ultimate tribute to Silverchair’s legacy with The Chair. Originating in Perth\, this talented ensemble has mastered the art of recreating Silverchair’s iconic sound\, stage presence\, and raw energy\, giving fans an immersive journey back to the golden age of ’90s rock. \nNow featuring a two-act show inspired by Silverchair’s legendary Live from Faraway Stables\, this performance is a true celebration of their musical evolution:  Act One highlights the symphonic and expansive soundscapes from Neon Ballroom\, Diorama\, and Young Modern. This atmospheric set will captivate you with its grandeur and emotional depth.  Act Two is where the energy explodes\, packed with those angsty riffs and grunge-soaked anthems from Frogstomp and Freakshow. As Daniel Johns would say\, “it’s all vodka and light shows”\, with these iconic songs jammed out to perfection. \nWhether you’re craving the symphonic artistry or the raw rebellion of Silverchair’s biggest hits\, The Chair delivers it all with electrifying precision. So\, dust off those Doc Martens\, throw on your ripped jeans\, and prepare for a visceral time warp to the ’90s—when the music was loud\, the rebellion was real\, and Silverchair ruled the airwaves. The Chair isn’t just a tribute; it’s your ticket to relive the magic. \n 
URL:https://www.settlerstavern.com/event/the-chair/
LOCATION:Settlers Tavern\, 114 Bussell Hwy\, Margaret River\, WA\, 6285\, Australia
CATEGORIES:Grunge,Live Music,Live Music Australia,Music,Rock,Tribute
ATTACH;FMTTYPE=image/jpeg:https://www.settlerstavern.com/wp-content/uploads/2024/05/The-Chair-Live-2-scaled-1.jpg
GEO:-33.9498;115.0736
X-APPLE-STRUCTURED-LOCATION;VALUE=URI;X-ADDRESS=Settlers Tavern 114 Bussell Hwy Margaret River WA 6285 Australia;X-APPLE-RADIUS=500;X-TITLE=114 Bussell Hwy:geo:115.0736,-33.9498
END:VEVENT
BEGIN:VEVENT
DTSTART;TZID=Australia/Perth:20250412T210000
DTEND;TZID=Australia/Perth:20250412T233000
DTSTAMP:20260422T214143
CREATED:20250305T075153Z
LAST-MODIFIED:20250305T075153Z
UID:10000940-1744491600-1744500600@www.settlerstavern.com
SUMMARY:ELECTRIC STATE + WHO CARES
DESCRIPTION:Electric State fuse together various elements of stoner rock\, hard rock\, heavy metal and grunge\, with members being heavily influenced by such bands as Tool\, Kyuss\, Soundgarden\, Metallica and Smashing Pumpkins. \nElectric State have been blowing punters minds and the doors off Perth venues since their first gig in 2019. Packing venues such as The Amplifier Bar\, The Sewing Room\, Lynott’s Lounge\, Badlands and all around the state. Having taken out the 2020 Most Popular Live Act and 2020 Most Popular New Act at the Western Australian Music awards (WAM Awards). \n\nWhoCares is a four-piece pop punk band hailing from Perth\, Western Australia. Formed in 2021\, the band consists of four members who share a passion for fast-paced alt rock\, energetic music and catchy melodies. \nSince forming\, WhoCares has quickly made a name for themselves in the Perth music scene\, performing at a number of local venues and attracting a loyal following of fans. Their high-energy performances and relatable lyrics have gained them a devoted fan base who appreciate their passion for their craft. \nWhoCares is a band that truly cares about their music and their fans. They pour their hearts and souls into every performance. \nAward winning West Australian rockers Electric State and WhoCares in Margaret River at Settlers Tavern!  Two hours of blaring sirens\, deafening chants\, screaming guitars\, bangin’ drums\, bar climbing and megaphones playing their latest singles\, up-tempo bangers and crowd favourites.
URL:https://www.settlerstavern.com/event/electric-state-who-cares/
LOCATION:Settlers Tavern\, 114 Bussell Hwy\, Margaret River\, WA\, 6285\, Australia
CATEGORIES:Grunge,Live Music,Live Music Australia,Metal,Rock
ATTACH;FMTTYPE=image/png:https://www.settlerstavern.com/wp-content/uploads/2025/03/Screenshot-2025-03-05-at-3.50.49 PM.png
GEO:-33.9498;115.0736
X-APPLE-STRUCTURED-LOCATION;VALUE=URI;X-ADDRESS=Settlers Tavern 114 Bussell Hwy Margaret River WA 6285 Australia;X-APPLE-RADIUS=500;X-TITLE=114 Bussell Hwy:geo:115.0736,-33.9498
END:VEVENT
BEGIN:VEVENT
DTSTART;TZID=Australia/Perth:20250426T210000
DTEND;TZID=Australia/Perth:20250426T233000
DTSTAMP:20260422T214143
CREATED:20250213T071808Z
LAST-MODIFIED:20250213T071808Z
UID:10000935-1745701200-1745710200@www.settlerstavern.com
SUMMARY:STEFAN HAUK
DESCRIPTION:Stefan Hauk is a force to be reckoned with on the international Blues-Rock scene. 2024 was easily the biggest year yet for the Adelaide-based guitar slinger: with the success of his viral YouTube concert “Homecoming – Live at The Gov” leading to his first shows overseas in Italy and his first debut appearances at mainstay Australian festivals Echuca-Moama Winter Blues and Mitchell Creek Rock n Blues Festival. \nIn 2025 he’s bringing you his third national tour and it’s his biggest yet. From Tassie to WA and most points in between\, he’s going there and bring his powerful three piece band with him. \nStefan is proving to be Australia’s answer to the likes of Christone Kingfish Ingram\, Joe Bonamassa and Marcus King\, check out what the fuss is all about.
URL:https://www.settlerstavern.com/event/stefan-hauk/
LOCATION:Settlers Tavern\, 114 Bussell Hwy\, Margaret River\, WA\, 6285\, Australia
CATEGORIES:Blues,Live Music,Live Music Australia,Rock
ATTACH;FMTTYPE=image/png:https://www.settlerstavern.com/wp-content/uploads/2025/02/Screenshot-2025-02-13-at-3.06.30 PM.png
GEO:-33.9498;115.0736
X-APPLE-STRUCTURED-LOCATION;VALUE=URI;X-ADDRESS=Settlers Tavern 114 Bussell Hwy Margaret River WA 6285 Australia;X-APPLE-RADIUS=500;X-TITLE=114 Bussell Hwy:geo:115.0736,-33.9498
END:VEVENT
END:VCALENDAR