BEGIN:VCALENDAR
VERSION:2.0
PRODID:-//Settlers Tavern - ECPv6.15.20//NONSGML v1.0//EN
CALSCALE:GREGORIAN
METHOD:PUBLISH
X-ORIGINAL-URL:https://www.settlerstavern.com
X-WR-CALDESC:Events for Settlers Tavern
REFRESH-INTERVAL;VALUE=DURATION:PT1H
X-Robots-Tag:noindex
X-PUBLISHED-TTL:PT1H
BEGIN:VTIMEZONE
TZID:Australia/Perth
BEGIN:STANDARD
TZOFFSETFROM:+0800
TZOFFSETTO:+0800
TZNAME:AWST
DTSTART:20210101T000000
END:STANDARD
END:VTIMEZONE
BEGIN:VEVENT
DTSTART;TZID=Australia/Perth:20221118T210000
DTEND;TZID=Australia/Perth:20221118T210000
DTSTAMP:20260426T023849
CREATED:20220706T170429Z
LAST-MODIFIED:20240530T054644Z
UID:10000732-1668805200-1668805200@www.settlerstavern.com
SUMMARY:ALTimate GRUNGE - CANCELLED
DESCRIPTION:This show has been cancelled.
URL:https://www.settlerstavern.com/event/altimate-grunge-90s-seattle-rock-show/
LOCATION:Settlers Tavern\, 114 Bussell Hwy\, Margaret River\, WA\, 6285\, Australia
CATEGORIES:Grunge,Live Music Australia,Music,Punk,Rock,Rock'n'Roll,Tickets
ATTACH;FMTTYPE=image/jpeg:https://www.settlerstavern.com/wp-content/uploads/2024/04/Settlers-Tavern-Facebook-Add-1080-x1080.jpg
GEO:-33.9498;115.0736
X-APPLE-STRUCTURED-LOCATION;VALUE=URI;X-ADDRESS=Settlers Tavern 114 Bussell Hwy Margaret River WA 6285 Australia;X-APPLE-RADIUS=500;X-TITLE=114 Bussell Hwy:geo:115.0736,-33.9498
END:VEVENT
BEGIN:VEVENT
DTSTART;TZID=Australia/Perth:20221119T210000
DTEND;TZID=Australia/Perth:20221119T210000
DTSTAMP:20260426T023849
CREATED:20220928T195658Z
LAST-MODIFIED:20240530T054733Z
UID:10000766-1668891600-1668891600@www.settlerstavern.com
SUMMARY:The Swamp Stompers
DESCRIPTION:FREE ENTRY\nFacebook event: facebook.com/events/476509044362851/ \nThe Swamp Stompers will be playing at Settlers Tavern in Margaret River WA on Saturday 19th November 2022 from 9:30 pm. Don’t miss one of their final ever Australian shows!
URL:https://www.settlerstavern.com/event/the-swamp-stompers/
LOCATION:Settlers Tavern\, 114 Bussell Hwy\, Margaret River\, WA\, 6285\, Australia
CATEGORIES:Blues,Live Music Australia,Music,Rock
ATTACH;FMTTYPE=image/jpeg:https://www.settlerstavern.com/wp-content/uploads/2024/04/swampstompers.jpg
GEO:-33.9498;115.0736
X-APPLE-STRUCTURED-LOCATION;VALUE=URI;X-ADDRESS=Settlers Tavern 114 Bussell Hwy Margaret River WA 6285 Australia;X-APPLE-RADIUS=500;X-TITLE=114 Bussell Hwy:geo:115.0736,-33.9498
END:VEVENT
END:VCALENDAR