BEGIN:VCALENDAR
VERSION:2.0
PRODID:-//Settlers Tavern - ECPv6.15.20//NONSGML v1.0//EN
CALSCALE:GREGORIAN
METHOD:PUBLISH
X-ORIGINAL-URL:https://www.settlerstavern.com
X-WR-CALDESC:Events for Settlers Tavern
REFRESH-INTERVAL;VALUE=DURATION:PT1H
X-Robots-Tag:noindex
X-PUBLISHED-TTL:PT1H
BEGIN:VTIMEZONE
TZID:Australia/Perth
BEGIN:STANDARD
TZOFFSETFROM:+0800
TZOFFSETTO:+0800
TZNAME:AWST
DTSTART:20210101T000000
END:STANDARD
END:VTIMEZONE
BEGIN:VEVENT
DTSTART;TZID=Australia/Perth:20220806T210000
DTEND;TZID=Australia/Perth:20220806T210000
DTSTAMP:20260426T122455
CREATED:20220727T185742Z
LAST-MODIFIED:20240530T054658Z
UID:10000741-1659819600-1659819600@www.settlerstavern.com
SUMMARY:Mister and Sunbird - Cancelled
DESCRIPTION:FREE ENTRY\nFacebook event: https://www.facebook.com/events/1201892457262850 \nMister and Sunbird bring their rollicking\, adventurous sets of rock and roots and roll to Margaret River for a Saturday night at Settlers Tavern with the full band in tow. Raw blues\, luscious latin and loose ass live electro coil together; wild rhythms and sublime solos will be flowing like the wine from the vines\, come on down and boogie!
URL:https://www.settlerstavern.com/event/mister-and-sunbird-2/
LOCATION:Settlers Tavern\, 114 Bussell Hwy\, Margaret River\, WA\, 6285\, Australia
CATEGORIES:Blues,Latin,Live Music,Live Music Australia,Music,Rock,Roots
ATTACH;FMTTYPE=image/jpeg:https://www.settlerstavern.com/wp-content/uploads/2024/04/MS-Settlers-Aug-6-01-scaled-1.jpg
GEO:-33.9498;115.0736
X-APPLE-STRUCTURED-LOCATION;VALUE=URI;X-ADDRESS=Settlers Tavern 114 Bussell Hwy Margaret River WA 6285 Australia;X-APPLE-RADIUS=500;X-TITLE=114 Bussell Hwy:geo:115.0736,-33.9498
END:VEVENT
BEGIN:VEVENT
DTSTART;TZID=Australia/Perth:20220827T210000
DTEND;TZID=Australia/Perth:20220827T210000
DTSTAMP:20260426T122455
CREATED:20220727T222802Z
LAST-MODIFIED:20240530T054659Z
UID:10000742-1661634000-1661634000@www.settlerstavern.com
SUMMARY:Eli Greeneyes - Single Launch Ft. Sprinter
DESCRIPTION:FREE ENTRY\nFacebook event: https://www.facebook.com/events/422952173123772/ \nBacked by a captivating live band\, ELI GREENEYES rocks a fresh\, anthemic sound that stands alone and can’t quite be defined by any one genre. The raw and powerful voice being the glue that holds it all together. Its distorted guitars\, large trap and hip-hop beats with honest\, commanding\, and relatable lyrics that act as a looking glass into this soul bearing artist.\n“The last few years have already seen Eli Greeneyes assert himself as one of the finest musicians in the country today\, but with the release of new single “PEOPLE”\, he’s proven that we’re only just starting to witness his full potential”. Tyler Jenke\, Rolling Stone Australia\n“Eli sounds like a singer possessed when he fronts a big song like this. The spirits in question could very well be Bono\, Damon Albarn and the like given the anthemic effect”. – Dave Ruby Howe\, Triple J Unearthed\nWith Special Guests SPRINTER
URL:https://www.settlerstavern.com/event/eli-greeneyes-single-launch-settlers-tavern-ft-sprinter/
LOCATION:Settlers Tavern\, 114 Bussell Hwy\, Margaret River\, WA\, 6285\, Australia
CATEGORIES:Live Music Australia,Music,Pop,Rock
ATTACH;FMTTYPE=image/jpeg:https://www.settlerstavern.com/wp-content/uploads/2024/04/photo-outputweb.jpg
GEO:-33.9498;115.0736
X-APPLE-STRUCTURED-LOCATION;VALUE=URI;X-ADDRESS=Settlers Tavern 114 Bussell Hwy Margaret River WA 6285 Australia;X-APPLE-RADIUS=500;X-TITLE=114 Bussell Hwy:geo:115.0736,-33.9498
END:VEVENT
END:VCALENDAR