BEGIN:VCALENDAR
VERSION:2.0
PRODID:-//Settlers Tavern - ECPv6.15.20//NONSGML v1.0//EN
CALSCALE:GREGORIAN
METHOD:PUBLISH
X-WR-CALNAME:Settlers Tavern
X-ORIGINAL-URL:https://www.settlerstavern.com
X-WR-CALDESC:Events for Settlers Tavern
REFRESH-INTERVAL;VALUE=DURATION:PT1H
X-Robots-Tag:noindex
X-PUBLISHED-TTL:PT1H
BEGIN:VTIMEZONE
TZID:Australia/Perth
BEGIN:STANDARD
TZOFFSETFROM:+0800
TZOFFSETTO:+0800
TZNAME:AWST
DTSTART:20210101T000000
END:STANDARD
END:VTIMEZONE
BEGIN:VEVENT
DTSTART;TZID=Australia/Perth:20221218T153000
DTEND;TZID=Australia/Perth:20221218T183000
DTSTAMP:20260424T231910
CREATED:20221204T200450Z
LAST-MODIFIED:20240530T054818Z
UID:10000793-1671377400-1671388200@www.settlerstavern.com
SUMMARY:Spiff & Fifi
DESCRIPTION:FREE ENTRY\n‘SPIFF & FIFI’ return to Settlers for a Sunday afternoon sesh of your fave tunes from the 60’s and 70’s with a tasty sprinkle of smokin’ originals!\nExpect to hear their 2021 hit single\, ‘Stumblin’ In’ and maybe even a special acoustic version from Fiona’s 90’s legendary electro-rock band\, Def FX!\nAnd what would Christmas be without some rockin’ versions of ‘Santa Baby\,’ ‘Silent Night’ and ‘Run Run Rudolph’ thrown in?!
URL:https://www.settlerstavern.com/event/spiff-fifi/
LOCATION:Settlers Tavern\, 114 Bussell Hwy\, Margaret River\, WA\, 6285\, Australia
CATEGORIES:Live Music Australia,Music,RnB,Rock
ATTACH;FMTTYPE=image/jpeg:https://www.settlerstavern.com/wp-content/uploads/2024/04/spifffifi.jpg
GEO:-33.9498;115.0736
X-APPLE-STRUCTURED-LOCATION;VALUE=URI;X-ADDRESS=Settlers Tavern 114 Bussell Hwy Margaret River WA 6285 Australia;X-APPLE-RADIUS=500;X-TITLE=114 Bussell Hwy:geo:115.0736,-33.9498
END:VEVENT
END:VCALENDAR