BEGIN:VCALENDAR
VERSION:2.0
PRODID:-//Settlers Tavern - ECPv6.15.20//NONSGML v1.0//EN
CALSCALE:GREGORIAN
METHOD:PUBLISH
X-WR-CALNAME:Settlers Tavern
X-ORIGINAL-URL:https://www.settlerstavern.com
X-WR-CALDESC:Events for Settlers Tavern
REFRESH-INTERVAL;VALUE=DURATION:PT1H
X-Robots-Tag:noindex
X-PUBLISHED-TTL:PT1H
BEGIN:VTIMEZONE
TZID:Australia/Perth
BEGIN:STANDARD
TZOFFSETFROM:+0800
TZOFFSETTO:+0800
TZNAME:AWST
DTSTART:20210101T000000
END:STANDARD
END:VTIMEZONE
BEGIN:VEVENT
DTSTART;TZID=Australia/Perth:20221217T210000
DTEND;TZID=Australia/Perth:20221217T210000
DTSTAMP:20260426T082855
CREATED:20221207T173159Z
LAST-MODIFIED:20240530T054825Z
UID:10000795-1671310800-1671310800@www.settlerstavern.com
SUMMARY:Sgt. Hulka
DESCRIPTION:FREE ENTRY\nFacebook event \nAfter impressing audiences at Blues at Bridgetown and National TV for Telethon\, Sgt. Hulka is making a trip to Margs to play at the iconic Settlers Tavern.\nSgt. Hulka is a female Soul Pop singer/pianist and self confessed ‘sparkles’ addict from Fremantle\, WA. Inspired by artists spanning many different decades\, Sgt. Hulka’s music evokes a sense of nostalgia with melodic hooks that will be stuck in your head for days. She’s a performer that can hold an audience in the palm of your hand.\nOn stage\, her 7 piece band bring infectious energy that is perfectly paired with her powerful vocals and charismatic performance.\n“Backed by an amazing band\, Sgt Hulka is immediately engaging\, the joy of music is evident all over singer Kirsty’s face….It’s easy to be impressed by this outfit who obviously have a close rapport with each other and work hard on their craft. I was left with a feeling Pure joy after the show!” – Serial Music Magazine\nMusic starts from 9:30pm\nFree Entry\nSparkles encouraged
URL:https://www.settlerstavern.com/event/sgt-hulka/
LOCATION:Settlers Tavern\, 114 Bussell Hwy\, Margaret River\, WA\, 6285\, Australia
CATEGORIES:Live Music,Live Music Australia,Music,Pop,Soul
ATTACH;FMTTYPE=image/png:https://www.settlerstavern.com/wp-content/uploads/2024/04/websgthulka.png
GEO:-33.9498;115.0736
X-APPLE-STRUCTURED-LOCATION;VALUE=URI;X-ADDRESS=Settlers Tavern 114 Bussell Hwy Margaret River WA 6285 Australia;X-APPLE-RADIUS=500;X-TITLE=114 Bussell Hwy:geo:115.0736,-33.9498
END:VEVENT
END:VCALENDAR