BEGIN:VCALENDAR
VERSION:2.0
PRODID:-//Settlers Tavern - ECPv6.15.18//NONSGML v1.0//EN
CALSCALE:GREGORIAN
METHOD:PUBLISH
X-ORIGINAL-URL:https://www.settlerstavern.com
X-WR-CALDESC:Events for Settlers Tavern
REFRESH-INTERVAL;VALUE=DURATION:PT1H
X-Robots-Tag:noindex
X-PUBLISHED-TTL:PT1H
BEGIN:VTIMEZONE
TZID:Australia/Perth
BEGIN:STANDARD
TZOFFSETFROM:+0800
TZOFFSETTO:+0800
TZNAME:AWST
DTSTART:20250101T000000
END:STANDARD
END:VTIMEZONE
BEGIN:VEVENT
DTSTART;TZID=Australia/Perth:20260116T210000
DTEND;TZID=Australia/Perth:20260116T233000
DTSTAMP:20260421T201250
CREATED:20251205T044237Z
LAST-MODIFIED:20251205T044237Z
UID:10001064-1768597200-1768606200@www.settlerstavern.com
SUMMARY:LATIN PARTY w/ DIEGO
DESCRIPTION:Join us for a BOOGIE! Pimp your money maker and bring your mama and nana to the dance floor. Settlers opens its doors for another volume of our proclaimed FUNKY SESSIONS. All time grooves\, funky latin rhythms and deep house return to the best pub in the South West by Diego de Camino. Connect with the music\, connect with yourself!
URL:https://www.settlerstavern.com/event/latin-party-w-diego-9/
LOCATION:Settlers Tavern\, 114 Bussell Hwy\, Margaret River\, WA\, 6285\, Australia
CATEGORIES:DJ,Latin
ATTACH;FMTTYPE=image/png:https://www.settlerstavern.com/wp-content/uploads/2024/06/Screen-Shot-2024-06-28-at-10.18.08-am.png
GEO:-33.9498;115.0736
X-APPLE-STRUCTURED-LOCATION;VALUE=URI;X-ADDRESS=Settlers Tavern 114 Bussell Hwy Margaret River WA 6285 Australia;X-APPLE-RADIUS=500;X-TITLE=114 Bussell Hwy:geo:115.0736,-33.9498
END:VEVENT
BEGIN:VEVENT
DTSTART;TZID=Australia/Perth:20260124T210000
DTEND;TZID=Australia/Perth:20260124T233000
DTSTAMP:20260421T201250
CREATED:20251210T050320Z
LAST-MODIFIED:20251210T050320Z
UID:10001065-1769288400-1769297400@www.settlerstavern.com
SUMMARY:Junkadelic
DESCRIPTION:The Junkadelic Brass Band brings that massive\, celebratory funk energy—inspired by the New Orleans street sound! Expect smooth horns\, driving beats\, and an explosive mix of funk\, hip-hop\, and second-line grooves that will have you dancing on the tables. Don’t miss this high-octane spectacle—grab a pint and get down!
URL:https://www.settlerstavern.com/event/junkadelic/
LOCATION:Settlers Tavern\, 114 Bussell Hwy\, Margaret River\, WA\, 6285\, Australia
CATEGORIES:Funk,Hip Hop,Latin,Live Music,Live Music Australia
ATTACH;FMTTYPE=image/jpeg:https://www.settlerstavern.com/wp-content/uploads/2025/12/Website-banner-template-6.jpg
GEO:-33.9498;115.0736
X-APPLE-STRUCTURED-LOCATION;VALUE=URI;X-ADDRESS=Settlers Tavern 114 Bussell Hwy Margaret River WA 6285 Australia;X-APPLE-RADIUS=500;X-TITLE=114 Bussell Hwy:geo:115.0736,-33.9498
END:VEVENT
END:VCALENDAR