BEGIN:VCALENDAR
VERSION:2.0
PRODID:-//Settlers Tavern - ECPv6.15.18//NONSGML v1.0//EN
CALSCALE:GREGORIAN
METHOD:PUBLISH
X-ORIGINAL-URL:https://www.settlerstavern.com
X-WR-CALDESC:Events for Settlers Tavern
REFRESH-INTERVAL;VALUE=DURATION:PT1H
X-Robots-Tag:noindex
X-PUBLISHED-TTL:PT1H
BEGIN:VTIMEZONE
TZID:Australia/Perth
BEGIN:STANDARD
TZOFFSETFROM:+0800
TZOFFSETTO:+0800
TZNAME:AWST
DTSTART:20230101T000000
END:STANDARD
END:VTIMEZONE
BEGIN:VEVENT
DTSTART;TZID=Australia/Perth:20240913T210000
DTEND;TZID=Australia/Perth:20240913T233000
DTSTAMP:20260423T074105
CREATED:20240823T033055Z
LAST-MODIFIED:20240823T033456Z
UID:10000855-1726261200-1726270200@www.settlerstavern.com
SUMMARY:LATIN PARTY
DESCRIPTION:Latin Party at Settlers Tavern \nGet ready to feel the rhythm and heat up the dance floor with our Latin Party DJ night! Join us as we kick off a weekend of International Chilean Independence Day celebrations\, bringing you the best of Latino beats\, energy\, and vibrant party vibes. From salsa and reggaeton to Cumbia and merengue\, our Latin DJ will keep the music pumping and the dance floor packed all night long. \nGrab your friends and let’s celebrate with great music\, dancing\, and drinks – Latino style!
URL:https://www.settlerstavern.com/event/latin-party/
LOCATION:Settlers Tavern\, 114 Bussell Hwy\, Margaret River\, WA\, 6285\, Australia
CATEGORIES:DJ,Latin
ATTACH;FMTTYPE=image/png:https://www.settlerstavern.com/wp-content/uploads/2024/08/chilean-1.png
GEO:-33.9498;115.0736
X-APPLE-STRUCTURED-LOCATION;VALUE=URI;X-ADDRESS=Settlers Tavern 114 Bussell Hwy Margaret River WA 6285 Australia;X-APPLE-RADIUS=500;X-TITLE=114 Bussell Hwy:geo:115.0736,-33.9498
END:VEVENT
BEGIN:VEVENT
DTSTART;TZID=Australia/Perth:20240914T210000
DTEND;TZID=Australia/Perth:20240914T233000
DTSTAMP:20260423T074105
CREATED:20240823T033802Z
LAST-MODIFIED:20240904T025825Z
UID:10000856-1726347600-1726356600@www.settlerstavern.com
SUMMARY:BARRIO 8
DESCRIPTION:Barrio 8 is a Perth-based band consisting of 7 talented musicians with strong Chilean roots. Specialising in traditional Chilean music\, particularly Cumbias\, Barrio 8 brings the vibrant sounds of Chile to life. Their performance on Saturday\, September 14th is a special occasion as it coincides with Chilean Independence Day (Dieciocho or Fiestas Patrias). This marks the very first time Settlers Tavern will host this celebration\, bringing together the small Chilean and Latin community of Margaret River and the surrounding areas. \nJoin us for an unforgettable night of Chilean music\, culture\, and celebration with Barrio 8!
URL:https://www.settlerstavern.com/event/barrio-8/
LOCATION:Settlers Tavern\, 114 Bussell Hwy\, Margaret River\, WA\, 6285\, Australia
CATEGORIES:Latin,Live Music,Live Music Australia,Rock
ATTACH;FMTTYPE=application/pdf:https://www.settlerstavern.com/wp-content/uploads/2024/08/DIECIOCHO-IN-MARGARET-RIVER-PDF.pdf
GEO:-33.9498;115.0736
X-APPLE-STRUCTURED-LOCATION;VALUE=URI;X-ADDRESS=Settlers Tavern 114 Bussell Hwy Margaret River WA 6285 Australia;X-APPLE-RADIUS=500;X-TITLE=114 Bussell Hwy:geo:115.0736,-33.9498
END:VEVENT
BEGIN:VEVENT
DTSTART;TZID=Australia/Perth:20240915T150000
DTEND;TZID=Australia/Perth:20240915T180000
DTSTAMP:20260423T074105
CREATED:20240823T042027Z
LAST-MODIFIED:20240906T002652Z
UID:10000857-1726412400-1726423200@www.settlerstavern.com
SUMMARY:CHARROS DE MARGARITA LIVE CUMBIA
DESCRIPTION:Get ready for the ultimate daytime Latin party fiesta\, bringing the legendary Latin night vibes to our Sunday session! Kickstart your afternoon with a spicy celebration full of live music\, dance\, and vibrant flavours as we honour Chilean Independence Day and welcome the new spring season. It’s going to be an epic\, unmissable fiesta! \n  \n\n3:30 PM Live music by Charros de Margarita.\n5:00 PM: Folk dance performance by two talented dancers.\n5:30 PM: DJ set\, keeping the energy high and the crowd moving. Event wraps up by 7:00 PM.
URL:https://www.settlerstavern.com/event/charros/
LOCATION:Settlers Tavern\, 114 Bussell Hwy\, Margaret River\, WA\, 6285\, Australia
CATEGORIES:Latin,Live Music,Live Music Australia
ATTACH;FMTTYPE=image/png:https://www.settlerstavern.com/wp-content/uploads/2024/08/chilean-1.png
GEO:-33.9498;115.0736
X-APPLE-STRUCTURED-LOCATION;VALUE=URI;X-ADDRESS=Settlers Tavern 114 Bussell Hwy Margaret River WA 6285 Australia;X-APPLE-RADIUS=500;X-TITLE=114 Bussell Hwy:geo:115.0736,-33.9498
END:VEVENT
END:VCALENDAR