BEGIN:VCALENDAR
VERSION:2.0
PRODID:-//Settlers Tavern - ECPv6.15.20//NONSGML v1.0//EN
CALSCALE:GREGORIAN
METHOD:PUBLISH
X-ORIGINAL-URL:https://www.settlerstavern.com
X-WR-CALDESC:Events for Settlers Tavern
REFRESH-INTERVAL;VALUE=DURATION:PT1H
X-Robots-Tag:noindex
X-PUBLISHED-TTL:PT1H
BEGIN:VTIMEZONE
TZID:Australia/Perth
BEGIN:STANDARD
TZOFFSETFROM:+0800
TZOFFSETTO:+0800
TZNAME:AWST
DTSTART:20210101T000000
END:STANDARD
END:VTIMEZONE
BEGIN:VEVENT
DTSTART;TZID=Australia/Perth:20220903T210000
DTEND;TZID=Australia/Perth:20220903T210000
DTSTAMP:20260425T224258
CREATED:20220810T180408Z
LAST-MODIFIED:20240530T054705Z
UID:10000746-1662238800-1662238800@www.settlerstavern.com
SUMMARY:Black Box W.A Tour - Melody Myla x Joe Snow x Able8
DESCRIPTION:FREE ENTRY\nFacebook event: https://www.facebook.com/events/379898457439128 \nUncomfortable Beats crew are coming to Western Australia! \nTo celebrate the release of British vocalist MELODY MYLA’s incredible new vinyl record ‘Black Box’ \, We have assembled artists from Victoria\, Perth and Margaret River to curate a jam-packed weekend of Music across both regional W.A. and Perth.\n\nGENRE: Boom-Bap / Soul-Jazz / Hip-Hop / Electronic Beats\n\nLINE UP:\nMelody Myla\nJoe Snow\nAble8\nSOMA (PERTH)\nNONENTITY\nSK\n\nBlack Box is a Soul-Jazz inspired Hip-Hop release written by British singer-songwriter Melody Myla. The vinyl-only album features Melody’s truth-resonating lyrics\, laid beautifully over experimental crackly beats\, produced by Melbourne beat-smith Tarnay.\nOutside of her new record\, Melody’s vocalized stories can be heard on countless releases across the globe. She carries an accomplished career and discography\, collaborating with cutting edge beat-makers and producers from all corners of the globe.\n\nMORE INFO ABOUT BLACK BOX:\n https://fanlink.to/BlackBoxVinyl \n\nAn artist who should need little introduction to fans of UK Hip-Hop is esteemed lyricist JOE SNOW. Known for both his solo discography plus work with Leed’s crew ‘Defenders Of Style’ \, Snow has been killing it for many years\, recently dropping a Rapper Tag and unveiling a collaboration with Jam Baxter from his upcoming album. He also works with crew Hi Trax and labels like Scratches Records and Pang Productions.\nAble8 (The Operatives) will be performing live beats\, plus DJing a mix of his own solid productions\, including some songs from his alias RaptorHandz. Having worked with many labels across the globe\, plus chief at Uncomfortable beats – the Melbourne based artists is sure to bring an expansive musical repertoire of tracks and collaborations to showcase.\nBeefing up the line-up will be DJ/Producer NONENTITY\, flawless Selekta SK\, plus Perth lyricist MC SOMA.\n\nABOUT US:\nUncomfortable Beats is a Melbourne-based music label and worldwide collective\, dedicated to the sounds of Experimental Beats\, Hip-Hop and Bass-Music.\nSince 2011 they have been steadily pushing cutting edge electronic music across a range of local residencies and international shows\, releasing music from top emerging artists based in the UK\, Europe\, USA\, Australia and more.\n—\n@uncomfortablebeats\nwww.soundcloud.com/uncomfortablebeats\nwww.uncomfortablebeats.com\nwww.bandcamp.com/uncomfortablebeats
URL:https://www.settlerstavern.com/event/black-box-w-a-tour-melody-myla-x-joe-snow-x-able8/
LOCATION:Settlers Tavern\, 114 Bussell Hwy\, Margaret River\, WA\, 6285\, Australia
CATEGORIES:Electronic,Hip Hop,Jazz,Music,Soul
ATTACH;FMTTYPE=image/jpeg:https://www.settlerstavern.com/wp-content/uploads/2024/04/MELODY-WEB-MARGARET-RIVER.jpg
GEO:-33.9498;115.0736
X-APPLE-STRUCTURED-LOCATION;VALUE=URI;X-ADDRESS=Settlers Tavern 114 Bussell Hwy Margaret River WA 6285 Australia;X-APPLE-RADIUS=500;X-TITLE=114 Bussell Hwy:geo:115.0736,-33.9498
END:VEVENT
END:VCALENDAR