BEGIN:VCALENDAR
VERSION:2.0
PRODID:-//Settlers Tavern - ECPv6.15.20//NONSGML v1.0//EN
CALSCALE:GREGORIAN
METHOD:PUBLISH
X-WR-CALNAME:Settlers Tavern
X-ORIGINAL-URL:https://www.settlerstavern.com
X-WR-CALDESC:Events for Settlers Tavern
REFRESH-INTERVAL;VALUE=DURATION:PT1H
X-Robots-Tag:noindex
X-PUBLISHED-TTL:PT1H
BEGIN:VTIMEZONE
TZID:Australia/Perth
BEGIN:STANDARD
TZOFFSETFROM:+0800
TZOFFSETTO:+0800
TZNAME:AWST
DTSTART:20230101T000000
END:STANDARD
END:VTIMEZONE
BEGIN:VEVENT
DTSTART;TZID=Australia/Perth:20240714T150000
DTEND;TZID=Australia/Perth:20240714T180000
DTSTAMP:20260423T223248
CREATED:20240621T022523Z
LAST-MODIFIED:20240621T031642Z
UID:10000824-1720969200-1720980000@www.settlerstavern.com
SUMMARY:ROD COOTE
DESCRIPTION:Rod Coote is a rising singer-songwriter who has established a loyal community of listeners around his warm heartfelt indie folk style music through touring nationally supporting Australian acts including The Dreggs\, Kyle Lionhart\, Morgan Evans\, Kyle Lionhart and continuing to build a grassroots following busking along the Australian coastline. Rod is playing his first show in Margaret River at Settlers Tavern on the 14th July. \nThe independent artist’s music produced by platinum-award winning producer Garrett Kato (Ziggy Alberts\, Jack Botts\, Kim Churchill) has accumulated over 4 million streams across Spotify and Apple Music with the support of airplay on Triple J Radio\, supporting acts on national tours and quickly gaining a genuine grassroots following from busking around Australia’s coastline. \n2024 will see Rod Coote playing his first headline Australian tour both the east and west coast before heading overseas to play his first shows in Europe promoting his new single ‘Blue Lake’\, a sincere song about the realities of adulthood and maturing through lived experiences.
URL:https://www.settlerstavern.com/event/rod-coote/
LOCATION:Settlers Tavern\, 114 Bussell Hwy\, Margaret River\, WA\, 6285\, Australia
CATEGORIES:Coastal,Folk,Indie,Live Music,Live Music Australia
ATTACH;FMTTYPE=image/jpeg:https://www.settlerstavern.com/wp-content/uploads/2024/06/High-Res-Press-Shot-scaled.jpg
GEO:-33.9498;115.0736
X-APPLE-STRUCTURED-LOCATION;VALUE=URI;X-ADDRESS=Settlers Tavern 114 Bussell Hwy Margaret River WA 6285 Australia;X-APPLE-RADIUS=500;X-TITLE=114 Bussell Hwy:geo:115.0736,-33.9498
END:VEVENT
END:VCALENDAR