BEGIN:VCALENDAR
VERSION:2.0
PRODID:-//Settlers Tavern - ECPv6.15.20//NONSGML v1.0//EN
CALSCALE:GREGORIAN
METHOD:PUBLISH
X-WR-CALNAME:Settlers Tavern
X-ORIGINAL-URL:https://www.settlerstavern.com
X-WR-CALDESC:Events for Settlers Tavern
REFRESH-INTERVAL;VALUE=DURATION:PT1H
X-Robots-Tag:noindex
X-PUBLISHED-TTL:PT1H
BEGIN:VTIMEZONE
TZID:Australia/Perth
BEGIN:STANDARD
TZOFFSETFROM:+0800
TZOFFSETTO:+0800
TZNAME:AWST
DTSTART:20230101T000000
END:STANDARD
END:VTIMEZONE
BEGIN:VEVENT
DTSTART;TZID=Australia/Perth:20240421T153000
DTEND;TZID=Australia/Perth:20240421T183000
DTSTAMP:20260424T051020
CREATED:20240307T172154Z
LAST-MODIFIED:20240530T052527Z
UID:10000494-1713713400-1713724200@www.settlerstavern.com
SUMMARY:JC & THE TREE
DESCRIPTION:JC and the Tree create brilliant soundscapes that elevate you into timeless visions of all things connected to nature and the world beyond. Inspired by their hometown of Sunshine Coast\, this indie-folk duo writes melodies about all things from the mountains to the sea and life between. The heartfelt violin playing from JC soars as the warm rich tones of the Tree set a benchmark that transcends the ordinary music lovers ear. Their voices blend beautifully in harmony as they play their range of original indie/folk tunes. Pushing boundaries they take their audiences on a journey through genres including gypsy/spanish violin pieces\, folk/metal rock songs\, funky wah-wah violin grooves and soulful piano ballads. Music is a language beyond words and JC and the Tree are inspired to use it as a tool to bring all walks of life together. \nMotivated by their love of nature they offer native seeds with each CD or vinyl along with plastic free packaging. The duo have gone to great lengths to offer ethical and sustainable merchandise. Music is a language beyond words and JC and the Tree are inspired to use it as a tool to bring all walks of life together.
URL:https://www.settlerstavern.com/event/jc-the-tree/
LOCATION:Settlers Tavern\, 114 Bussell Hwy\, Margaret River\, WA\, 6285\, Australia
CATEGORIES:Folk,Indie,Live Music,Live Music Australia,Music
ATTACH;FMTTYPE=image/jpeg:https://www.settlerstavern.com/wp-content/uploads/2024/04/JC-the-Tree-Sunflowers.jpg
GEO:-33.9498;115.0736
X-APPLE-STRUCTURED-LOCATION;VALUE=URI;X-ADDRESS=Settlers Tavern 114 Bussell Hwy Margaret River WA 6285 Australia;X-APPLE-RADIUS=500;X-TITLE=114 Bussell Hwy:geo:115.0736,-33.9498
END:VEVENT
END:VCALENDAR