BEGIN:VCALENDAR
VERSION:2.0
PRODID:-//Settlers Tavern - ECPv6.15.20//NONSGML v1.0//EN
CALSCALE:GREGORIAN
METHOD:PUBLISH
X-ORIGINAL-URL:https://www.settlerstavern.com
X-WR-CALDESC:Events for Settlers Tavern
REFRESH-INTERVAL;VALUE=DURATION:PT1H
X-Robots-Tag:noindex
X-PUBLISHED-TTL:PT1H
BEGIN:VTIMEZONE
TZID:Australia/Perth
BEGIN:STANDARD
TZOFFSETFROM:+0800
TZOFFSETTO:+0800
TZNAME:AWST
DTSTART:20210101T000000
END:STANDARD
END:VTIMEZONE
BEGIN:VEVENT
DTSTART;TZID=Australia/Perth:20221127T030000
DTEND;TZID=Australia/Perth:20221127T180000
DTSTAMP:20260426T103728
CREATED:20221116T192452Z
LAST-MODIFIED:20240530T054807Z
UID:10000786-1669518000-1669572000@www.settlerstavern.com
SUMMARY:Infinity Sisters
DESCRIPTION:FREE ENTRY\nFacebook event: facebook.com/events/1194286034770960 \n\nAs part of the JaZaza Collective this Dynamic Duo of Sisters will bring you original and cover songs for your chill Sunday in the beer garden of the Settlers Tavern in Margaret River!\nCome and vibe with us\,\nSee you Sunday x
URL:https://www.settlerstavern.com/event/jazaza-collective-2/
LOCATION:Settlers Tavern\, 114 Bussell Hwy\, Margaret River\, WA\, 6285\, Australia
CATEGORIES:Bossa Nova,Flamenco,Funk,Live Music Australia,Music,Reggae
ATTACH;FMTTYPE=image/jpeg:https://www.settlerstavern.com/wp-content/uploads/2024/04/infinity-sisters.jpeg
GEO:-33.9498;115.0736
X-APPLE-STRUCTURED-LOCATION;VALUE=URI;X-ADDRESS=Settlers Tavern 114 Bussell Hwy Margaret River WA 6285 Australia;X-APPLE-RADIUS=500;X-TITLE=114 Bussell Hwy:geo:115.0736,-33.9498
END:VEVENT
END:VCALENDAR