BEGIN:VCALENDAR
VERSION:2.0
PRODID:-//Settlers Tavern - ECPv6.15.18//NONSGML v1.0//EN
CALSCALE:GREGORIAN
METHOD:PUBLISH
X-ORIGINAL-URL:https://www.settlerstavern.com
X-WR-CALDESC:Events for Settlers Tavern
REFRESH-INTERVAL;VALUE=DURATION:PT1H
X-Robots-Tag:noindex
X-PUBLISHED-TTL:PT1H
BEGIN:VTIMEZONE
TZID:Australia/Perth
BEGIN:STANDARD
TZOFFSETFROM:+0800
TZOFFSETTO:+0800
TZNAME:AWST
DTSTART:20240101T000000
END:STANDARD
END:VTIMEZONE
BEGIN:VEVENT
DTSTART;TZID=Australia/Perth:20250802T210000
DTEND;TZID=Australia/Perth:20250802T233000
DTSTAMP:20260423T012225
CREATED:20250708T030624Z
LAST-MODIFIED:20250711T072149Z
UID:10000992-1754168400-1754177400@www.settlerstavern.com
SUMMARY:MUSIC FOR THE PEOPLE
DESCRIPTION:A high-energy DJ experience blending tech house grooves with vibrant Afro and Latin influences. Expect deep rhythms\, percussive flair\, and hypnotic beats designed to move the crowd. Accompanied by live surreal visuals\, the night transforms into a visually immersive journey – cool\, sophisticated\, and unforgettable. This is more than a party\, it’s a vibe for the people.
URL:https://www.settlerstavern.com/event/music-for-the-people-2/
LOCATION:Settlers Tavern\, 114 Bussell Hwy\, Margaret River\, WA\, 6285\, Australia
CATEGORIES:Funk,House
ATTACH;FMTTYPE=image/jpeg:https://www.settlerstavern.com/wp-content/uploads/2025/07/1000090414-e1752218379407.jpeg
GEO:-33.9498;115.0736
X-APPLE-STRUCTURED-LOCATION;VALUE=URI;X-ADDRESS=Settlers Tavern 114 Bussell Hwy Margaret River WA 6285 Australia;X-APPLE-RADIUS=500;X-TITLE=114 Bussell Hwy:geo:115.0736,-33.9498
END:VEVENT
BEGIN:VEVENT
DTSTART;TZID=Australia/Perth:20250823T210000
DTEND;TZID=Australia/Perth:20250823T233000
DTSTAMP:20260423T012225
CREATED:20250807T111303Z
LAST-MODIFIED:20250807T111422Z
UID:10001006-1755982800-1755991800@www.settlerstavern.com
SUMMARY:The Last AvoCado
DESCRIPTION:The Last AvoCado is a band you can’t ignore\, led by the dynamic and energetic Zoe Merralls\, whose blend of humor\, style\, and raw talent is the heart and soul of the band. With Zoe’s signature lipstick\, oversized earrings\, headwear flair\, and undeniable stage presence\, Zoe is the perfect match for a band that’s anything but ordinary. Though they may be relatively new to the scene\, The Last AvoCado is quickly gaining a reputation for their electrifying live shows and genre-bending sound. A fusion of modern blues\, funk\, and rock\, they bring an undeniable “sauce” to everything they do. Their music is all about telling stories\, making you laugh\, and making you think\, but most importantly\, making you move.
URL:https://www.settlerstavern.com/event/the-last-avocado/
LOCATION:Settlers Tavern\, 114 Bussell Hwy\, Margaret River\, WA\, 6285\, Australia
CATEGORIES:Blues,Funk,Live Music,Live Music Australia,Rock
ATTACH;FMTTYPE=image/jpeg:https://www.settlerstavern.com/wp-content/uploads/2025/08/IMG_1119.jpeg
GEO:-33.9498;115.0736
X-APPLE-STRUCTURED-LOCATION;VALUE=URI;X-ADDRESS=Settlers Tavern 114 Bussell Hwy Margaret River WA 6285 Australia;X-APPLE-RADIUS=500;X-TITLE=114 Bussell Hwy:geo:115.0736,-33.9498
END:VEVENT
END:VCALENDAR