BEGIN:VCALENDAR
VERSION:2.0
PRODID:-//Settlers Tavern - ECPv6.15.18//NONSGML v1.0//EN
CALSCALE:GREGORIAN
METHOD:PUBLISH
X-ORIGINAL-URL:https://www.settlerstavern.com
X-WR-CALDESC:Events for Settlers Tavern
REFRESH-INTERVAL;VALUE=DURATION:PT1H
X-Robots-Tag:noindex
X-PUBLISHED-TTL:PT1H
BEGIN:VTIMEZONE
TZID:Australia/Perth
BEGIN:STANDARD
TZOFFSETFROM:+0800
TZOFFSETTO:+0800
TZNAME:AWST
DTSTART:20180101T000000
END:STANDARD
END:VTIMEZONE
BEGIN:VEVENT
DTSTART;TZID=Australia/Perth:20221002T150000
DTEND;TZID=Australia/Perth:20221002T170000
DTSTAMP:20260422T233455
CREATED:20220914T202119Z
LAST-MODIFIED:20240530T054724Z
UID:10000660-1664722800-1664730000@www.settlerstavern.com
SUMMARY:Tanya Ransom
DESCRIPTION:FREE EVENT\nfacebook.com/tanyaransommusic \nCaptivating\, moving and truly salt of the earth. Tanya Ransom weaves her signature sound of folk blues and alt-country amongst ornate melodies and powerful vocals. Awarded WAM Best Regional Act of 2020\, the Kimberley songstress holds audiences attentive with her unassuming warmth and personality\, leaving you yearning for more.
URL:https://www.settlerstavern.com/event/tanya-ransom-2-3/
LOCATION:Settlers Tavern\, 114 Bussell Hwy\, Margaret River\, WA\, 6285\, Australia
CATEGORIES:Blues,Country,Folk,Live Music Australia,Music
ATTACH;FMTTYPE=image/jpeg:https://www.settlerstavern.com/wp-content/uploads/2024/03/SELECT-Tanya-Ransom-Promo-WEB.jpg
GEO:-33.9498;115.0736
X-APPLE-STRUCTURED-LOCATION;VALUE=URI;X-ADDRESS=Settlers Tavern 114 Bussell Hwy Margaret River WA 6285 Australia;X-APPLE-RADIUS=500;X-TITLE=114 Bussell Hwy:geo:115.0736,-33.9498
END:VEVENT
BEGIN:VEVENT
DTSTART;TZID=Australia/Perth:20220703T150000
DTEND;TZID=Australia/Perth:20220703T180000
DTSTAMP:20260422T233455
CREATED:20220601T205905Z
LAST-MODIFIED:20240530T054615Z
UID:10000720-1656860400-1656871200@www.settlerstavern.com
SUMMARY:Ricky Green
DESCRIPTION:FREE EVENT\nFacebook event: https://www.facebook.com/events/1912456232273525/ \nRicky Green is a singer/songwriter from Secret Harbour W.A. Ricky picked up a guitar and started writing songs whilst traveling at 20 years old. Since then he hasn’t put it down\, He’s spent the last 12 years playing all around the world and is known by many to be one of the most gigging Musicians in Western Australia. Known best for his silky smooth vocals and honest\, imaginative song writing he’s supported some of the greats\, musicians like John Butler\, The Cat Empire and Russel Morris to name a few. When he’s not on stage performing somewhere in Perth\, you might find him busking in Fremantle\, live streaming on Facebook or writing and recording songs in his studio.\nWith plenty of free time in 2020/21 after the covid 19 lockdown\, Ricky has had a lot of time to record new music and he is gearing up to release his 3rd EP in 2022
URL:https://www.settlerstavern.com/event/ricky-green/
LOCATION:Settlers Tavern\, 114 Bussell Hwy\, Margaret River\, WA\, 6285\, Australia
CATEGORIES:Acoustic,Folk,Live Music Australia,Music
ATTACH;FMTTYPE=image/jpeg:https://www.settlerstavern.com/wp-content/uploads/2024/04/RICKY-GREEN-JULY-3RD-web.jpg
GEO:-33.9498;115.0736
X-APPLE-STRUCTURED-LOCATION;VALUE=URI;X-ADDRESS=Settlers Tavern 114 Bussell Hwy Margaret River WA 6285 Australia;X-APPLE-RADIUS=500;X-TITLE=114 Bussell Hwy:geo:115.0736,-33.9498
END:VEVENT
BEGIN:VEVENT
DTSTART;TZID=Australia/Perth:20220626T150000
DTEND;TZID=Australia/Perth:20220626T173000
DTSTAMP:20260422T233455
CREATED:20220613T180709Z
LAST-MODIFIED:20240530T054636Z
UID:10000725-1656255600-1656264600@www.settlerstavern.com
SUMMARY:Crooked Brook
DESCRIPTION:FREE EVENT\nFacebook event: https://www.facebook.com/events/1000042140646047 \nGet ready to jig and jive with Margaret River’s own Irish folk band. Crooked Brook is back on the veranda for a Sunday session to bring you some winter cheer!
URL:https://www.settlerstavern.com/event/crooked-brook/
LOCATION:Settlers Tavern\, 114 Bussell Hwy\, Margaret River\, WA\, 6285\, Australia
CATEGORIES:Celtic,Folk,Live Music Australia,Music
ATTACH;FMTTYPE=image/jpeg:https://www.settlerstavern.com/wp-content/uploads/2024/04/Crooked-brook.jpg
GEO:-33.9498;115.0736
X-APPLE-STRUCTURED-LOCATION;VALUE=URI;X-ADDRESS=Settlers Tavern 114 Bussell Hwy Margaret River WA 6285 Australia;X-APPLE-RADIUS=500;X-TITLE=114 Bussell Hwy:geo:115.0736,-33.9498
END:VEVENT
BEGIN:VEVENT
DTSTART;TZID=Australia/Perth:20220605T150000
DTEND;TZID=Australia/Perth:20220605T170000
DTSTAMP:20260422T233455
CREATED:20220504T222937Z
LAST-MODIFIED:20240530T054602Z
UID:10000679-1654441200-1654448400@www.settlerstavern.com
SUMMARY:Short and Curly
DESCRIPTION:FREE ENTRY\nFacebook event: https://www.facebook.com/events/4905463156239741/ \nHow slick can you get before sacrificing heart and soul? It’s a question Bridgetown-based roots music duo Short & Curly ask every time they play. The secret is in their unstinting commitment to the songs: a varied swag of fine originals mixed with plenty of cannily selected covers.
URL:https://www.settlerstavern.com/event/short-and-curly-2-3/
LOCATION:Settlers Tavern\, 114 Bussell Hwy\, Margaret River\, WA\, 6285\, Australia
CATEGORIES:Blues,Country,Folk,Live Music Australia,Music,Reggae
ATTACH;FMTTYPE=image/jpeg:https://www.settlerstavern.com/wp-content/uploads/2024/04/web-Short-Curly-Settlers-Tavern-05-06-22.jpg
GEO:-33.9498;115.0736
X-APPLE-STRUCTURED-LOCATION;VALUE=URI;X-ADDRESS=Settlers Tavern 114 Bussell Hwy Margaret River WA 6285 Australia;X-APPLE-RADIUS=500;X-TITLE=114 Bussell Hwy:geo:115.0736,-33.9498
END:VEVENT
BEGIN:VEVENT
DTSTART;TZID=Australia/Perth:20220227T150000
DTEND;TZID=Australia/Perth:20220227T180000
DTSTAMP:20260422T233455
CREATED:20220217T180859Z
LAST-MODIFIED:20240530T054531Z
UID:10000688-1645974000-1645984800@www.settlerstavern.com
SUMMARY:Wil Thomas
DESCRIPTION:FREE ENTRY\nFacebook Event:https://www.facebook.com/events/1055167595029549/ \nA dusty blend of folk and rock\, with a nod to the blues\, Wil Thomas is a journeyman and a storyteller\, a laconic troubadour and the kind of artist you yearn to have at your fireside…… With his tales of Bush Rangers and modern-day political gangsters\, Thomas sings of redemption\, love and revolution. Weaving stories from a stormy Celtic coastline to the blood-red dirt of the Kimberly.
URL:https://www.settlerstavern.com/event/wil-thomas/
LOCATION:Settlers Tavern\, 114 Bussell Hwy\, Margaret River\, WA\, 6285\, Australia
CATEGORIES:Folk,Live Music Australia,Music,Rock
ATTACH;FMTTYPE=image/png:https://www.settlerstavern.com/wp-content/uploads/2024/04/Photo-by-Martine-Perret-web-1.png
GEO:-33.9498;115.0736
X-APPLE-STRUCTURED-LOCATION;VALUE=URI;X-ADDRESS=Settlers Tavern 114 Bussell Hwy Margaret River WA 6285 Australia;X-APPLE-RADIUS=500;X-TITLE=114 Bussell Hwy:geo:115.0736,-33.9498
END:VEVENT
BEGIN:VEVENT
DTSTART;TZID=Australia/Perth:20210516T150000
DTEND;TZID=Australia/Perth:20210516T180000
DTSTAMP:20260422T233455
CREATED:20210502T033414Z
LAST-MODIFIED:20240530T054342Z
UID:10000600-1621177200-1621188000@www.settlerstavern.com
SUMMARY:Pete Matthews and the Three Day Locals
DESCRIPTION:Live Music Australia – an Australian Government initiative\nFREE ENTRY\nPete Matthews and The Three Day Locals bring their brand of local original folk blues and grooves to the Settlers Tavern Sunday session. Pete’s soulful vocals and self penned eclectic compositions take the punter on a journey of love life and waves. Neal James on sax and harmonica brings authentic homage to Sonny Terry and the blues greats. Covering classics from Marley to Robert Johnson to Neal Young with a twist\, and spiced with Pete tasteful original tunes\, the Tav Sunday session is the place to be. \nFaceboook event: https://www.facebook.com/events/884028505780985/ \n 
URL:https://www.settlerstavern.com/event/pete-matthews-and-the-three-day-locals-2-3/
LOCATION:Settlers Tavern\, 114 Bussell Hwy\, Margaret River\, WA\, 6285\, Australia
CATEGORIES:Blues,Folk,Groove,Live Music,Music
ATTACH;FMTTYPE=image/jpeg:https://www.settlerstavern.com/wp-content/uploads/2024/04/pete-matthews-and-the-three-day-locals-web.jpg
GEO:-33.9498;115.0736
X-APPLE-STRUCTURED-LOCATION;VALUE=URI;X-ADDRESS=Settlers Tavern 114 Bussell Hwy Margaret River WA 6285 Australia;X-APPLE-RADIUS=500;X-TITLE=114 Bussell Hwy:geo:115.0736,-33.9498
END:VEVENT
BEGIN:VEVENT
DTSTART;TZID=Australia/Perth:20210328T160000
DTEND;TZID=Australia/Perth:20210328T190000
DTSTAMP:20260422T233455
CREATED:20210112T212642Z
LAST-MODIFIED:20240530T054308Z
UID:10000585-1616947200-1616958000@www.settlerstavern.com
SUMMARY:T.J. O'Donovan
DESCRIPTION:Live Music Australia – an Australian Government initiative\nFREE ENTRY\nT.J. O’Donovan is a singer/songwriter from Perth\, Western Australia. Born in Dublin and raised in Perth\, T.J. plays crafty original music and hand selected covers\, with a distinctive folk and blues flavour.\n\n\nT.J. combines acoustic guitar\, vocals\, tambourine\, stomp box and harmonica for an engaging one man live show! \nHis debut self-titled EP is not strictly six folk tracks\, but rather a set of songs that dips its feet into country and blues waters along the way. Guitar\, vocals\, harmonica\, tambourine\, mandolin\, organ and stomp box all feature\, culminating in one imaginative and sonically diverse debut. \nFacebook event: https://www.facebook.com/events/2874070406206258/
URL:https://www.settlerstavern.com/event/t-j-odonovan/
LOCATION:Settlers Tavern\, 114 Bussell Hwy\, Margaret River\, WA\, 6285\, Australia
CATEGORIES:Blues,Folk,Live Music Australia,Music
ATTACH;FMTTYPE=image/jpeg:https://www.settlerstavern.com/wp-content/uploads/2024/04/FB_IMG_1610511696396.jpg
GEO:-33.9498;115.0736
X-APPLE-STRUCTURED-LOCATION;VALUE=URI;X-ADDRESS=Settlers Tavern 114 Bussell Hwy Margaret River WA 6285 Australia;X-APPLE-RADIUS=500;X-TITLE=114 Bussell Hwy:geo:115.0736,-33.9498
END:VEVENT
BEGIN:VEVENT
DTSTART;TZID=Australia/Perth:20210317T170000
DTEND;TZID=Australia/Perth:20210317T210000
DTSTAMP:20260422T233455
CREATED:20200212T000927Z
LAST-MODIFIED:20240530T054220Z
UID:10000550-1616000400-1616014800@www.settlerstavern.com
SUMMARY:Crooked Brook - St. Patrick's Day
DESCRIPTION:Lá Fhéile Pádraig\nFREE ENTRY!\nCelebrate the annual tradition of Irish heritage at Settlers Tavern.\nMargaret River’s own Irish Celtic Folk band – Crooked Brook will be getting the crowd jigging 5 – 9pm and the usual revelry and shenanigans of Guinness on tap\, funny hats\, shamrocks and maybe a leprechaun or two.\nSláinte! Cheers!
URL:https://www.settlerstavern.com/event/crooked-brook-st-patricks-day/
LOCATION:Settlers Tavern\, 114 Bussell Hwy\, Margaret River\, WA\, 6285\, Australia
CATEGORIES:Bush Dance,Folk,Music
ATTACH;FMTTYPE=image/jpeg:https://www.settlerstavern.com/wp-content/uploads/2024/04/Crooked-brook.jpg
GEO:-33.9498;115.0736
X-APPLE-STRUCTURED-LOCATION;VALUE=URI;X-ADDRESS=Settlers Tavern 114 Bussell Hwy Margaret River WA 6285 Australia;X-APPLE-RADIUS=500;X-TITLE=114 Bussell Hwy:geo:115.0736,-33.9498
END:VEVENT
BEGIN:VEVENT
DTSTART;TZID=Australia/Perth:20210314T160000
DTEND;TZID=Australia/Perth:20210314T190000
DTSTAMP:20260422T233455
CREATED:20210121T183552Z
LAST-MODIFIED:20240530T054311Z
UID:10000588-1615737600-1615748400@www.settlerstavern.com
SUMMARY:Mufassa
DESCRIPTION:Live Music Australia – an Australian Government initiative\nFREE ENTRY\nDescribed as having a calm and infectious nature\, South East Queensland’s ‘Organic Blues & Roots’ artist MUFASSA gets his inspiration from artists like Archie Roach & Paul Kelly\, some of Australia’s greatest story tellers through music. \nOver the past 4 years\, MUFASSA has been refining his skills as a singer/songwriter/storyteller\, all the while travelling the country in his caravan and raising a family on the road. \nFacebook event: https://www.facebook.com/events/743576006270932/
URL:https://www.settlerstavern.com/event/mufassa/
LOCATION:Settlers Tavern\, 114 Bussell Hwy\, Margaret River\, WA\, 6285\, Australia
CATEGORIES:Folk,Live Music,Music,Roots
ATTACH;FMTTYPE=image/jpeg:https://www.settlerstavern.com/wp-content/uploads/2024/03/Mufassa-March-14-web-1.jpg
GEO:-33.9498;115.0736
X-APPLE-STRUCTURED-LOCATION;VALUE=URI;X-ADDRESS=Settlers Tavern 114 Bussell Hwy Margaret River WA 6285 Australia;X-APPLE-RADIUS=500;X-TITLE=114 Bussell Hwy:geo:115.0736,-33.9498
END:VEVENT
BEGIN:VEVENT
DTSTART;TZID=Australia/Perth:20210214T160000
DTEND;TZID=Australia/Perth:20210214T190000
DTSTAMP:20260422T233455
CREATED:20200308T000603Z
LAST-MODIFIED:20240530T054222Z
UID:10000551-1613318400-1613329200@www.settlerstavern.com
SUMMARY:Dave Rastrix Trio
DESCRIPTION:Live Music Australia – an Australian Government initiative\nFREE ENTRY\nDave Rastrix Trio play a mix of jazz-reggae and world-soul styles and is comprised of three busy session musicians\, who join together to play with the spirit of spontaneously and passion\, keeping listeners on the edge of their seats\, or dancing. \nDavid Rastrick is a trumpet player\, multiple instrumentalist and songwriter who has played with literally hundreds of bands throughout south-west Australia. Rastrick toured Australia with his solo show last year. In the trio\, David Rastrick (aka Dave Rastrix) fronts the group on vocals\, trumpet and flugelhorn\, while concurrently underpinning the sound with fretless bass. The flugelhorn is a type of trumpet with a warmer tone\, and made popular by trumpeters such as Chuck Mangione and Hugh Masekela. \n“I enjoy diversity in my life\,” said Dave Rastrick. “I like manifesting this in my music\, and draw from a heap of different musical styles to make an interesting repertoire.”\n \nKevin McDonald is one of the most in demand musicians in the south west\, with his command of guitar and bass in all jazz and contemporary styles and a diploma in classical guitar.  Kevin studied at the prestigious Berklee School of Music along with fellow Canadian musician Diana Krall. Kevin plays in about one-hundred duos\, several jazz bands\, country\, rock and soul bands\, and fronts his own guitar-frenzy surf music band ‘The Frothers’. \nRastrick and McDonald combine their diverse experience\, talents and musical passions to intersect in a rare musical meeting.
URL:https://www.settlerstavern.com/event/dave-rastrix-trio/
LOCATION:Settlers Tavern\, 114 Bussell Hwy\, Margaret River\, WA\, 6285\, Australia
CATEGORIES:Contemporary,Folk,Funk,Jazz,Live Music,Music,Reggae
ATTACH;FMTTYPE=image/jpeg:https://www.settlerstavern.com/wp-content/uploads/2024/04/David-Rastrix-Trio-Poster-Settlers-Feb-14-2021-WEB.jpg
GEO:-33.9498;115.0736
X-APPLE-STRUCTURED-LOCATION;VALUE=URI;X-ADDRESS=Settlers Tavern 114 Bussell Hwy Margaret River WA 6285 Australia;X-APPLE-RADIUS=500;X-TITLE=114 Bussell Hwy:geo:115.0736,-33.9498
END:VEVENT
BEGIN:VEVENT
DTSTART;TZID=Australia/Perth:20200313T213000
DTEND;TZID=Australia/Perth:20200313T213000
DTSTAMP:20260422T233455
CREATED:20200209T175558Z
LAST-MODIFIED:20240530T054217Z
UID:10000548-1584135000-1584135000@www.settlerstavern.com
SUMMARY:ASKYA
DESCRIPTION:Producer/singer/songwriter ASKYA blends Folk x Electronic with airy vocals meeting electronic textures. ASKYA locked himself away the past year to write and teach himself production\, whether in a Swiss mountain cabin or Australian beach shack. Moving between Zurich\, Switzerland and the surf town of Margaret River in Western Australia\, ASKYA writes songs with a sense of vulnerability that reflect experiences far beyond his years. His first two singles garnered immediate traction\, being placed in multiple top-tier Spotify playlists worldwide. ASKYA now has a fresh perspective and is an emerging artist to watch.
URL:https://www.settlerstavern.com/event/askya/
LOCATION:Settlers Tavern\, 114 Bussell Hwy\, Margaret River\, WA\, 6285\, Australia
CATEGORIES:Electronic,Folk,Indie,Music
ATTACH;FMTTYPE=image/jpeg:https://www.settlerstavern.com/wp-content/uploads/2024/04/ASKYA-web.jpg
GEO:-33.9498;115.0736
X-APPLE-STRUCTURED-LOCATION;VALUE=URI;X-ADDRESS=Settlers Tavern 114 Bussell Hwy Margaret River WA 6285 Australia;X-APPLE-RADIUS=500;X-TITLE=114 Bussell Hwy:geo:115.0736,-33.9498
END:VEVENT
BEGIN:VEVENT
DTSTART;TZID=Australia/Perth:20200229T213000
DTEND;TZID=Australia/Perth:20200229T213000
DTSTAMP:20260422T233455
CREATED:20200131T222453Z
LAST-MODIFIED:20240530T054211Z
UID:10000542-1583011800-1583011800@www.settlerstavern.com
SUMMARY:The Langan Band
DESCRIPTION:First Australian Tour FEB/MAR 2020 \nScotland’s The Langan Band tour Australia for the first time this Feb & March! \nUnhinged and musically extravagant\, The Langan Band have become famous for performing an invigorating yet tight and precisely executed show. With a sense of abandonment for spontaneity and surprise\, they always keep their audience on their toes. \nTheir material draws from all that they’ve been exposed to and enjoyed\, from a whole range of music and live experiences. Progressive folk\, jazz influences and world music combine to create a modern and exhilarating sound very much rooted in modern traditions.  It’s hard to pigeonhole but is for certain brilliant musicianship\, with catchy tunes and beautiful lyrics. \nFor certain\, their live show’s priority is to have the entire audience dancing like it’s their last chance! \n‘Astonishing work\, boundlessly inventive… driving rhythms and mesmerising folk melodies’ R2 Magazine \n“High energy\, unhinged\, and musically extravagant taking traditional acoustic idioms and delivering with punk abandonment and virtuosic flare.”
URL:https://www.settlerstavern.com/event/the-langan-band/
LOCATION:Settlers Tavern\, 114 Bussell Hwy\, Margaret River\, WA\, 6285\, Australia
CATEGORIES:Bluegrass,Featured,Folk,Gypsy,Music,Swing
ATTACH;FMTTYPE=image/jpeg:https://www.settlerstavern.com/wp-content/uploads/2024/04/LANGAN-2020-web.jpg
GEO:-33.9498;115.0736
X-APPLE-STRUCTURED-LOCATION;VALUE=URI;X-ADDRESS=Settlers Tavern 114 Bussell Hwy Margaret River WA 6285 Australia;X-APPLE-RADIUS=500;X-TITLE=114 Bussell Hwy:geo:115.0736,-33.9498
END:VEVENT
BEGIN:VEVENT
DTSTART;TZID=Australia/Perth:20200209T153000
DTEND;TZID=Australia/Perth:20200209T153000
DTSTAMP:20260422T233455
CREATED:20200118T223141Z
LAST-MODIFIED:20240530T054203Z
UID:10000535-1581262200-1581262200@www.settlerstavern.com
SUMMARY:Helen Townsend
DESCRIPTION:Helen Townsend is one of those rare artists who genuinely lives music\, understands it’s power and knows how to harness it to tell a story which gathers you up and sweeps you along. Entwined through all of her songs is a sweet\, sincere voice which simply glories in the telling of a story and injects just the right emotion into the words. There’s also an intimacy in her music which gently invites you in to share slices and snippets of life’s journeys.  \nThe Fremantle-based singer-songwriter’s style runs the Americana gamut of roots rock\, blues\, country and folk.  With the release of her new debut Album\, “Little Lover”\, she moves into a more edgier\, rockier and more diverse sound.  \nShe delivers intelligent lyrics and plays guitar with a passion born of her life experiences\, of romance and wisdom\, a celebration of life and resilience. She will have you looking into your soul one minute and rocking the next.  \nHer music is soulful\, edgy\, her story telling is transfixing\, her voice timeless and her stage presence is captivating with a pure and concise delivery – it’s a combination of this\, her originality and authenticity that has garnered her widespread respectability.  \nhttps://helentownsendmusic.com/
URL:https://www.settlerstavern.com/event/helen-townsend-2-3/
LOCATION:Settlers Tavern\, 114 Bussell Hwy\, Margaret River\, WA\, 6285\, Australia
CATEGORIES:Contemporary,Country,Folk,Music
ATTACH;FMTTYPE=image/jpeg:https://www.settlerstavern.com/wp-content/uploads/2024/04/helen-townsend-crop.jpg
GEO:-33.9498;115.0736
X-APPLE-STRUCTURED-LOCATION;VALUE=URI;X-ADDRESS=Settlers Tavern 114 Bussell Hwy Margaret River WA 6285 Australia;X-APPLE-RADIUS=500;X-TITLE=114 Bussell Hwy:geo:115.0736,-33.9498
END:VEVENT
BEGIN:VEVENT
DTSTART;TZID=Australia/Perth:20191222T153000
DTEND;TZID=Australia/Perth:20191222T153000
DTSTAMP:20260422T233455
CREATED:20191209T021349Z
LAST-MODIFIED:20240530T054135Z
UID:10000512-1577028600-1577028600@www.settlerstavern.com
SUMMARY:Gypsy Lou and the Kingfishers
DESCRIPTION:Originating in Perth\, Western Australia\, this fabulous five- piece ensemble brings their signature style of uplifting melodic pop-folk to audiences. Weaving strands of Celtic and earthy\, trad-folk with warm and hearty three part vocal harmony\, they entertain with truly dance-able\, sing-able\, soul-warming music. \nThe ‘GypsyLou’ duo was formed in 2016 by singer/songwriters Carrie Lee and Katie McMahon. Having met in a choir where they both sang in the alto section\, they founded the duo on their love of singing in harmony together. GypsyLou quickly grew in popularity and released a six-track EP\, ‘Girl in Blue’\, in 2018.\nWishing to build on their sound\, they began to take on other musicians shortly afterwards. Matt Stapleton now joins them on fiddle\, Ross Daglish on the double bass and John ‘J.D.’ Donoghue on percussion. Together they are ‘Gypsylou and the Kingfishers’.
URL:https://www.settlerstavern.com/event/gypsy-lou-and-the-kingfishers/
LOCATION:Settlers Tavern\, 114 Bussell Hwy\, Margaret River\, WA\, 6285\, Australia
CATEGORIES:Celtic,Folk,Music
ATTACH;FMTTYPE=image/jpeg:https://www.settlerstavern.com/wp-content/uploads/2024/04/Gypsylou-and-the-Kingfishers.jpg
GEO:-33.9498;115.0736
X-APPLE-STRUCTURED-LOCATION;VALUE=URI;X-ADDRESS=Settlers Tavern 114 Bussell Hwy Margaret River WA 6285 Australia;X-APPLE-RADIUS=500;X-TITLE=114 Bussell Hwy:geo:115.0736,-33.9498
END:VEVENT
END:VCALENDAR