BEGIN:VCALENDAR
VERSION:2.0
PRODID:-//Settlers Tavern - ECPv6.15.20//NONSGML v1.0//EN
CALSCALE:GREGORIAN
METHOD:PUBLISH
X-ORIGINAL-URL:https://www.settlerstavern.com
X-WR-CALDESC:Events for Settlers Tavern
REFRESH-INTERVAL;VALUE=DURATION:PT1H
X-Robots-Tag:noindex
X-PUBLISHED-TTL:PT1H
BEGIN:VTIMEZONE
TZID:Australia/Perth
BEGIN:STANDARD
TZOFFSETFROM:+0800
TZOFFSETTO:+0800
TZNAME:AWST
DTSTART:20240101T000000
END:STANDARD
END:VTIMEZONE
BEGIN:VEVENT
DTSTART;TZID=Australia/Perth:20251102T153000
DTEND;TZID=Australia/Perth:20251102T183000
DTSTAMP:20260423T125400
CREATED:20250926T050430Z
LAST-MODIFIED:20250926T050430Z
UID:10001016-1762097400-1762108200@www.settlerstavern.com
SUMMARY:DANNY ALCORN
DESCRIPTION:I was raised on the surf coast around Margaret River WA\, as soon as I discovered the guitar and playing music\, I knew what I wanted to do with my life. \nI was the top placing WA male singer in my season of Australian Idol\, finishing in the Top 10 from thousands of contestants. \nI’m an award-winning singer-songwriter\, Triple J artist to watch\, and one of Australia’s upcoming Folk artists. I’ve toured with Kim Churchill\, Ash Grunwald and across the country on my own headline tours. I studied music at WAAPA and the Australian Institute of Music and I’ve been a gigging pro musician for nearly 10 years. \nOutside of my career\, I love the simple things in life. A sunny April day\, healthy food and surfing in the pristine South West is where I find my peace. Since age 14\, all I’ve wanted to do was pick the guitar up every day. Starting a brand in wedding entertainment has made this dream come true\, now I chat with couples and arrange my own acoustic wedding music as a full-time job. My mission is to approach every gig with\, gratitude\, respect a constant drive to get better every time. Nothing feels better than seeing my couple’s dream wedding become a reality and working alongside my best mates.
URL:https://www.settlerstavern.com/event/danny-alcorn-2/
LOCATION:Settlers Tavern\, 114 Bussell Hwy\, Margaret River\, WA\, 6285\, Australia
CATEGORIES:Folk,Live Music,Live Music Australia
ATTACH;FMTTYPE=image/jpeg:https://www.settlerstavern.com/wp-content/uploads/2024/08/pinnaclebelladannystrings-5.jpg
GEO:-33.9498;115.0736
X-APPLE-STRUCTURED-LOCATION;VALUE=URI;X-ADDRESS=Settlers Tavern 114 Bussell Hwy Margaret River WA 6285 Australia;X-APPLE-RADIUS=500;X-TITLE=114 Bussell Hwy:geo:115.0736,-33.9498
END:VEVENT
BEGIN:VEVENT
DTSTART;TZID=Australia/Perth:20251115T210000
DTEND;TZID=Australia/Perth:20251115T233000
DTSTAMP:20260423T125400
CREATED:20251014T112012Z
LAST-MODIFIED:20251014T112012Z
UID:10001034-1763240400-1763249400@www.settlerstavern.com
SUMMARY:SUNDAY LEMONADE
DESCRIPTION:Named the ‘People’s Choice’ at Tamworth Country Music Festival 2024\, infectious indie folk & roots duo Sunday Lemonade have created a fizz amongst crowds across Australia. With a splash of heartfelt folk\, a dash of powerful rock and a squeeze of riffin’ roots the bubbly pair are the refreshing rom-com drink you didn’t know you needed! \nBased on the far south coast of New South Wales but self-confessed van lifer enthusiasts\, Tyson & Loz have been persistent in their pursuit of music. Since winning the ‘Emerging Artist’ award at Nannup 2020 the pair have supported Australian favourites such as 19-Twenty\, Sons of the East\, Caravana Sun\, Thirsty Merc\, The Rubens & The Little Quirks amidst multiple nation wide tours\, embarked on a debut overseas tour and featured on diverse festival line ups such as Cobargo Folk\, Moruya Blues & Roots & Yackandandah Folk proving their can-do attitude to be where ever\, when ever. \nHitting the road this September to celebrate the release of their new single ‘Lucy Goosey’ – a letter to the voice in your head that tries to tell you you’re no good – the bubbly duo will be travelling nation-wide including their first visit to Tasmania to share their intimate\, bare all stories and ‘joie de Vivre’
URL:https://www.settlerstavern.com/event/sunday-lemonade/
LOCATION:Settlers Tavern\, 114 Bussell Hwy\, Margaret River\, WA\, 6285\, Australia
CATEGORIES:Folk,Live Music,Live Music Australia,Rock
ATTACH;FMTTYPE=image/jpeg:https://www.settlerstavern.com/wp-content/uploads/2025/10/SL-PROMO-2025.jpg
GEO:-33.9498;115.0736
X-APPLE-STRUCTURED-LOCATION;VALUE=URI;X-ADDRESS=Settlers Tavern 114 Bussell Hwy Margaret River WA 6285 Australia;X-APPLE-RADIUS=500;X-TITLE=114 Bussell Hwy:geo:115.0736,-33.9498
END:VEVENT
BEGIN:VEVENT
DTSTART;TZID=Australia/Perth:20251116T153000
DTEND;TZID=Australia/Perth:20251116T183000
DTSTAMP:20260423T125400
CREATED:20250831T041208Z
LAST-MODIFIED:20251105T033443Z
UID:10001015-1763307000-1763317800@www.settlerstavern.com
SUMMARY:OLIVER QUILAN
DESCRIPTION:Oliver is one of the South West’s most loved singer songwriters and original artists. He has toured around the country with his successful original bands\, enjoying sold-out shows and airplay on Triple J. he now spends his time surfing and wowing audiences with his dreamy acoustic music and incredible voice. Oliver draws from a rich repertoire of modern folk\, pop and traditional Blues influence. He has a big heart and authentic energy.
URL:https://www.settlerstavern.com/event/oliver-quilan-2/
LOCATION:Settlers Tavern\, 114 Bussell Hwy\, Margaret River\, WA\, 6285\, Australia
CATEGORIES:Acoustic,Blues,Folk,Live Music,Live Music Australia
ATTACH;FMTTYPE=image/png:https://www.settlerstavern.com/wp-content/uploads/2025/08/BAND-POSTERS.png
GEO:-33.9498;115.0736
X-APPLE-STRUCTURED-LOCATION;VALUE=URI;X-ADDRESS=Settlers Tavern 114 Bussell Hwy Margaret River WA 6285 Australia;X-APPLE-RADIUS=500;X-TITLE=114 Bussell Hwy:geo:115.0736,-33.9498
END:VEVENT
BEGIN:VEVENT
DTSTART;TZID=Australia/Perth:20251130T153000
DTEND;TZID=Australia/Perth:20251130T183000
DTSTAMP:20260423T125400
CREATED:20251113T063955Z
LAST-MODIFIED:20251113T063955Z
UID:10001046-1764516600-1764527400@www.settlerstavern.com
SUMMARY:Nathan Parsons
DESCRIPTION:Nathan Parsons is a singer songwriter from Margaret River and is also half of Salt Tree. He has been writing and touring internationally for the last 5 years and is spending a summer at home here in the south west. Nathan’s solo project blends together originals and like a version covers for a laid back coastal indie folk experience. 
URL:https://www.settlerstavern.com/event/nathan-parsons-3/
LOCATION:Settlers Tavern\, 114 Bussell Hwy\, Margaret River\, WA\, 6285\, Australia
CATEGORIES:Folk,Indie,Live Music,Live Music Australia
ATTACH;FMTTYPE=image/png:https://www.settlerstavern.com/wp-content/uploads/2025/11/team-sync-3.png
GEO:-33.9498;115.0736
X-APPLE-STRUCTURED-LOCATION;VALUE=URI;X-ADDRESS=Settlers Tavern 114 Bussell Hwy Margaret River WA 6285 Australia;X-APPLE-RADIUS=500;X-TITLE=114 Bussell Hwy:geo:115.0736,-33.9498
END:VEVENT
END:VCALENDAR