BEGIN:VCALENDAR
VERSION:2.0
PRODID:-//Settlers Tavern - ECPv6.15.20//NONSGML v1.0//EN
CALSCALE:GREGORIAN
METHOD:PUBLISH
X-WR-CALNAME:Settlers Tavern
X-ORIGINAL-URL:https://www.settlerstavern.com
X-WR-CALDESC:Events for Settlers Tavern
REFRESH-INTERVAL;VALUE=DURATION:PT1H
X-Robots-Tag:noindex
X-PUBLISHED-TTL:PT1H
BEGIN:VTIMEZONE
TZID:Australia/Perth
BEGIN:STANDARD
TZOFFSETFROM:+0800
TZOFFSETTO:+0800
TZNAME:AWST
DTSTART:20240101T000000
END:STANDARD
END:VTIMEZONE
BEGIN:VEVENT
DTSTART;TZID=Australia/Perth:20250801T210000
DTEND;TZID=Australia/Perth:20250801T233000
DTSTAMP:20260423T211426
CREATED:20250312T071207Z
LAST-MODIFIED:20250312T071717Z
UID:10000942-1754082000-1754091000@www.settlerstavern.com
SUMMARY:DIDIRRI & ROWENA WISE: No Cure For Love
DESCRIPTION:Didirri and Rowena Wise playing live at Settlers Tavern on Friday 1st August\, tickets are on sale now. \nDidirri and Rowena Wise are proud to announce their Australian “No Cure For Love” tour\, presented by Beloved / Remote Control. \n \nCelebrated for their individual artistry in the indie-folk scene\, these two remarkable songwriters have come together to create something truly special. Didirri\, known for his masterful storytelling and dynamic live performances\, joins forces with Rowena Wise\, whose crystalline vocals and delicate songs have earned her a devoted following across the country. \nTheir new collaborative single\, “No Cure For Love”\, showcases the magical synergy between these two artists\, weaving together Didirri’s raw emotional depth with Rowena’s ethereal melodies. This national tour sees them performing as a combined ensemble\, presenting songs from their acclaimed debut records alongside solo works and collaborative pieces in a special extended set.
URL:https://www.settlerstavern.com/event/didirri-rowena-wise-no-cure-for-love/
LOCATION:Settlers Tavern\, 114 Bussell Hwy\, Margaret River\, WA\, 6285\, Australia
CATEGORIES:Featured,Folk,Indie,Live Music,Live Music Australia,Tickets
ATTACH;FMTTYPE=image/png:https://www.settlerstavern.com/wp-content/uploads/2025/03/Screenshot-2025-03-12-at-3.05.50 PM.png
GEO:-33.9498;115.0736
X-APPLE-STRUCTURED-LOCATION;VALUE=URI;X-ADDRESS=Settlers Tavern 114 Bussell Hwy Margaret River WA 6285 Australia;X-APPLE-RADIUS=500;X-TITLE=114 Bussell Hwy:geo:115.0736,-33.9498
END:VEVENT
BEGIN:VEVENT
DTSTART;TZID=Australia/Perth:20250824T150000
DTEND;TZID=Australia/Perth:20250824T180000
DTSTAMP:20260423T211426
CREATED:20250708T074159Z
LAST-MODIFIED:20250711T071159Z
UID:10000997-1756047600-1756058400@www.settlerstavern.com
SUMMARY:CROOKED BROOK
DESCRIPTION:Get ready to jig and jive with Margaret River’s own Irish folk band. Crooked Brook is back on the veranda for a Sunday session to bring you some winter cheer!
URL:https://www.settlerstavern.com/event/crooked-brook-4/
LOCATION:Settlers Tavern\, 114 Bussell Hwy\, Margaret River\, WA\, 6285\, Australia
CATEGORIES:Folk,Irish,Live Music,Live Music Australia,Music
ATTACH;FMTTYPE=image/jpeg:https://www.settlerstavern.com/wp-content/uploads/2025/07/crooked-Brook-Poster-The-Tav.jpg
GEO:-33.9498;115.0736
X-APPLE-STRUCTURED-LOCATION;VALUE=URI;X-ADDRESS=Settlers Tavern 114 Bussell Hwy Margaret River WA 6285 Australia;X-APPLE-RADIUS=500;X-TITLE=114 Bussell Hwy:geo:115.0736,-33.9498
END:VEVENT
BEGIN:VEVENT
DTSTART;TZID=Australia/Perth:20250831T150000
DTEND;TZID=Australia/Perth:20250831T180000
DTSTAMP:20260423T211426
CREATED:20250620T080009Z
LAST-MODIFIED:20250812T054936Z
UID:10000987-1756652400-1756663200@www.settlerstavern.com
SUMMARY:OLIVE MAE
DESCRIPTION:Olive Mae is an exciting emerging folk/ country singer songwriter from southwest WA. She hit the Australian country music scene with a bang in 2023 with the release of her single “Rainy Days” and she is one to watch for the future. \nHer sound has been likened to artists including Paul Kelly\, Frente\, Sara Storer and The Waifs. She has shared lineups and stages with the likes of Vika and Linda Bull\, Clare Bowditch\, Joan and the Giants\, Gina Williams and Guy Ghouse and Jack Davies. Off the back of a dual 2023 WAM Song of the Year nomination (Country & Outstanding Regional)\, with her song “Girls Like You” she set out on a 6 month east coast tour\, playing festivals and shows in every state. \nOlive is looking forward to the release of her debut EP\, Hit The Road\, and plans to spend the rest of 2024 settling back into life in WA and playing as many shows and festivals as she can.
URL:https://www.settlerstavern.com/event/olive-mae-3/
LOCATION:Settlers Tavern\, 114 Bussell Hwy\, Margaret River\, WA\, 6285\, Australia
CATEGORIES:Acoustic,Country,Folk,Live Music,Live Music Australia,Music
ATTACH;FMTTYPE=image/jpeg:https://www.settlerstavern.com/wp-content/uploads/2025/06/olivemar-HR-11-scaled.jpg
GEO:-33.9498;115.0736
X-APPLE-STRUCTURED-LOCATION;VALUE=URI;X-ADDRESS=Settlers Tavern 114 Bussell Hwy Margaret River WA 6285 Australia;X-APPLE-RADIUS=500;X-TITLE=114 Bussell Hwy:geo:115.0736,-33.9498
END:VEVENT
END:VCALENDAR