BEGIN:VCALENDAR
VERSION:2.0
PRODID:-//Settlers Tavern - ECPv6.15.20//NONSGML v1.0//EN
CALSCALE:GREGORIAN
METHOD:PUBLISH
X-ORIGINAL-URL:https://www.settlerstavern.com
X-WR-CALDESC:Events for Settlers Tavern
REFRESH-INTERVAL;VALUE=DURATION:PT1H
X-Robots-Tag:noindex
X-PUBLISHED-TTL:PT1H
BEGIN:VTIMEZONE
TZID:Australia/Perth
BEGIN:STANDARD
TZOFFSETFROM:+0800
TZOFFSETTO:+0800
TZNAME:AWST
DTSTART:20230101T000000
END:STANDARD
END:VTIMEZONE
BEGIN:VEVENT
DTSTART;TZID=Australia/Perth:20241006T033000
DTEND;TZID=Australia/Perth:20241006T183000
DTSTAMP:20260424T182113
CREATED:20240830T030632Z
LAST-MODIFIED:20240830T030632Z
UID:10000861-1728185400-1728239400@www.settlerstavern.com
SUMMARY:DANNY ALCORN
DESCRIPTION:I was raised on the surf coast around Margaret River WA\, as soon as I discovered the guitar and playing music\, I knew what I wanted to do with my life. \nI was the top placing WA male singer in my season of Australian Idol\, finishing in the Top 10 from thousands of contestants. \nI’m an award-winning singer-songwriter\, Triple J artist to watch\, and one of Australia’s upcoming Folk artists. I’ve toured with Kim Churchill\, Ash Grunwald and across the country on my own headline tours. I studied music at WAAPA and the Australian Institute of Music and I’ve been a gigging pro musician for nearly 10 years. \nOutside of my career\, I love the simple things in life. A sunny April day\, healthy food and surfing in the pristine South West is where I find my peace. Since age 14\, all I’ve wanted to do was pick the guitar up every day. Starting a brand in wedding entertainment has made this dream come true\, now I chat with couples and arrange my own acoustic wedding music as a full-time job. My mission is to approach every gig with\, gratitude\, respect a constant drive to get better every time. Nothing feels better than seeing my couple’s dream wedding become a reality and working alongside my best mates.
URL:https://www.settlerstavern.com/event/danny-alcorn/
LOCATION:Settlers Tavern\, 114 Bussell Hwy\, Margaret River\, WA\, 6285\, Australia
CATEGORIES:Folk,Live Music,Live Music Australia
ATTACH;FMTTYPE=image/jpeg:https://www.settlerstavern.com/wp-content/uploads/2024/08/pinnaclebelladannystrings-5.jpg
GEO:-33.9498;115.0736
X-APPLE-STRUCTURED-LOCATION;VALUE=URI;X-ADDRESS=Settlers Tavern 114 Bussell Hwy Margaret River WA 6285 Australia;X-APPLE-RADIUS=500;X-TITLE=114 Bussell Hwy:geo:115.0736,-33.9498
END:VEVENT
BEGIN:VEVENT
DTSTART;TZID=Australia/Perth:20241013T153000
DTEND;TZID=Australia/Perth:20241013T183000
DTSTAMP:20260424T182113
CREATED:20240828T033119Z
LAST-MODIFIED:20240828T033119Z
UID:10000860-1728833400-1728844200@www.settlerstavern.com
SUMMARY:MAT CAL
DESCRIPTION:‘WA award winning musician\, Matt Cal\, presents outstanding and undeniably groovy song writing and guitar sounds with an engaging story telling nature. The music flows with an ease and confidence that draws you into his whimsical world of folk/ blues and roots‘ \nAugust 2024 saw Matt release his long-time favourite cover of Men At Works classic Down Under. Recorded with Lee Buddle at Crank Recording and featuring local Fremantle Didgeridoo master Fiorino Fiorini\, the results is gorgeous and timeless with the sound of the Steel Resonator Dobro ringing true. \nMatt describes music as like breathing\, something he has always known yet remains a mystery…At 46 he has been writing songs for the better part of 30 years with little else grabbing his attention over the years. \n\n\n\n\n\n\nAt his heart Matt is a story teller thru song crafting lyrics of truth\, fable and fiction to accompany his excellent acoustic guitar skills along with special guests on Didgeridoo\, Sax and Bass during the evening \nOriginal songs with \nHighlights include winning Blues and roots song of the year 2011 for his track Overdrive and shortlisted for the prize again with his track Kimberley Moon in 2012 \nPerforming to a sold-out audience at Fremantle Art Centre Opening for Ash Grunwald\, Si Mullumby\, touring WA with Jeff Lang and opening for Australian uprising International Roots star Steph Strings \nMatt cites Paul Kelly\, The Tallest Man On Earth\, Justin Vernon\, Jack Johnson\, Pearl Jam and Aussie icons The Waifs as strong influences on his sound and style…
URL:https://www.settlerstavern.com/event/mat-cal/
LOCATION:Settlers Tavern\, 114 Bussell Hwy\, Margaret River\, WA\, 6285\, Australia
CATEGORIES:Blues,Folk,Live Music,Live Music Australia,Roots
ATTACH;FMTTYPE=image/jpeg:https://www.settlerstavern.com/wp-content/uploads/2024/08/Matt-Cal-landscape-mug-Shot.jpg
GEO:-33.9498;115.0736
X-APPLE-STRUCTURED-LOCATION;VALUE=URI;X-ADDRESS=Settlers Tavern 114 Bussell Hwy Margaret River WA 6285 Australia;X-APPLE-RADIUS=500;X-TITLE=114 Bussell Hwy:geo:115.0736,-33.9498
END:VEVENT
END:VCALENDAR