BEGIN:VCALENDAR
VERSION:2.0
PRODID:-//Settlers Tavern - ECPv6.15.20//NONSGML v1.0//EN
CALSCALE:GREGORIAN
METHOD:PUBLISH
X-WR-CALNAME:Settlers Tavern
X-ORIGINAL-URL:https://www.settlerstavern.com
X-WR-CALDESC:Events for Settlers Tavern
REFRESH-INTERVAL;VALUE=DURATION:PT1H
X-Robots-Tag:noindex
X-PUBLISHED-TTL:PT1H
BEGIN:VTIMEZONE
TZID:Australia/Perth
BEGIN:STANDARD
TZOFFSETFROM:+0800
TZOFFSETTO:+0800
TZNAME:AWST
DTSTART:20190101T000000
END:STANDARD
END:VTIMEZONE
BEGIN:VEVENT
DTSTART;TZID=Australia/Perth:20240601T210000
DTEND;TZID=Australia/Perth:20240601T233000
DTSTAMP:20260423T211649
CREATED:20240516T171902Z
LAST-MODIFIED:20240530T060800Z
UID:10000813-1717275600-1717284600@www.settlerstavern.com
SUMMARY:SIMOKIN
DESCRIPTION:Reared in Sydney’s club scene in the early noughtys\, simokin developed his tastes for grinding funky beats on the DF at sublime and the underground.  Expanding his repertoire during his 1 year sabbatical in northern England immersing himself in tech house basements and dub nights in the West Indian centre of Leeds. both leaving an indelible mark on Simokin’s output of funky\, techy\, dubby vibes found in his sets. With an appreciation for good songwriting and popular remixes you can find something for everyone when simokin is behind the decks.
URL:https://www.settlerstavern.com/event/simokin/
LOCATION:Settlers Tavern\, 114 Bussell Hwy\, Margaret River\, WA\, 6285\, Australia
CATEGORIES:DJ,Dub,Funk,Music
ATTACH;FMTTYPE=image/png:https://www.settlerstavern.com/wp-content/uploads/2024/03/Screen-Shot-2024-02-23-at-9.40.42-am.png
GEO:-33.9498;115.0736
X-APPLE-STRUCTURED-LOCATION;VALUE=URI;X-ADDRESS=Settlers Tavern 114 Bussell Hwy Margaret River WA 6285 Australia;X-APPLE-RADIUS=500;X-TITLE=114 Bussell Hwy:geo:115.0736,-33.9498
END:VEVENT
BEGIN:VEVENT
DTSTART;TZID=Australia/Perth:20230121T210000
DTEND;TZID=Australia/Perth:20230121T210000
DTSTAMP:20260423T211649
CREATED:20221109T190324Z
LAST-MODIFIED:20240530T054751Z
UID:10000779-1674334800-1674334800@www.settlerstavern.com
SUMMARY:Sky Eater
DESCRIPTION:FREE ENTRY\nFacebook event: facebook.com/events/1368001910668526/ \nEast coast powerhouse Sky Eater are bringing their inimitable brand of soul infused trip-hop dub n’ jungle to Settlers Tavern for a fat Sat session. Sax\, bass\, beats\, dubs\, loops n’ rhymes to get the weekend pumpin!\nAfter many years touring Australia\, NZ and the UK with performances at Boomtown Fair\, Earth Frequency\, Glastonbury\, Island Vibe\, Rainbow Serpent\, Woodford\, Queenscliff and Luminate festivals this high calibre\, multi-instrumental live looping duo are finally hitting WA to reclaim the tour that got locked down in 2020.
URL:https://www.settlerstavern.com/event/sky-eater/
LOCATION:Settlers Tavern\, 114 Bussell Hwy\, Margaret River\, WA\, 6285\, Australia
CATEGORIES:Dub,Live Music Australia,Music,Soul,Trip Hop
ATTACH;FMTTYPE=image/jpeg:https://www.settlerstavern.com/wp-content/uploads/2024/04/webskyeater.jpg
GEO:-33.9498;115.0736
X-APPLE-STRUCTURED-LOCATION;VALUE=URI;X-ADDRESS=Settlers Tavern 114 Bussell Hwy Margaret River WA 6285 Australia;X-APPLE-RADIUS=500;X-TITLE=114 Bussell Hwy:geo:115.0736,-33.9498
END:VEVENT
BEGIN:VEVENT
DTSTART;TZID=Australia/Perth:20220826T210000
DTEND;TZID=Australia/Perth:20220826T210000
DTSTAMP:20260423T211649
CREATED:20220822T201033Z
LAST-MODIFIED:20240530T054716Z
UID:10000752-1661547600-1661547600@www.settlerstavern.com
SUMMARY:SK & Non-Entity
DESCRIPTION:FREE ENTRY\nFacebook event: facebook.com/events/2074492432730210/ \nNonEntity and SK both spent the better part of the last decade performing all around Melbourne with their exquisite turntable selections\, ranging from hip hop to dub\, UK bass and beyond.\nNow they have returned to their birthing grounds of W.A\, and are bringing the party to Settlers in Margaret River!\nHip hop\, ragga and party jams from 9pm till midnight. FREE ENTRY\, down at your favourite watering hole!
URL:https://www.settlerstavern.com/event/sk-non-entity/
LOCATION:Settlers Tavern\, 114 Bussell Hwy\, Margaret River\, WA\, 6285\, Australia
CATEGORIES:DJ,Dub,Music
ATTACH;FMTTYPE=image/jpeg:https://www.settlerstavern.com/wp-content/uploads/2024/04/IMG_1939.jpg
GEO:-33.9498;115.0736
X-APPLE-STRUCTURED-LOCATION;VALUE=URI;X-ADDRESS=Settlers Tavern 114 Bussell Hwy Margaret River WA 6285 Australia;X-APPLE-RADIUS=500;X-TITLE=114 Bussell Hwy:geo:115.0736,-33.9498
END:VEVENT
BEGIN:VEVENT
DTSTART;TZID=Australia/Perth:20220708T210000
DTEND;TZID=Australia/Perth:20220708T210000
DTSTAMP:20260423T211649
CREATED:20220704T175644Z
LAST-MODIFIED:20240530T054642Z
UID:10000730-1657314000-1657314000@www.settlerstavern.com
SUMMARY:NonEntity DJ Set _ Featuring S K
DESCRIPTION:FREE EVENT\nFacebook event: https://www.facebook.com/events/581219523520861/ \nNonEntity and S K both spent the better part of the last decade performing all around Melbourne with their exquisite turntable selections\, ranging from hip hop to dub\, UK bass and beyond.\nNow they have returned to their birthing grounds of W.A\, and are bringing the party to Settlers in Margaret River!\nHip hop\, ragga and party jams from 9 pm till midnight. FREE ENTRY\, down at your favourite watering hole!
URL:https://www.settlerstavern.com/event/nonentity-dj-set-_-featuring-s-k/
LOCATION:Settlers Tavern\, 114 Bussell Hwy\, Margaret River\, WA\, 6285\, Australia
CATEGORIES:DJ,Dub,Music,Party
ATTACH;FMTTYPE=image/jpeg:https://www.settlerstavern.com/wp-content/uploads/2024/04/Settlers-with-skahna-web.jpg
GEO:-33.9498;115.0736
X-APPLE-STRUCTURED-LOCATION;VALUE=URI;X-ADDRESS=Settlers Tavern 114 Bussell Hwy Margaret River WA 6285 Australia;X-APPLE-RADIUS=500;X-TITLE=114 Bussell Hwy:geo:115.0736,-33.9498
END:VEVENT
BEGIN:VEVENT
DTSTART;TZID=Australia/Perth:20210418T153000
DTEND;TZID=Australia/Perth:20210418T183000
DTSTAMP:20260423T211649
CREATED:20210310T193738Z
LAST-MODIFIED:20240530T054324Z
UID:10000596-1618759800-1618770600@www.settlerstavern.com
SUMMARY:Zarm Duo
DESCRIPTION:Live Music Australia – an Australian Government initiative\nFREE ENTRY\nZarm are bringing their reggae fuelled chill back to the Settlers Tavern Sunday Verandah Sessions.\nWith groovy reggae and dub vibes\, reggae classics and the Zarm originals.\nPeople get ready to dance! \nFacebook event: https://www.facebook.com/events/4578166165563607/
URL:https://www.settlerstavern.com/event/zarm-3/
LOCATION:Settlers Tavern\, 114 Bussell Hwy\, Margaret River\, WA\, 6285\, Australia
CATEGORIES:Dub,Live Music Australia,Music,Reggae
ATTACH;FMTTYPE=image/jpeg:https://www.settlerstavern.com/wp-content/uploads/2024/04/zarm-duo.jpeg
GEO:-33.9498;115.0736
X-APPLE-STRUCTURED-LOCATION;VALUE=URI;X-ADDRESS=Settlers Tavern 114 Bussell Hwy Margaret River WA 6285 Australia;X-APPLE-RADIUS=500;X-TITLE=114 Bussell Hwy:geo:115.0736,-33.9498
END:VEVENT
BEGIN:VEVENT
DTSTART;TZID=Australia/Perth:20210417T210000
DTEND;TZID=Australia/Perth:20210417T210000
DTSTAMP:20260423T211649
CREATED:20210310T193539Z
LAST-MODIFIED:20240530T054323Z
UID:10000524-1618693200-1618693200@www.settlerstavern.com
SUMMARY:Zarm
DESCRIPTION:Live Music Australia – an Australian Government initiative\nFREE ENTRY\nZarm are bringing their reggae fuelled chill back to Settlers.\nWith groovy reggae and dub vibes\, reggae classics and the Zarm originals.\nPeople get ready to dance! \nFacebook event: https://www.facebook.com/events/258544935862629/
URL:https://www.settlerstavern.com/event/zarm-2-3/
LOCATION:Settlers Tavern\, 114 Bussell Hwy\, Margaret River\, WA\, 6285\, Australia
CATEGORIES:Dub,Live Music Australia,Music,Reggae
ATTACH;FMTTYPE=image/jpeg:https://www.settlerstavern.com/wp-content/uploads/2024/04/zarm-april-e1750403441929.jpg
GEO:-33.9498;115.0736
X-APPLE-STRUCTURED-LOCATION;VALUE=URI;X-ADDRESS=Settlers Tavern 114 Bussell Hwy Margaret River WA 6285 Australia;X-APPLE-RADIUS=500;X-TITLE=114 Bussell Hwy:geo:115.0736,-33.9498
END:VEVENT
BEGIN:VEVENT
DTSTART;TZID=Australia/Perth:20210131T153000
DTEND;TZID=Australia/Perth:20210131T183000
DTSTAMP:20260423T211649
CREATED:20210105T002014Z
LAST-MODIFIED:20240530T054303Z
UID:10000583-1612107000-1612117800@www.settlerstavern.com
SUMMARY:The Mexicans
DESCRIPTION:Live Music Australia – an Australian Government initiative\nFREE ENTRY\nThe Mexicans’ are normally found on a Kimberley beach providing the soundtrack to a holiday lifestyle for the multicultural Broome community. Citing reggae\, world\, latin and dub inspirations\, the tribe of brothers are leaving their aqua-green endless beach paradise and coming south for their annual tour. Individually they have played just about every major venue and festival in Australia with band members such as Gavin and Bart Pigram\, Tonchi McIntosh\, Staf Smith\, Dan Houston\, Falil Salahuddeen and George Bishop – bringing a wealth of experience to the band. True to themselves\, the world is in their songs: Yawuru\, Mexico\, Japan\, The Philippines\, Portugal\, Europe\, Africa\, and Australia\, lots of Australia. It’s dance-able\, from-the-heart\, gentlemanly\, cheeky\, lyrical\, last-drinks-dub-freestyle. It’s simple\, intense and pure: well worth a look! It’s a tiny bit of what Broome music sounds like today. It’s The Mexicans!
URL:https://www.settlerstavern.com/event/the-mexicans-2-3/
LOCATION:Settlers Tavern\, 114 Bussell Hwy\, Margaret River\, WA\, 6285\, Australia
CATEGORIES:Dub,Jazz,Live Music,Music,Reggae,Rock,Roots,World
ATTACH;FMTTYPE=image/jpeg:https://www.settlerstavern.com/wp-content/uploads/2024/04/The-Mexicans-SETTLERS-TAVERN-web.jpg
GEO:-33.9498;115.0736
X-APPLE-STRUCTURED-LOCATION;VALUE=URI;X-ADDRESS=Settlers Tavern 114 Bussell Hwy Margaret River WA 6285 Australia;X-APPLE-RADIUS=500;X-TITLE=114 Bussell Hwy:geo:115.0736,-33.9498
END:VEVENT
BEGIN:VEVENT
DTSTART;TZID=Australia/Perth:20200103T213000
DTEND;TZID=Australia/Perth:20200103T213000
DTSTAMP:20260423T211649
CREATED:20191209T040347Z
LAST-MODIFIED:20240530T054140Z
UID:10000517-1578087000-1578087000@www.settlerstavern.com
SUMMARY:Rastatrix
DESCRIPTION:Rastatrix bring their uplifting reggae\, ska and dub vibrations to Settlers Tavern\, Woodichup/Margaret River\, on Fri-night 3rd of January. \nIf you like music that’s danceable from the beginning to the end\, that’s full of positive social and environmental messages\, that’s original and innovative\, has solid and lively percussion beats\, phat bass\, skanking guitar\, dynamic trumpet solos and three-part vocal harmonies – then you’ll enjoy Rastatrix’. \nRastatrix have been performing since 2012\, with appearances at Fairbridge Festival\, Bob Marley Outernational Day\, opening for Dragon\, Kooii and Sticky Fingers\, have featured a song on WAM’s ‘Sounds of the Great Southern’ compilation\, and tour all around the south-west of WA\, from their base in Kwoorabup (Denmark WA). \nRastatrix feature David Rastrick on trumpet\, vocals\, slide-didgeridoo and keys\, Jonelle Grochowski on vocals and electric percussion\, Xander Rowden on electric guitar and vocals\, Brad Anderson on bass guitar\, and Mark Gretton on Drum-kit. \nYou can hear Rastatrix dynamic\, danceable sounds from 9:30 – 11:50 p.m. at Settlers Tavern on Friday night 3rd of January.
URL:https://www.settlerstavern.com/event/rastatrix/
LOCATION:Settlers Tavern\, 114 Bussell Hwy\, Margaret River\, WA\, 6285\, Australia
CATEGORIES:Dub,Music,Reggae,Ska
ATTACH;FMTTYPE=image/jpeg:https://www.settlerstavern.com/wp-content/uploads/2024/04/Rastatrix-Jan-2018_0036-copy.jpg
GEO:-33.9498;115.0736
X-APPLE-STRUCTURED-LOCATION;VALUE=URI;X-ADDRESS=Settlers Tavern 114 Bussell Hwy Margaret River WA 6285 Australia;X-APPLE-RADIUS=500;X-TITLE=114 Bussell Hwy:geo:115.0736,-33.9498
END:VEVENT
END:VCALENDAR