BEGIN:VCALENDAR
VERSION:2.0
PRODID:-//Settlers Tavern - ECPv6.15.18//NONSGML v1.0//EN
CALSCALE:GREGORIAN
METHOD:PUBLISH
X-WR-CALNAME:Settlers Tavern
X-ORIGINAL-URL:https://www.settlerstavern.com
X-WR-CALDESC:Events for Settlers Tavern
REFRESH-INTERVAL;VALUE=DURATION:PT1H
X-Robots-Tag:noindex
X-PUBLISHED-TTL:PT1H
BEGIN:VTIMEZONE
TZID:Australia/Perth
BEGIN:STANDARD
TZOFFSETFROM:+0800
TZOFFSETTO:+0800
TZNAME:AWST
DTSTART:20250101T000000
END:STANDARD
END:VTIMEZONE
BEGIN:VEVENT
DTSTART;TZID=Australia/Perth:20260424T210000
DTEND;TZID=Australia/Perth:20260424T233000
DTSTAMP:20260422T170111
CREATED:20260311T054230Z
LAST-MODIFIED:20260401T044203Z
UID:10001104-1777064400-1777073400@www.settlerstavern.com
SUMMARY:MR PRO PARTY Ft. Boston Switch
DESCRIPTION:Pro Week in Margaret River only comes around once a year and when the heats wrap up\, the night carries on.\n\nStone and Wood have brought the party to celebrate the wrap-up of the epic comp\, with Boston Switch and special guests on the decks to bring home an epic night.\n\nMargs Pro Stone and Wood Party ft. Boston SwitchFriday\, April 24th | 9PM till late | Strictly 18+Settlers Tavern\, Margaret River\n\nJoining Boston Switch on the night:Ash Pluggy + Special Guest DJs.\nExpect a packed dance floor & high energy.\nIt’s FREE ENTRY thanks to Stone and Wood.
URL:https://www.settlerstavern.com/event/boston-switch/
LOCATION:Settlers Tavern\, 114 Bussell Hwy\, Margaret River\, WA\, 6285\, Australia
CATEGORIES:Drum and Bass,Live Music,Live Music Australia
ATTACH;FMTTYPE=image/png:https://www.settlerstavern.com/wp-content/uploads/2026/03/1920-x-1080-webiste-BS.png
GEO:-33.9498;115.0736
X-APPLE-STRUCTURED-LOCATION;VALUE=URI;X-ADDRESS=Settlers Tavern 114 Bussell Hwy Margaret River WA 6285 Australia;X-APPLE-RADIUS=500;X-TITLE=114 Bussell Hwy:geo:115.0736,-33.9498
END:VEVENT
BEGIN:VEVENT
DTSTART;TZID=Australia/Perth:20260501T210000
DTEND;TZID=Australia/Perth:20260501T233000
DTSTAMP:20260422T170111
CREATED:20260326T015224Z
LAST-MODIFIED:20260412T114645Z
UID:10001110-1777669200-1777678200@www.settlerstavern.com
SUMMARY:DJ LAYERZ
DESCRIPTION:DJ Layerz is coming back to the Tav with all your favourite House\, Tech house remixes\, big house beats and enough drops and transitions to keep you on your feet the whole night. He has been working on bringing the latest tunes for his set that you cant refuse! He is looking forward to seeing you on the dance floor early May and will not disappoint so bring your best dancing kicks and see you there!
URL:https://www.settlerstavern.com/event/dj-layerz-13/
LOCATION:Settlers Tavern\, 114 Bussell Hwy\, Margaret River\, WA\, 6285\, Australia
CATEGORIES:DJ,Drum and Bass,Electronic,UKG
ATTACH;FMTTYPE=image/png:https://www.settlerstavern.com/wp-content/uploads/2026/03/Website-banner-template-41.png
GEO:-33.9498;115.0736
X-APPLE-STRUCTURED-LOCATION;VALUE=URI;X-ADDRESS=Settlers Tavern 114 Bussell Hwy Margaret River WA 6285 Australia;X-APPLE-RADIUS=500;X-TITLE=114 Bussell Hwy:geo:115.0736,-33.9498
END:VEVENT
BEGIN:VEVENT
DTSTART;TZID=Australia/Perth:20260626T210000
DTEND;TZID=Australia/Perth:20260626T233000
DTSTAMP:20260422T170111
CREATED:20260418T094926Z
LAST-MODIFIED:20260418T094926Z
UID:10001120-1782507600-1782516600@www.settlerstavern.com
SUMMARY:DJ ERIK
DESCRIPTION:Local DJ spinning vibes from House to hip hop with a dash of tech and a hit of funk. Expect the unexpected\, from commercial bangers to underground fresh grooves. Let’s get this party started cutting through genres\, one beat at a time\, with the focus on getting the crew raving out on the d-floor.
URL:https://www.settlerstavern.com/event/dj-erik-6/
LOCATION:Settlers Tavern\, 114 Bussell Hwy\, Margaret River\, WA\, 6285\, Australia
CATEGORIES:Breaks,Commercial,Drum and Bass,Funk,House,Nu-Disco,tech
ATTACH;FMTTYPE=image/png:https://www.settlerstavern.com/wp-content/uploads/2026/04/Website-banner-template-46.png
GEO:-33.9498;115.0736
X-APPLE-STRUCTURED-LOCATION;VALUE=URI;X-ADDRESS=Settlers Tavern 114 Bussell Hwy Margaret River WA 6285 Australia;X-APPLE-RADIUS=500;X-TITLE=114 Bussell Hwy:geo:115.0736,-33.9498
END:VEVENT
END:VCALENDAR