BEGIN:VCALENDAR
VERSION:2.0
PRODID:-//Settlers Tavern - ECPv6.15.18//NONSGML v1.0//EN
CALSCALE:GREGORIAN
METHOD:PUBLISH
X-ORIGINAL-URL:https://www.settlerstavern.com
X-WR-CALDESC:Events for Settlers Tavern
REFRESH-INTERVAL;VALUE=DURATION:PT1H
X-Robots-Tag:noindex
X-PUBLISHED-TTL:PT1H
BEGIN:VTIMEZONE
TZID:Australia/Perth
BEGIN:STANDARD
TZOFFSETFROM:+0800
TZOFFSETTO:+0800
TZNAME:AWST
DTSTART:20240101T000000
END:STANDARD
END:VTIMEZONE
BEGIN:VEVENT
DTSTART;TZID=Australia/Perth:20250523T210000
DTEND;TZID=Australia/Perth:20250523T233000
DTSTAMP:20260422T183126
CREATED:20250410T124652Z
LAST-MODIFIED:20250410T124652Z
UID:10000954-1748034000-1748043000@www.settlerstavern.com
SUMMARY:DJ LAERYZ
DESCRIPTION:DJ Layerz brings the electronic house heat back to Margaret River for a night of pure vibes. Known for blending deep grooves with high-energy beats\, Layerz knows how to light up the dance floor and keep it going ‘til late. Whether you’re a seasoned local or just passing through\, this is your cue for a proper night out. \nDon’t miss it—see you at Settlers.
URL:https://www.settlerstavern.com/event/dj-laeryz/
LOCATION:Settlers Tavern\, 114 Bussell Hwy\, Margaret River\, WA\, 6285\, Australia
CATEGORIES:Dance,DJ,Electronic,Live Music,Live Music Australia
ATTACH;FMTTYPE=image/png:https://www.settlerstavern.com/wp-content/uploads/2025/04/Screenshot-2025-04-10-at-8.41.40 PM.png
GEO:-33.9498;115.0736
X-APPLE-STRUCTURED-LOCATION;VALUE=URI;X-ADDRESS=Settlers Tavern 114 Bussell Hwy Margaret River WA 6285 Australia;X-APPLE-RADIUS=500;X-TITLE=114 Bussell Hwy:geo:115.0736,-33.9498
END:VEVENT
END:VCALENDAR