BEGIN:VCALENDAR
VERSION:2.0
PRODID:-//Settlers Tavern - ECPv6.15.20//NONSGML v1.0//EN
CALSCALE:GREGORIAN
METHOD:PUBLISH
X-ORIGINAL-URL:https://www.settlerstavern.com
X-WR-CALDESC:Events for Settlers Tavern
REFRESH-INTERVAL;VALUE=DURATION:PT1H
X-Robots-Tag:noindex
X-PUBLISHED-TTL:PT1H
BEGIN:VTIMEZONE
TZID:Australia/Perth
BEGIN:STANDARD
TZOFFSETFROM:+0800
TZOFFSETTO:+0800
TZNAME:AWST
DTSTART:20230101T000000
END:STANDARD
END:VTIMEZONE
BEGIN:VEVENT
DTSTART;TZID=Australia/Perth:20240809T210000
DTEND;TZID=Australia/Perth:20240809T233000
DTSTAMP:20260423T151627
CREATED:20240528T233028Z
LAST-MODIFIED:20240530T060526Z
UID:10000800-1723237200-1723246200@www.settlerstavern.com
SUMMARY:DJ ERIK - BIRTHDAY
DESCRIPTION:CELEBRATORY BIRTHDAY BASH  \nHometown Hero with Global Grooves \nHailing from the enchanting coastal town of Margaret River\, DJ Erik is a 30-year resident\, and by now\, a true local legend. With over 15 years of spinning beats under the stars of Margaret River and across the globe\, Erik has become a beloved fixture in the local music scene. \nErik’s musical journey takes him to some remarkable places. From his hometown gigs at wineries scattered throughout the picturesque Southwest to the sandy dance floors of the world-renowned Burning Man Festival. Erik’s rhythmic adventures extend even further\, as he frequently commutes to Perth for warehouse parties and other electrifying events. \nWhat sets DJ Erik apart is his remarkable versatility. His eclectic musical repertoire spans the spectrum from heart-pounding House music of all varieties to the latest commercial hits\, tailored to suit the crowd’s age and preferences. But that’s not all – DJErik can also serenade you with the most chilled European sounds\, creating the perfect ambiance for a sunset vibe or a lazy Sunday session. \nWith his turntables at the ready and his fingers poised on the faders\, DJ Erik is your maestro for musical magic. Catch him firing up the decks on our main stage\, where he’ll turn any gathering into an unforgettable sonic journey. \nLet DJ Erik’s beats be the soundtrack to your next event and prepare for an experience that’s nothing short of extraordinary.
URL:https://www.settlerstavern.com/event/dj-erik-birthday/
LOCATION:Settlers Tavern\, 114 Bussell Hwy\, Margaret River\, WA\, 6285\, Australia
CATEGORIES:DJ,Music
ATTACH;FMTTYPE=image/png:https://www.settlerstavern.com/wp-content/uploads/2024/05/1.6-Bright-sign-design-e1751978173370.png
GEO:-33.9498;115.0736
X-APPLE-STRUCTURED-LOCATION;VALUE=URI;X-ADDRESS=Settlers Tavern 114 Bussell Hwy Margaret River WA 6285 Australia;X-APPLE-RADIUS=500;X-TITLE=114 Bussell Hwy:geo:115.0736,-33.9498
END:VEVENT
END:VCALENDAR