BEGIN:VCALENDAR
VERSION:2.0
PRODID:-//Settlers Tavern - ECPv6.15.20//NONSGML v1.0//EN
CALSCALE:GREGORIAN
METHOD:PUBLISH
X-WR-CALNAME:Settlers Tavern
X-ORIGINAL-URL:https://www.settlerstavern.com
X-WR-CALDESC:Events for Settlers Tavern
REFRESH-INTERVAL;VALUE=DURATION:PT1H
X-Robots-Tag:noindex
X-PUBLISHED-TTL:PT1H
BEGIN:VTIMEZONE
TZID:Australia/Perth
BEGIN:STANDARD
TZOFFSETFROM:+0800
TZOFFSETTO:+0800
TZNAME:AWST
DTSTART:20230101T000000
END:STANDARD
END:VTIMEZONE
BEGIN:VEVENT
DTSTART;TZID=Australia/Perth:20240601T210000
DTEND;TZID=Australia/Perth:20240601T233000
DTSTAMP:20260423T200133
CREATED:20240516T171902Z
LAST-MODIFIED:20240530T060800Z
UID:10000813-1717275600-1717284600@www.settlerstavern.com
SUMMARY:SIMOKIN
DESCRIPTION:Reared in Sydney’s club scene in the early noughtys\, simokin developed his tastes for grinding funky beats on the DF at sublime and the underground.  Expanding his repertoire during his 1 year sabbatical in northern England immersing himself in tech house basements and dub nights in the West Indian centre of Leeds. both leaving an indelible mark on Simokin’s output of funky\, techy\, dubby vibes found in his sets. With an appreciation for good songwriting and popular remixes you can find something for everyone when simokin is behind the decks.
URL:https://www.settlerstavern.com/event/simokin/
LOCATION:Settlers Tavern\, 114 Bussell Hwy\, Margaret River\, WA\, 6285\, Australia
CATEGORIES:DJ,Dub,Funk,Music
ATTACH;FMTTYPE=image/png:https://www.settlerstavern.com/wp-content/uploads/2024/03/Screen-Shot-2024-02-23-at-9.40.42-am.png
GEO:-33.9498;115.0736
X-APPLE-STRUCTURED-LOCATION;VALUE=URI;X-ADDRESS=Settlers Tavern 114 Bussell Hwy Margaret River WA 6285 Australia;X-APPLE-RADIUS=500;X-TITLE=114 Bussell Hwy:geo:115.0736,-33.9498
END:VEVENT
END:VCALENDAR