BEGIN:VCALENDAR
VERSION:2.0
PRODID:-//Settlers Tavern - ECPv6.15.20//NONSGML v1.0//EN
CALSCALE:GREGORIAN
METHOD:PUBLISH
X-ORIGINAL-URL:https://www.settlerstavern.com
X-WR-CALDESC:Events for Settlers Tavern
REFRESH-INTERVAL;VALUE=DURATION:PT1H
X-Robots-Tag:noindex
X-PUBLISHED-TTL:PT1H
BEGIN:VTIMEZONE
TZID:Australia/Perth
BEGIN:STANDARD
TZOFFSETFROM:+0800
TZOFFSETTO:+0800
TZNAME:AWST
DTSTART:20210101T000000
END:STANDARD
END:VTIMEZONE
BEGIN:VEVENT
DTSTART;TZID=Australia/Perth:20221028T210000
DTEND;TZID=Australia/Perth:20221028T210000
DTSTAMP:20260426T084238
CREATED:20221018T000024Z
LAST-MODIFIED:20240530T054738Z
UID:10000613-1666990800-1666990800@www.settlerstavern.com
SUMMARY:DJ Erik
DESCRIPTION:FREE ENTRY\nFacebook event: facebook.com/events/675585080426829/ \nDJ ERIK is firing up his decks on our main stage this Saturday night!\n   \nHead down to your favourite watering hole and get ready to dance to all of your favourite house tracks!
URL:https://www.settlerstavern.com/event/dj-erik-19-3/
LOCATION:Settlers Tavern\, 114 Bussell Hwy\, Margaret River\, WA\, 6285\, Australia
CATEGORIES:DJ,Music
ATTACH;FMTTYPE=image/png:https://www.settlerstavern.com/wp-content/uploads/2024/04/Dj-Erik-FB-cover.png
GEO:-33.9498;115.0736
X-APPLE-STRUCTURED-LOCATION;VALUE=URI;X-ADDRESS=Settlers Tavern 114 Bussell Hwy Margaret River WA 6285 Australia;X-APPLE-RADIUS=500;X-TITLE=114 Bussell Hwy:geo:115.0736,-33.9498
END:VEVENT
END:VCALENDAR