BEGIN:VCALENDAR
VERSION:2.0
PRODID:-//Settlers Tavern - ECPv6.15.20//NONSGML v1.0//EN
CALSCALE:GREGORIAN
METHOD:PUBLISH
X-ORIGINAL-URL:https://www.settlerstavern.com
X-WR-CALDESC:Events for Settlers Tavern
REFRESH-INTERVAL;VALUE=DURATION:PT1H
X-Robots-Tag:noindex
X-PUBLISHED-TTL:PT1H
BEGIN:VTIMEZONE
TZID:Australia/Perth
BEGIN:STANDARD
TZOFFSETFROM:+0800
TZOFFSETTO:+0800
TZNAME:AWST
DTSTART:20210101T000000
END:STANDARD
END:VTIMEZONE
BEGIN:VEVENT
DTSTART;TZID=Australia/Perth:20220930T210000
DTEND;TZID=Australia/Perth:20220930T210000
DTSTAMP:20260426T065545
CREATED:20220920T213521Z
LAST-MODIFIED:20240530T054731Z
UID:10000685-1664571600-1664571600@www.settlerstavern.com
SUMMARY:DJ I-Plex
DESCRIPTION:FREE ENTRY\nFacebook event: facebook.com/events/1540435656406207/\n\nDj I-PLEX will be performing at The Settlers Tavern! He has showcased his music locally and internationally over the last 15 years with feel-good vibes and catchy singalongs all mixed in with originals and remix’s from the’80s\, the 90s and today’s classics.\nNight of fun and dancing accompanied by a live DJ.
URL:https://www.settlerstavern.com/event/dj-i-plex-2-3/
LOCATION:WA
CATEGORIES:DJ,Music
ATTACH;FMTTYPE=image/jpeg:https://www.settlerstavern.com/wp-content/uploads/2024/04/DJ-I-PLEXweb.jpg
END:VEVENT
END:VCALENDAR