BEGIN:VCALENDAR
VERSION:2.0
PRODID:-//Settlers Tavern - ECPv6.15.18//NONSGML v1.0//EN
CALSCALE:GREGORIAN
METHOD:PUBLISH
X-WR-CALNAME:Settlers Tavern
X-ORIGINAL-URL:https://www.settlerstavern.com
X-WR-CALDESC:Events for Settlers Tavern
REFRESH-INTERVAL;VALUE=DURATION:PT1H
X-Robots-Tag:noindex
X-PUBLISHED-TTL:PT1H
BEGIN:VTIMEZONE
TZID:Australia/Perth
BEGIN:STANDARD
TZOFFSETFROM:+0800
TZOFFSETTO:+0800
TZNAME:AWST
DTSTART:20250101T000000
END:STANDARD
END:VTIMEZONE
BEGIN:VEVENT
DTSTART;TZID=Australia/Perth:20260206T210000
DTEND;TZID=Australia/Perth:20260206T233000
DTSTAMP:20260421T231135
CREATED:20260114T040333Z
LAST-MODIFIED:20260114T040333Z
UID:10001081-1770411600-1770420600@www.settlerstavern.com
SUMMARY:DJ LAYERZ
DESCRIPTION:Looking forward to mixing a handful of fresh remixes with big house beats for you alongside some late night DNB with UK grime influence for the go ghetters.. see you on the floor!
URL:https://www.settlerstavern.com/event/dj-layerz-12/
LOCATION:Settlers Tavern\, 114 Bussell Hwy\, Margaret River\, WA\, 6285\, Australia
CATEGORIES:DJ,Drum and Bass,Electronic,UKG
ATTACH;FMTTYPE=image/png:https://www.settlerstavern.com/wp-content/uploads/2025/03/Screenshot-2025-03-12-at-1.50.37 PM-e1748236269975.png
GEO:-33.9498;115.0736
X-APPLE-STRUCTURED-LOCATION;VALUE=URI;X-ADDRESS=Settlers Tavern 114 Bussell Hwy Margaret River WA 6285 Australia;X-APPLE-RADIUS=500;X-TITLE=114 Bussell Hwy:geo:115.0736,-33.9498
END:VEVENT
BEGIN:VEVENT
DTSTART;TZID=Australia/Perth:20260213T210000
DTEND;TZID=Australia/Perth:20260213T233000
DTSTAMP:20260421T231135
CREATED:20260114T040844Z
LAST-MODIFIED:20260114T040844Z
UID:10001082-1771016400-1771025400@www.settlerstavern.com
SUMMARY:LATIN PARTY w/ DIEGO
DESCRIPTION:Join us for a BOOGIE! Pimp your money maker and bring your mama and nana to the dance floor. Settlers opens its doors for another volume of our proclaimed FUNKY SESSIONS. All time grooves\, funky latin rhythms and deep house return to the best pub in the South West by Diego de Camino. Connect with the music\, connect with yourself!
URL:https://www.settlerstavern.com/event/latin-party-w-diego-10/
LOCATION:Settlers Tavern\, 114 Bussell Hwy\, Margaret River\, WA\, 6285\, Australia
CATEGORIES:DJ,Latin
ATTACH;FMTTYPE=image/png:https://www.settlerstavern.com/wp-content/uploads/2024/06/Screen-Shot-2024-06-28-at-10.18.08-am.png
GEO:-33.9498;115.0736
X-APPLE-STRUCTURED-LOCATION;VALUE=URI;X-ADDRESS=Settlers Tavern 114 Bussell Hwy Margaret River WA 6285 Australia;X-APPLE-RADIUS=500;X-TITLE=114 Bussell Hwy:geo:115.0736,-33.9498
END:VEVENT
BEGIN:VEVENT
DTSTART;TZID=Australia/Perth:20260227T210000
DTEND;TZID=Australia/Perth:20260227T233000
DTSTAMP:20260421T231135
CREATED:20251215T093403Z
LAST-MODIFIED:20251215T093403Z
UID:10001067-1772226000-1772235000@www.settlerstavern.com
SUMMARY:DJ MARCEL
DESCRIPTION:Playing Perth venues each weekend\, Marcel’s love of surfing draws him to the Southwest where he always delivers the goods behind the decks. Expect vibey house music before Marcel starts dropping commercial bangers guaranteed to fire up the dance floor..
URL:https://www.settlerstavern.com/event/dj-marcel-3/
LOCATION:Settlers Tavern\, 114 Bussell Hwy\, Margaret River\, WA\, 6285\, Australia
CATEGORIES:Dance,DJ,House
ATTACH;FMTTYPE=image/jpeg:https://www.settlerstavern.com/wp-content/uploads/2025/12/DJ-close-up-2-scaled.jpg
GEO:-33.9498;115.0736
X-APPLE-STRUCTURED-LOCATION;VALUE=URI;X-ADDRESS=Settlers Tavern 114 Bussell Hwy Margaret River WA 6285 Australia;X-APPLE-RADIUS=500;X-TITLE=114 Bussell Hwy:geo:115.0736,-33.9498
END:VEVENT
END:VCALENDAR