BEGIN:VCALENDAR
VERSION:2.0
PRODID:-//Settlers Tavern - ECPv6.15.18//NONSGML v1.0//EN
CALSCALE:GREGORIAN
METHOD:PUBLISH
X-WR-CALNAME:Settlers Tavern
X-ORIGINAL-URL:https://www.settlerstavern.com
X-WR-CALDESC:Events for Settlers Tavern
REFRESH-INTERVAL;VALUE=DURATION:PT1H
X-Robots-Tag:noindex
X-PUBLISHED-TTL:PT1H
BEGIN:VTIMEZONE
TZID:Australia/Perth
BEGIN:STANDARD
TZOFFSETFROM:+0800
TZOFFSETTO:+0800
TZNAME:AWST
DTSTART:20240101T000000
END:STANDARD
END:VTIMEZONE
BEGIN:VEVENT
DTSTART;TZID=Australia/Perth:20251205T210000
DTEND;TZID=Australia/Perth:20251205T233000
DTSTAMP:20260422T023725
CREATED:20251012T110538Z
LAST-MODIFIED:20251012T112048Z
UID:10001032-1764968400-1764977400@www.settlerstavern.com
SUMMARY:DJ MARCEL
DESCRIPTION:Marcel’s unique blend of summer house and commercial dance features at beach clubs\, late night bars\, night clubs and events\, both in Fremantle and beyond. \nMarcel is the resident DJ at Coast Beach Club and Sweetwater Rooftop Bar. He also performs regularly guest sets at popular venues across Perth including The Aviary\, Lil’s Rooftop Bar\, The Federal Hotel\, Hugo’s Nightclub\, and more. \nMarcel has supported interstate headline acts including Bag Raiders\, Hayden James\, Confidence Man\, Yolanda Be Cool\, Young Franco and KLP. He has worked internationally in Thailand\, Bali\, the Maldives\, and England\, where he began his career spinning house music in London. \nWith his signature sounds\, passion for music\, and professionalism\, Marcel remains in demand within the West Australian scene.
URL:https://www.settlerstavern.com/event/dj-marcel-2/
LOCATION:Settlers Tavern\, 114 Bussell Hwy\, Margaret River\, WA\, 6285\, Australia
CATEGORIES:Dance,DJ,House
ATTACH;FMTTYPE=image/jpeg:https://www.settlerstavern.com/wp-content/uploads/2025/10/DJ-close-up-1-scaled.jpg
GEO:-33.9498;115.0736
X-APPLE-STRUCTURED-LOCATION;VALUE=URI;X-ADDRESS=Settlers Tavern 114 Bussell Hwy Margaret River WA 6285 Australia;X-APPLE-RADIUS=500;X-TITLE=114 Bussell Hwy:geo:115.0736,-33.9498
END:VEVENT
BEGIN:VEVENT
DTSTART;TZID=Australia/Perth:20251212T210000
DTEND;TZID=Australia/Perth:20251212T233000
DTSTAMP:20260422T023725
CREATED:20251019T041201Z
LAST-MODIFIED:20251205T122158Z
UID:10001041-1765573200-1765582200@www.settlerstavern.com
SUMMARY:LATIN PARTY w/ DIEGO
DESCRIPTION:Latin Party by Kilian Bros @ Settlers\, Margaret River \nMargaret River\, prepárate—because we’re bringing the tropical fire straight to Settlers. This Latin Party is all about ritmo\, sabor\, and that wild energy that makes everyone move\, even aquellos que “don’t really dance.” Expect a night where Aussie party-goers and Latin spirits mix into one beautifully chaotic\, high-vibe celebración. \nPiscolas and Fernet will be on deck (obvio)\, the música will be turning up the heat\, and the dance floor becomes a little slice of Caribbean summer—no flights\, no stress\, solo buena onda. Come ready to groove\, sip algo rico\, meet new faces\, or just let your body catch the beat and flow. \nMargaret River… se prende la noche. Let’s dance!
URL:https://www.settlerstavern.com/event/latin-party-w-diego-8/
LOCATION:Settlers Tavern\, 114 Bussell Hwy\, Margaret River\, WA\, 6285\, Australia
CATEGORIES:DJ,Latin
ATTACH;FMTTYPE=image/png:https://www.settlerstavern.com/wp-content/uploads/2024/06/Screen-Shot-2024-06-28-at-10.18.08-am.png
GEO:-33.9498;115.0736
X-APPLE-STRUCTURED-LOCATION;VALUE=URI;X-ADDRESS=Settlers Tavern 114 Bussell Hwy Margaret River WA 6285 Australia;X-APPLE-RADIUS=500;X-TITLE=114 Bussell Hwy:geo:115.0736,-33.9498
END:VEVENT
BEGIN:VEVENT
DTSTART;TZID=Australia/Perth:20251218T180000
DTEND;TZID=Australia/Perth:20251218T210000
DTSTAMP:20260422T023725
CREATED:20251202T114320Z
LAST-MODIFIED:20251205T042636Z
UID:10001062-1766080800-1766091600@www.settlerstavern.com
SUMMARY:DJ JP - Love Christmas Love Margaret River Street Party
DESCRIPTION:Hailing from Chile and now based in Margaret River\, JP spins Afrohouse\, Funky House\, and Latin Tech House into lively\, groove driven sets. His music is all about energy and connection\, blending rhythmic beats with melodic flows to create a party atmosphere that keeps people moving from start to finish. \nWhether performing at sunset beach gatherings\, local clubs\, or community events\, JP’s open format approach allows him to adapt to any crowd and setting. With a knack for reading the vibe and bringing fresh sounds to every event\, he delivers memorable musical experiences that make every moment feel alive and full of joy.
URL:https://www.settlerstavern.com/event/dj-jp-love-christmas-love-margaret-river-street-party/
LOCATION:WA
CATEGORIES:Afro,Afrobeat,DJ,House,Latin,Techouse
ATTACH;FMTTYPE=image/jpeg:https://www.settlerstavern.com/wp-content/uploads/2025/12/Website-banner-template-5.jpg
END:VEVENT
BEGIN:VEVENT
DTSTART;TZID=Australia/Perth:20251219T210000
DTEND;TZID=Australia/Perth:20251219T233000
DTSTAMP:20260422T023725
CREATED:20251118T042206Z
LAST-MODIFIED:20251204T023751Z
UID:10001050-1766178000-1766187000@www.settlerstavern.com
SUMMARY:DJ LAYERZ
DESCRIPTION:Looking forward to mixing a handful of fresh remixes with big house beats for you alongside some late night DNB with UK grime influence for the go ghetters.. see you on the floor
URL:https://www.settlerstavern.com/event/dj-layerz-11/
LOCATION:Settlers Tavern\, 114 Bussell Hwy\, Margaret River\, WA\, 6285\, Australia
CATEGORIES:DJ,Drum and Bass,Electronic,UKG
ATTACH;FMTTYPE=image/png:https://www.settlerstavern.com/wp-content/uploads/2025/03/Screenshot-2025-03-12-at-1.50.37 PM-e1748236269975.png
GEO:-33.9498;115.0736
X-APPLE-STRUCTURED-LOCATION;VALUE=URI;X-ADDRESS=Settlers Tavern 114 Bussell Hwy Margaret River WA 6285 Australia;X-APPLE-RADIUS=500;X-TITLE=114 Bussell Hwy:geo:115.0736,-33.9498
END:VEVENT
BEGIN:VEVENT
DTSTART;TZID=Australia/Perth:20251226T210000
DTEND;TZID=Australia/Perth:20251226T233000
DTSTAMP:20260422T023725
CREATED:20251118T043252Z
LAST-MODIFIED:20251205T023900Z
UID:10001051-1766782800-1766791800@www.settlerstavern.com
SUMMARY:DJ B GROOVY
DESCRIPTION:Yes\, it’s all about the Groove!\nBruno aka DJ – B.Groovy has been collecting rare and unique tracks from all continents\, with the very best music played by musicians.\nThere are no what he calls « junk music » in B.Groovy’s sets.\nWith the best of Disco / Funk / Afrobeat tunes from the 1970s-80s-90s + Salsa / Reggae / Ska & Balkan tunes\, the groove is the core of each track and will make you shake everything you’ve got!\nYou are a music lover? You like having fun dancing?\nCome along to enjoy the Funky Night! \nBruno was born in Paris and has been influenced by cultural diversity in music and performing art. He is also a musician / songwriter and a physical actor / circus artist. He worked in the music & performing arts industry for about 30 years\, was co-creator of Cie.Anomalie in 1995\, touring modern circus shows worldwide and worked with various artistic directors in France and Europe. \nHe is a qualified sound engineer (SAE Institute graduate)\, with 16 years of experience in live music and festivals in Perth and Fremantle area.\nHe was the MC and creator of ‘Super-Groove Party’ for Fringe World Festival\, Perth 2015. He has been Djing in Fremantle and Perth suburbs for various events and weddings + performing with his band SOL-R\, between 2009 and 2018. \nHe currently live in Margaret River\, is a sound engineer at Margaret River Heart + Settlers Tavern and play music with Si&B duo.
URL:https://www.settlerstavern.com/event/dj-b-groovy-5/
LOCATION:Settlers Tavern\, 114 Bussell Hwy\, Margaret River\, WA\, 6285\, Australia
CATEGORIES:Disco,DJ,Funk
ATTACH;FMTTYPE=image/jpeg:https://www.settlerstavern.com/wp-content/uploads/2025/11/Website-banner-template-4.jpg
GEO:-33.9498;115.0736
X-APPLE-STRUCTURED-LOCATION;VALUE=URI;X-ADDRESS=Settlers Tavern 114 Bussell Hwy Margaret River WA 6285 Australia;X-APPLE-RADIUS=500;X-TITLE=114 Bussell Hwy:geo:115.0736,-33.9498
END:VEVENT
END:VCALENDAR