BEGIN:VCALENDAR
VERSION:2.0
PRODID:-//Settlers Tavern - ECPv6.15.18//NONSGML v1.0//EN
CALSCALE:GREGORIAN
METHOD:PUBLISH
X-WR-CALNAME:Settlers Tavern
X-ORIGINAL-URL:https://www.settlerstavern.com
X-WR-CALDESC:Events for Settlers Tavern
REFRESH-INTERVAL;VALUE=DURATION:PT1H
X-Robots-Tag:noindex
X-PUBLISHED-TTL:PT1H
BEGIN:VTIMEZONE
TZID:Australia/Perth
BEGIN:STANDARD
TZOFFSETFROM:+0800
TZOFFSETTO:+0800
TZNAME:AWST
DTSTART:20240101T000000
END:STANDARD
END:VTIMEZONE
BEGIN:VEVENT
DTSTART;TZID=Australia/Perth:20251107T210000
DTEND;TZID=Australia/Perth:20251107T233000
DTSTAMP:20260422T042401
CREATED:20251006T050958Z
LAST-MODIFIED:20251006T050958Z
UID:10001031-1762549200-1762558200@www.settlerstavern.com
SUMMARY:Simon Melon
DESCRIPTION:After disappearing to Europe for the deep depths of winter\, Simon Melon returns to our local musical hotspot\, this time to host the second instalment of the hotly anticipated solo discotheque series. Expect another meticulously curated and highly danceable soundtrack for a 3hr get down on our devilishly low lit and sticky dance floor.
URL:https://www.settlerstavern.com/event/simon-melon/
LOCATION:Settlers Tavern\, 114 Bussell Hwy\, Margaret River\, WA\, 6285\, Australia
CATEGORIES:DJ
ATTACH;FMTTYPE=image/jpeg:https://www.settlerstavern.com/wp-content/uploads/2025/10/DSCF0720.jpeg
GEO:-33.9498;115.0736
X-APPLE-STRUCTURED-LOCATION;VALUE=URI;X-ADDRESS=Settlers Tavern 114 Bussell Hwy Margaret River WA 6285 Australia;X-APPLE-RADIUS=500;X-TITLE=114 Bussell Hwy:geo:115.0736,-33.9498
END:VEVENT
BEGIN:VEVENT
DTSTART;TZID=Australia/Perth:20251114T210000
DTEND;TZID=Australia/Perth:20251114T233000
DTSTAMP:20260422T042401
CREATED:20251016T042931Z
LAST-MODIFIED:20251016T042931Z
UID:10001036-1763154000-1763163000@www.settlerstavern.com
SUMMARY:LATIN PARTY w/ DIEGO
DESCRIPTION:Join us for a BOOGIE! Pimp your money maker and bring your mama and nana to the dance floor. Settlers opens its doors for another volume of our proclaimed FUNKY SESSIONS. All time grooves\, funky latin rhythms and deep house return to the best pub in the South West by Diego de Camino. Connect with the music\, connect with yourself!
URL:https://www.settlerstavern.com/event/latin-party-w-diego-7/
LOCATION:Settlers Tavern\, 114 Bussell Hwy\, Margaret River\, WA\, 6285\, Australia
CATEGORIES:DJ,Latin
ATTACH;FMTTYPE=image/png:https://www.settlerstavern.com/wp-content/uploads/2024/06/Screen-Shot-2024-06-28-at-10.18.08-am.png
GEO:-33.9498;115.0736
X-APPLE-STRUCTURED-LOCATION;VALUE=URI;X-ADDRESS=Settlers Tavern 114 Bussell Hwy Margaret River WA 6285 Australia;X-APPLE-RADIUS=500;X-TITLE=114 Bussell Hwy:geo:115.0736,-33.9498
END:VEVENT
BEGIN:VEVENT
DTSTART;TZID=Australia/Perth:20251121T210000
DTEND;TZID=Australia/Perth:20251121T233000
DTSTAMP:20260422T042401
CREATED:20251004T011756Z
LAST-MODIFIED:20251004T011756Z
UID:10001029-1763758800-1763767800@www.settlerstavern.com
SUMMARY:BELU CASAS
DESCRIPTION:Belu Casas\, born as María Belén Casas in Buenos Aires\, Argentina\, is a music producer and electronic music DJ whose love for music began at an early age. Raised in a family where music was always present\, surrounded by relatives who played instruments\, sang\, and shared a rich musical tradition\, Belu grew up surrounded by notes and melodies. Her formal music training began when she was a child\, and over the years\, she refined her skills\, eventually becoming a teacher of various musical instruments. \nAt the age of 27\, Belu was drawn to the world of electronic music\, which marked a significant turning point in her career. She began to explore this genre more deeply and immerse herself in the electronic culture by attending parties and acquiring her own equipment to mix. During the pandemic\, she found space to develop her craft\, while also experimenting with new sounds. Today\, she continues to refine her technique\, dedicating time to studying synthesizers and other tools that allow her to expand her knowledge and explore different subgenres of electronic music. \nAt 35 years old\, Belu has had the opportunity to travel through Italy\, an experience that inspired her to continue expanding her career. She currently resides in Margaret River\, Australia\, where she enjoys the landscape and the tranquility the place offers\, while continuing to share her music and talent at various locations in the region. Her passion for electronic music\, along with her constant search for new sounds\, has solidified her as an emerging artist in the international electronic music scene.
URL:https://www.settlerstavern.com/event/belu-casas-3/
LOCATION:Settlers Tavern\, 114 Bussell Hwy\, Margaret River\, WA\, 6285\, Australia
CATEGORIES:DJ,House,MELODIC TECHNO ,Techouse
ATTACH;FMTTYPE=image/jpeg:https://www.settlerstavern.com/wp-content/uploads/2025/03/WhatsApp-Image-2025-02-21-at-5.55.41-PM-scaled.jpeg
GEO:-33.9498;115.0736
X-APPLE-STRUCTURED-LOCATION;VALUE=URI;X-ADDRESS=Settlers Tavern 114 Bussell Hwy Margaret River WA 6285 Australia;X-APPLE-RADIUS=500;X-TITLE=114 Bussell Hwy:geo:115.0736,-33.9498
END:VEVENT
END:VCALENDAR