BEGIN:VCALENDAR
VERSION:2.0
PRODID:-//Settlers Tavern - ECPv6.15.18//NONSGML v1.0//EN
CALSCALE:GREGORIAN
METHOD:PUBLISH
X-ORIGINAL-URL:https://www.settlerstavern.com
X-WR-CALDESC:Events for Settlers Tavern
REFRESH-INTERVAL;VALUE=DURATION:PT1H
X-Robots-Tag:noindex
X-PUBLISHED-TTL:PT1H
BEGIN:VTIMEZONE
TZID:Australia/Perth
BEGIN:STANDARD
TZOFFSETFROM:+0800
TZOFFSETTO:+0800
TZNAME:AWST
DTSTART:20240101T000000
END:STANDARD
END:VTIMEZONE
BEGIN:VEVENT
DTSTART;TZID=Australia/Perth:20251003T210000
DTEND;TZID=Australia/Perth:20251003T233000
DTSTAMP:20260422T061125
CREATED:20250807T111930Z
LAST-MODIFIED:20250807T111930Z
UID:10001007-1759525200-1759534200@www.settlerstavern.com
SUMMARY:LUKE VECCHIO
DESCRIPTION:Luke Vecchio is a constantly evolving artist\, allowing his music to naturally unfold alongside his own life path\, taking inspiration from all avenues of music. creating groove packed\, atmospheric music intended on creating an immersive listening experience.. \n\nHis intimate knowledge of music and dedication to his craft have seen his original productions and remix work grow with each passing year. His influences range far and wide across the musical spectrum and this is on full display with his emerging catalog of tracks to date.\nHaving performed all over Australia in the last 10 years\, Luke now calls Margaret River home\, marking the next chapter in his musical career.
URL:https://www.settlerstavern.com/event/luke-vecchio-2/
LOCATION:Settlers Tavern\, 114 Bussell Hwy\, Margaret River\, WA\, 6285\, Australia
CATEGORIES:Afro,Disco,DJ,Funk
ATTACH;FMTTYPE=image/jpeg:https://www.settlerstavern.com/wp-content/uploads/2025/06/155A2501-scaled-e1750222769230.jpg
GEO:-33.9498;115.0736
X-APPLE-STRUCTURED-LOCATION;VALUE=URI;X-ADDRESS=Settlers Tavern 114 Bussell Hwy Margaret River WA 6285 Australia;X-APPLE-RADIUS=500;X-TITLE=114 Bussell Hwy:geo:115.0736,-33.9498
END:VEVENT
BEGIN:VEVENT
DTSTART;TZID=Australia/Perth:20251010T210000
DTEND;TZID=Australia/Perth:20251010T233000
DTSTAMP:20260422T061125
CREATED:20250905T121318Z
LAST-MODIFIED:20250905T121318Z
UID:10001020-1760130000-1760139000@www.settlerstavern.com
SUMMARY:DJ B GROOVY
DESCRIPTION:Yes\, it’s all about the Groove!\nBruno aka DJ – B.Groovy has been collecting rare and unique tracks from all continents\, with the very best music played by musicians.\nThere are no what he calls « junk music » in B.Groovy’s sets.\nWith the best of Disco / Funk / Afrobeat tunes from the 1970s-80s-90s + Salsa / Reggae / Ska & Balkan tunes\, the groove is the core of each track and will make you shake everything you’ve got!\nYou are a music lover? You like having fun dancing?\nCome along to enjoy the Funky Night! \nBruno was born in Paris and has been influenced by cultural diversity in music and performing art. He is also a musician / songwriter and a physical actor / circus artist. He worked in the music & performing arts industry for about 30 years\, was co-creator of Cie.Anomalie in 1995\, touring modern circus shows worldwide and worked with various artistic directors in France and Europe. \nHe is a qualified sound engineer (SAE Institute graduate)\, with 16 years of experience in live music and festivals in Perth and Fremantle area.\nHe was the MC and creator of ‘Super-Groove Party’ for Fringe World Festival\, Perth 2015. He has been Djing in Fremantle and Perth suburbs for various events and weddings + performing with his band SOL-R\, between 2009 and 2018. \nHe currently live in Margaret River\, is a sound engineer at Margaret River Heart + Settlers Tavern and play music with Si&B duo.
URL:https://www.settlerstavern.com/event/dj-b-groovy-4/
LOCATION:Settlers Tavern\, 114 Bussell Hwy\, Margaret River\, WA\, 6285\, Australia
CATEGORIES:Disco,DJ,Funk
ATTACH;FMTTYPE=image/png:https://www.settlerstavern.com/wp-content/uploads/2025/05/Screenshot-2025-05-29-at-3.47.27 PM.png
GEO:-33.9498;115.0736
X-APPLE-STRUCTURED-LOCATION;VALUE=URI;X-ADDRESS=Settlers Tavern 114 Bussell Hwy Margaret River WA 6285 Australia;X-APPLE-RADIUS=500;X-TITLE=114 Bussell Hwy:geo:115.0736,-33.9498
END:VEVENT
BEGIN:VEVENT
DTSTART;TZID=Australia/Perth:20251017T210000
DTEND;TZID=Australia/Perth:20251017T233000
DTSTAMP:20260422T061125
CREATED:20250910T051248Z
LAST-MODIFIED:20250914T044459Z
UID:10001021-1760734800-1760743800@www.settlerstavern.com
SUMMARY:LATIN PARTY w/ DIEGO
DESCRIPTION:Join us for a BOOGIE! Pimp your money maker and bring your mama and nana to the dance floor. Settlers opens its doors for another volume of our proclaimed FUNKY SESSIONS. All time grooves\, funky latin rhythms and deep house return to the best pub in the South West by Diego de Camino. Connect with the music\, connect with yourself!
URL:https://www.settlerstavern.com/event/latin-party-w-diego-6/
LOCATION:Settlers Tavern\, 114 Bussell Hwy\, Margaret River\, WA\, 6285\, Australia
CATEGORIES:DJ,Latin
ATTACH;FMTTYPE=image/png:https://www.settlerstavern.com/wp-content/uploads/2024/06/Screen-Shot-2024-06-28-at-10.18.08-am.png
GEO:-33.9498;115.0736
X-APPLE-STRUCTURED-LOCATION;VALUE=URI;X-ADDRESS=Settlers Tavern 114 Bussell Hwy Margaret River WA 6285 Australia;X-APPLE-RADIUS=500;X-TITLE=114 Bussell Hwy:geo:115.0736,-33.9498
END:VEVENT
BEGIN:VEVENT
DTSTART;TZID=Australia/Perth:20251031T210000
DTEND;TZID=Australia/Perth:20251101T000000
DTSTAMP:20260422T061125
CREATED:20250213T060742Z
LAST-MODIFIED:20250915T120951Z
UID:10000933-1761944400-1761955200@www.settlerstavern.com
SUMMARY:DJ ERIK
DESCRIPTION:Inspired by the ever-evolving landscape of electronic music\, DJ Erik weaves together intricate rhythms\, soaring melodies\, and cutting-edge production techniques to craft a distinctive sonic experience. From the pulsing basslines or Tech House to the euphoric drops of House and the breakneck drum patterns of DnB\, DJ Erik’s music is a testament to his innovative spirit and passion for the genre. \nDJ Erik is a dynamic Australian electronic music artist\, blending the infectious energy or House\, the frenetic beats of Drum and Bass\, and the futuristic vibes of Tech House. With a fresh commercial edge\, DJ Erik creates an electrifying sound that resonates with dance floors and music enthusiasts alike. \nCome join DJ Erik for a Halloween dance party!
URL:https://www.settlerstavern.com/event/dj-erik-2/
LOCATION:Settlers Tavern\, 114 Bussell Hwy\, Margaret River\, WA\, 6285\, Australia
CATEGORIES:DJ,Drum and Bass,House,Live Music,Live Music Australia
ATTACH;FMTTYPE=image/png:https://www.settlerstavern.com/wp-content/uploads/2025/02/Settlers-tavern.png-1-e1757938088779.png
GEO:-33.9498;115.0736
X-APPLE-STRUCTURED-LOCATION;VALUE=URI;X-ADDRESS=Settlers Tavern 114 Bussell Hwy Margaret River WA 6285 Australia;X-APPLE-RADIUS=500;X-TITLE=114 Bussell Hwy:geo:115.0736,-33.9498
END:VEVENT
END:VCALENDAR