BEGIN:VCALENDAR
VERSION:2.0
PRODID:-//Settlers Tavern - ECPv6.15.18//NONSGML v1.0//EN
CALSCALE:GREGORIAN
METHOD:PUBLISH
X-WR-CALNAME:Settlers Tavern
X-ORIGINAL-URL:https://www.settlerstavern.com
X-WR-CALDESC:Events for Settlers Tavern
REFRESH-INTERVAL;VALUE=DURATION:PT1H
X-Robots-Tag:noindex
X-PUBLISHED-TTL:PT1H
BEGIN:VTIMEZONE
TZID:Australia/Perth
BEGIN:STANDARD
TZOFFSETFROM:+0800
TZOFFSETTO:+0800
TZNAME:AWST
DTSTART:20240101T000000
END:STANDARD
END:VTIMEZONE
BEGIN:VEVENT
DTSTART;TZID=Australia/Perth:20250705T210000
DTEND;TZID=Australia/Perth:20250705T233000
DTSTAMP:20260422T111522
CREATED:20250618T045606Z
LAST-MODIFIED:20250618T045940Z
UID:10000978-1751749200-1751758200@www.settlerstavern.com
SUMMARY:LUKE VECCHIO
DESCRIPTION:Luke Vecchio is a constantly evolving artist\, allowing his music to naturally unfold alongside his own life path\, taking inspiration from all avenues of music. creating groove packed\, atmospheric music intended on creating an immersive listening experience.. \n\nHis intimate knowledge of music and dedication to his craft have seen his original productions and remix work grow with each passing year. His influences range far and wide across the musical spectrum and this is on full display with his emerging catalog of tracks to date.\nHaving performed all over Australia in the last 10 years\, Luke now calls Margaret River home\, marking the next chapter in his musical career.
URL:https://www.settlerstavern.com/event/luke-vecchio/
LOCATION:Settlers Tavern\, 114 Bussell Hwy\, Margaret River\, WA\, 6285\, Australia
CATEGORIES:Afro,Disco,DJ,Funk
ATTACH;FMTTYPE=image/jpeg:https://www.settlerstavern.com/wp-content/uploads/2025/06/155A2501-scaled-e1750222769230.jpg
GEO:-33.9498;115.0736
X-APPLE-STRUCTURED-LOCATION;VALUE=URI;X-ADDRESS=Settlers Tavern 114 Bussell Hwy Margaret River WA 6285 Australia;X-APPLE-RADIUS=500;X-TITLE=114 Bussell Hwy:geo:115.0736,-33.9498
END:VEVENT
BEGIN:VEVENT
DTSTART;TZID=Australia/Perth:20250711T210000
DTEND;TZID=Australia/Perth:20250711T233000
DTSTAMP:20260422T111522
CREATED:20240514T215555Z
LAST-MODIFIED:20250612T083511Z
UID:10000811-1752267600-1752276600@www.settlerstavern.com
SUMMARY:SIMO MELON
DESCRIPTION:Simon Melon\nMonsieur melon returns to the settlers tavern in July – this time navigating a 3hr solo expedition of a sticky\, low lit dancefloor to a soundtrack of highly danceable boogie\, disco and house music.
URL:https://www.settlerstavern.com/event/simo-melon/
LOCATION:Settlers Tavern\, 114 Bussell Hwy\, Margaret River\, WA\, 6285\, Australia
CATEGORIES:Dance,DJ,House,Music
ATTACH;FMTTYPE=image/png:https://www.settlerstavern.com/wp-content/uploads/2024/05/Screenshot-2025-06-12-at-4.33.51 PM.png
GEO:-33.9498;115.0736
X-APPLE-STRUCTURED-LOCATION;VALUE=URI;X-ADDRESS=Settlers Tavern 114 Bussell Hwy Margaret River WA 6285 Australia;X-APPLE-RADIUS=500;X-TITLE=114 Bussell Hwy:geo:115.0736,-33.9498
END:VEVENT
BEGIN:VEVENT
DTSTART;TZID=Australia/Perth:20250718T210000
DTEND;TZID=Australia/Perth:20250718T233000
DTSTAMP:20260422T111522
CREATED:20250523T030322Z
LAST-MODIFIED:20250620T045705Z
UID:10000965-1752872400-1752881400@www.settlerstavern.com
SUMMARY:LATIN PARTY w/ DIEGO
DESCRIPTION:Time for a BOOGIE! Pimp your money maker and bring your mama and nana to the dance floor. Settlers opens its doors for another volume of our proclaimed FUNKY SESSIONS. All time grooves\, funky latin rhythms and deep house return to the best pub in the South West by Diego de Camino. Connect with the music\, connect with yourself
URL:https://www.settlerstavern.com/event/latin-party-w-diego-3/
LOCATION:Settlers Tavern\, 114 Bussell Hwy\, Margaret River\, WA\, 6285\, Australia
CATEGORIES:DJ,Latin
ATTACH;FMTTYPE=image/png:https://www.settlerstavern.com/wp-content/uploads/2024/06/Screen-Shot-2024-06-28-at-10.18.08-am.png
GEO:-33.9498;115.0736
X-APPLE-STRUCTURED-LOCATION;VALUE=URI;X-ADDRESS=Settlers Tavern 114 Bussell Hwy Margaret River WA 6285 Australia;X-APPLE-RADIUS=500;X-TITLE=114 Bussell Hwy:geo:115.0736,-33.9498
END:VEVENT
BEGIN:VEVENT
DTSTART;TZID=Australia/Perth:20250725T210000
DTEND;TZID=Australia/Perth:20250726T000000
DTSTAMP:20260422T111522
CREATED:20250704T034158Z
LAST-MODIFIED:20250711T123639Z
UID:10000989-1753477200-1753488000@www.settlerstavern.com
SUMMARY:OUTBLOWN
DESCRIPTION:OutBlown have a love for drum and bass like no other. Fresh out of the Perth bush doofs\, they’ve crafted a unique sound – from high-energy rollers and dancefloor bangers to gritty neuro\, psychedelic breaks\, and their favourite: filthy jump-up. It’s a wild ride guaranteed to blow your socks clean off – fair warning\, bring extra pairs. \nTake his hand and step into the deep soundscape of an OutBlown soul. So much bass\, you’ll forget your silly human problems and remember what it feels like to really be alive.
URL:https://www.settlerstavern.com/event/outblown/
LOCATION:Settlers Tavern\, 114 Bussell Hwy\, Margaret River\, WA\, 6285\, Australia
CATEGORIES:DJ,Drum and Bass
ATTACH;FMTTYPE=image/png:https://www.settlerstavern.com/wp-content/uploads/2025/07/9pm-12am2-e1751972908217.png
GEO:-33.9498;115.0736
X-APPLE-STRUCTURED-LOCATION;VALUE=URI;X-ADDRESS=Settlers Tavern 114 Bussell Hwy Margaret River WA 6285 Australia;X-APPLE-RADIUS=500;X-TITLE=114 Bussell Hwy:geo:115.0736,-33.9498
END:VEVENT
END:VCALENDAR