BEGIN:VCALENDAR
VERSION:2.0
PRODID:-//Settlers Tavern - ECPv6.15.18//NONSGML v1.0//EN
CALSCALE:GREGORIAN
METHOD:PUBLISH
X-ORIGINAL-URL:https://www.settlerstavern.com
X-WR-CALDESC:Events for Settlers Tavern
REFRESH-INTERVAL;VALUE=DURATION:PT1H
X-Robots-Tag:noindex
X-PUBLISHED-TTL:PT1H
BEGIN:VTIMEZONE
TZID:Australia/Perth
BEGIN:STANDARD
TZOFFSETFROM:+0800
TZOFFSETTO:+0800
TZNAME:AWST
DTSTART:20240101T000000
END:STANDARD
END:VTIMEZONE
BEGIN:VEVENT
DTSTART;TZID=Australia/Perth:20250502T210000
DTEND;TZID=Australia/Perth:20250502T233000
DTSTAMP:20260422T164521
CREATED:20250424T003559Z
LAST-MODIFIED:20250424T003559Z
UID:10000955-1746219600-1746228600@www.settlerstavern.com
SUMMARY:DJ B GROOVY
DESCRIPTION:Yes\, it’s all about the Groove! Bruno aka DJ – B.Groovy has been collecting rare and unique tracks from all continents\, with the very best music played by musicians. There are no what he calls « junk music » in B.Groovy’s sets. With a selection of Disco / Funk / Afrobeat / Rock / Balkan / Reggae / Ska / Salsa / World & Ethnic tunes\, the groove is the core of each track and will make you shake everything you’ve got! You are a music lover? You like having fun dancing? Come along to enjoy the Funk & the Groove! Bruno is also a musician / songwriter and a physical actor / circus artist. He has been in the music & performing arts industry for about 30 years. Co-creator of Cie.Anomalie in 1995\, Bruno has been touring worldwide and worked with different choreographers + artistic directors in France and Europe. He is a qualified sound engineer (SAE Institute graduate)\, with 16 years of experience in live music and festivals in Perth and Fremantle area. He was the MC and creator of ‘Super-Groove Party’ for Fringe World Festival\, Perth 2015. He has been Djing in Fremantle and Perth suburbs for various events and weddings + performing with his band SOL-R\, between 2009 and 2018. He currently live in Margaret River\, is a sound engineer at Margaret River Heart + Settlers Tavern and play music under the name Si&B.
URL:https://www.settlerstavern.com/event/dj-b-groovy/
LOCATION:Settlers Tavern\, 114 Bussell Hwy\, Margaret River\, WA\, 6285\, Australia
CATEGORIES:Disco,DJ,Funk
ATTACH;FMTTYPE=image/png:https://www.settlerstavern.com/wp-content/uploads/2025/04/Screenshot-2025-04-24-at-8.32.49 AM.png
GEO:-33.9498;115.0736
X-APPLE-STRUCTURED-LOCATION;VALUE=URI;X-ADDRESS=Settlers Tavern 114 Bussell Hwy Margaret River WA 6285 Australia;X-APPLE-RADIUS=500;X-TITLE=114 Bussell Hwy:geo:115.0736,-33.9498
END:VEVENT
BEGIN:VEVENT
DTSTART;TZID=Australia/Perth:20250509T210000
DTEND;TZID=Australia/Perth:20250509T233000
DTSTAMP:20260422T164521
CREATED:20250124T023855Z
LAST-MODIFIED:20250424T004600Z
UID:10000920-1746824400-1746833400@www.settlerstavern.com
SUMMARY:LATIN PARTY w/ DIEGO
DESCRIPTION:Time for a BOOGIE! Pimp your money maker and bring your mama and nana to the dance floor. Settlers opens its doors for another volume of our proclaimed FUNKY SESSIONS. All time grooves\, funky latin rhythms and deep house return to the best pub in the South West by Diego de Camino. Connect with the music\, connect with yourself
URL:https://www.settlerstavern.com/event/latin-party-w-diego/
LOCATION:Settlers Tavern\, 114 Bussell Hwy\, Margaret River\, WA\, 6285\, Australia
CATEGORIES:DJ,Latin
ATTACH;FMTTYPE=image/png:https://www.settlerstavern.com/wp-content/uploads/2024/06/Screen-Shot-2024-06-28-at-10.18.08-am.png
GEO:-33.9498;115.0736
X-APPLE-STRUCTURED-LOCATION;VALUE=URI;X-ADDRESS=Settlers Tavern 114 Bussell Hwy Margaret River WA 6285 Australia;X-APPLE-RADIUS=500;X-TITLE=114 Bussell Hwy:geo:115.0736,-33.9498
END:VEVENT
BEGIN:VEVENT
DTSTART;TZID=Australia/Perth:20250516T210000
DTEND;TZID=Australia/Perth:20250517T000000
DTSTAMP:20260422T164521
CREATED:20250403T120938Z
LAST-MODIFIED:20250403T121128Z
UID:10000948-1747429200-1747440000@www.settlerstavern.com
SUMMARY:MARGS PRO PARTY ft. BOSTON SWITCH
DESCRIPTION:Boston Switch – Music producer\, DJ\, Indonesian Surf Guide & Founder of hypeengine.com.au\, Blake McDonald has been in the music industry for over 14 years from the age of 21 years old. With over 2 million streams on spotify\, more than 100 music festival performanaces\, residencies in Greeze\, Croatia and Thailand plus International shows in Indonesia\, Fiji & Norway he’s nothing short of experience. For the past 8 years he has indulged heavily into music production\, music marketing and hosting regional touring events throughout Australia\, known for high energy sets and crowd interaction. \nBoston Switch returns to his home town for one of the biggest weeks of the year during the WSL Margaret River Pro Surf Competition. Throwing wild after parties since 2014 during the competition Boston Switch has performed at Tracks Magazine Bells Pro Afters & the Goldcoast Quiksilver Pro Afters.\nStrictly 18+ event! \nSwitch returns to his home town for one of the biggest weeks of the year during the WSL Margaret River Pro Surf Competition. Throwing wild after parties since 2014 during the competition Boston Switch has performed at Tracks Magazine Bells Pro Afters & the Goldcoast Quiksilver Pro Afters. \n \n\nBOSTON SWITCH:\n\nGiving electronic music enthusiasts something to rave about\, Blake McDonald the producer behind the name Boston Switch is the Western Australian\, setting off electronic release radars across the shores and raising every room’s energy. The producer\, DJ and notable pro surfer has been laying down the law with his alluring bass and tech house notions\, attaining over 300\,000 streams\, a barrage of YouTube spins and enviable spots on some of the country’s most renowned events and festivals\, while also being nominated for Western Australia Music’s Regional Song of the Year award. \nDelivering a wealth of standout productions\, the boston Switch sound is dance floor confronting and a true indication of his tech and bass house tenacity. Releasing on Jendex Records\, Crookwell and recently on Dirty Dog with the single ‘Summer Sun’\, Blake’s tempered sonic spotlight has proven worthy of tastemakers globally. 2020’s release ‘Let Me Know’ tapped just under 100k streams in a little over a month\, while his collaboration ‘Better Alone’ with Ash Pluggy has attracted over 180k plays on Spotify and over 200k on YouTube. In between studio sessions and surfing with the Cw Surfboards team\, Boston Switch’s mixtapes set the house scene ablaze\, with Switch Tapes and Boston & Bros featuring 30 min guest mixes from fellow industry pioneers. \nNo stranger to the festival circuit\, Boston Switch’s highly trimmed bass house cuts and signature tech house hues have been a favourite of many for some time\, both as an artist and organiser for regional Western Australia’s Electric Button Events. From Factory Festival\, Stereosonic\, Southbound\, Enchanted Gardens and Future Music Festival across Australia to Thailand’s Fishbowl and Greek Islands Far Out Beach Club\, Altbar and Escobar\, Blake’s searing catalogue of spawning crowd heaters have set alight crowds across the seas. Commanding attention globally with his mastery from the studio to the stage\, it’s a true testament to the Boston Switch signature sound.
URL:https://www.settlerstavern.com/event/margs-pro-party-ft-boston-switch2025/
LOCATION:Settlers Tavern\, 114 Bussell Hwy\, Margaret River\, WA\, 6285\, Australia
CATEGORIES:DJ,Drum and Bass,Electronic,Featured,House,Music,Party,Special Event,Tickets
ATTACH;FMTTYPE=image/png:https://www.settlerstavern.com/wp-content/uploads/2025/03/Screenshot-2025-03-28-at-1.22.17 PM.png
GEO:-33.9498;115.0736
X-APPLE-STRUCTURED-LOCATION;VALUE=URI;X-ADDRESS=Settlers Tavern 114 Bussell Hwy Margaret River WA 6285 Australia;X-APPLE-RADIUS=500;X-TITLE=114 Bussell Hwy:geo:115.0736,-33.9498
END:VEVENT
BEGIN:VEVENT
DTSTART;TZID=Australia/Perth:20250523T210000
DTEND;TZID=Australia/Perth:20250523T233000
DTSTAMP:20260422T164521
CREATED:20250410T124652Z
LAST-MODIFIED:20250410T124652Z
UID:10000954-1748034000-1748043000@www.settlerstavern.com
SUMMARY:DJ LAERYZ
DESCRIPTION:DJ Layerz brings the electronic house heat back to Margaret River for a night of pure vibes. Known for blending deep grooves with high-energy beats\, Layerz knows how to light up the dance floor and keep it going ‘til late. Whether you’re a seasoned local or just passing through\, this is your cue for a proper night out. \nDon’t miss it—see you at Settlers.
URL:https://www.settlerstavern.com/event/dj-laeryz/
LOCATION:Settlers Tavern\, 114 Bussell Hwy\, Margaret River\, WA\, 6285\, Australia
CATEGORIES:Dance,DJ,Electronic,Live Music,Live Music Australia
ATTACH;FMTTYPE=image/png:https://www.settlerstavern.com/wp-content/uploads/2025/04/Screenshot-2025-04-10-at-8.41.40 PM.png
GEO:-33.9498;115.0736
X-APPLE-STRUCTURED-LOCATION;VALUE=URI;X-ADDRESS=Settlers Tavern 114 Bussell Hwy Margaret River WA 6285 Australia;X-APPLE-RADIUS=500;X-TITLE=114 Bussell Hwy:geo:115.0736,-33.9498
END:VEVENT
BEGIN:VEVENT
DTSTART;TZID=Australia/Perth:20250530T210000
DTEND;TZID=Australia/Perth:20250530T233000
DTSTAMP:20260422T164521
CREATED:20250508T010417Z
LAST-MODIFIED:20250508T010758Z
UID:10000960-1748638800-1748647800@www.settlerstavern.com
SUMMARY:SAMMYTHESINNER
DESCRIPTION:UTOPIA PRESENTS\nDOWN UNDER TOUR FT SAMMYTHESINNER\nMARGS – We’re coming for you Get ready to throw ankles at our upcoming down under sender ft. SAMMTHESINNER\nMassive rave\, choice selectas and all the DNB\, House & HipHop your heart can handle \n FRI 30 MAY SETTLERS TAVERN\, MARGARET RIVER 9PM – 12AM DOOR SALES AVAILABLE________________________\n SAMMYTHESINNER GNRLEY TEMPAH B2B HOLLOW  MORE TBA
URL:https://www.settlerstavern.com/event/sammythesinner-3/
LOCATION:Settlers Tavern\, 114 Bussell Hwy\, Margaret River\, WA\, 6285\, Australia
CATEGORIES:Dance,DJ,Drum and Bass,Featured,Hip Hop,House,Tickets
ATTACH;FMTTYPE=image/png:https://www.settlerstavern.com/wp-content/uploads/2025/05/Screenshot-2025-05-08-at-8.55.50 AM.png
GEO:-33.9498;115.0736
X-APPLE-STRUCTURED-LOCATION;VALUE=URI;X-ADDRESS=Settlers Tavern 114 Bussell Hwy Margaret River WA 6285 Australia;X-APPLE-RADIUS=500;X-TITLE=114 Bussell Hwy:geo:115.0736,-33.9498
END:VEVENT
END:VCALENDAR