BEGIN:VCALENDAR
VERSION:2.0
PRODID:-//Settlers Tavern - ECPv6.15.18//NONSGML v1.0//EN
CALSCALE:GREGORIAN
METHOD:PUBLISH
X-WR-CALNAME:Settlers Tavern
X-ORIGINAL-URL:https://www.settlerstavern.com
X-WR-CALDESC:Events for Settlers Tavern
REFRESH-INTERVAL;VALUE=DURATION:PT1H
X-Robots-Tag:noindex
X-PUBLISHED-TTL:PT1H
BEGIN:VTIMEZONE
TZID:Australia/Perth
BEGIN:STANDARD
TZOFFSETFROM:+0800
TZOFFSETTO:+0800
TZNAME:AWST
DTSTART:20230101T000000
END:STANDARD
END:VTIMEZONE
BEGIN:VEVENT
DTSTART;TZID=Australia/Perth:20241108T210000
DTEND;TZID=Australia/Perth:20241108T233000
DTSTAMP:20260423T073544
CREATED:20241002T023246Z
LAST-MODIFIED:20241002T023246Z
UID:10000874-1731099600-1731108600@www.settlerstavern.com
SUMMARY:CALEB SMIRKE (REPLICA)
DESCRIPTION:Born and raised in Margaret River\, local DnB DJ Replica is known for his unique selection of tracks from all era’s of Drum and Bass. \nExpect to hear a blend of Liquid\, Neuro-funk\, Jungle and Dancefloor DnB. We are sure you’ll be getting your Bass face on and slinging gun fingers all night long!
URL:https://www.settlerstavern.com/event/caleb-smirke-replica/
LOCATION:Settlers Tavern\, 114 Bussell Hwy\, Margaret River\, WA\, 6285\, Australia
CATEGORIES:DJ,Drum and Bass
ATTACH;FMTTYPE=image/png:https://www.settlerstavern.com/wp-content/uploads/2024/10/REPLICA.png
GEO:-33.9498;115.0736
X-APPLE-STRUCTURED-LOCATION;VALUE=URI;X-ADDRESS=Settlers Tavern 114 Bussell Hwy Margaret River WA 6285 Australia;X-APPLE-RADIUS=500;X-TITLE=114 Bussell Hwy:geo:115.0736,-33.9498
END:VEVENT
BEGIN:VEVENT
DTSTART;TZID=Australia/Perth:20241115T210000
DTEND;TZID=Australia/Perth:20241115T233000
DTSTAMP:20260423T073544
CREATED:20240911T083546Z
LAST-MODIFIED:20241101T064958Z
UID:10000867-1731704400-1731713400@www.settlerstavern.com
SUMMARY:DJ ERIK
DESCRIPTION:DJ Erik is a dynamic Australian electronic music artist\, blending the infectious energy of House\, the frenetic beats of Drum and Bass\, and the futuristic vibes of Tech House. With a fresh commercial edge\, DJ Erik creates an electrifying sound that resonates with dance floors and music enthusiasts alike. \nInspired by the ever-evolving landscape of electronic music\, DJ Erik weaves together intricate rhythms\, soaring melodies\, and cutting-edge production techniques to craft a distinctive sonic experience. From the pulsing basslines of Tech House to euphoric drops of House and the breakneck drum patterns of DnB\, DJ Erik’s music is a testament to his innovative spirit and passion for the genre.
URL:https://www.settlerstavern.com/event/dj-erik/
LOCATION:Settlers Tavern\, 114 Bussell Hwy\, Margaret River\, WA\, 6285\, Australia
CATEGORIES:DJ,Drum and Bass,Electronic,House
ATTACH;FMTTYPE=image/png:https://www.settlerstavern.com/wp-content/uploads/2024/09/Screenshot-2024-09-11-at-4.31.04 PM.png
GEO:-33.9498;115.0736
X-APPLE-STRUCTURED-LOCATION;VALUE=URI;X-ADDRESS=Settlers Tavern 114 Bussell Hwy Margaret River WA 6285 Australia;X-APPLE-RADIUS=500;X-TITLE=114 Bussell Hwy:geo:115.0736,-33.9498
END:VEVENT
BEGIN:VEVENT
DTSTART;TZID=Australia/Perth:20241122T210000
DTEND;TZID=Australia/Perth:20241122T233000
DTSTAMP:20260423T073544
CREATED:20240621T064008Z
LAST-MODIFIED:20241101T065709Z
UID:10000826-1732309200-1732318200@www.settlerstavern.com
SUMMARY:LATIN PARTY w/ DIEGO
DESCRIPTION:Time for a BOOGIE! Pimp your money maker and bring your mama and nana to the dance floor. Settlers opens its doors for another volume of our proclaimed FUNKY SESSIONS. All time grooves\, funky latin rhythms and deep house return to the best pub in the South West by Diego de Camino. Connect with the music\, connect with yourself
URL:https://www.settlerstavern.com/event/latin-party-diego/
LOCATION:Settlers Tavern\, 114 Bussell Hwy\, Margaret River\, WA\, 6285\, Australia
CATEGORIES:DJ,Latin
ATTACH;FMTTYPE=image/png:https://www.settlerstavern.com/wp-content/uploads/2024/06/Screen-Shot-2024-06-28-at-10.18.08-am.png
GEO:-33.9498;115.0736
X-APPLE-STRUCTURED-LOCATION;VALUE=URI;X-ADDRESS=Settlers Tavern 114 Bussell Hwy Margaret River WA 6285 Australia;X-APPLE-RADIUS=500;X-TITLE=114 Bussell Hwy:geo:115.0736,-33.9498
END:VEVENT
BEGIN:VEVENT
DTSTART;TZID=Australia/Perth:20241129T210000
DTEND;TZID=Australia/Perth:20241129T233000
DTSTAMP:20260423T073544
CREATED:20241123T063725Z
LAST-MODIFIED:20241123T063725Z
UID:10000889-1732914000-1732923000@www.settlerstavern.com
SUMMARY:GROOVALICIOUS
DESCRIPTION:Groovalicious is the celebration where the vibrant rhythms of tropical melodies entwine with the soulful essence of disco. Only the grooviest beats resonate\, uniting the warmth and joyous spirit of summer nights. \nYot and Dan Edlin will curate a musical journey from across the globe\, where the only mandates are to smile and dance with abandon. \nJoin us on the dancefloor this Friday\, November 29th\, at 9PM!
URL:https://www.settlerstavern.com/event/groovalicious/
LOCATION:Settlers Tavern\, 114 Bussell Hwy\, Margaret River\, WA\, 6285\, Australia
CATEGORIES:DJ
ATTACH;FMTTYPE=image/png:https://www.settlerstavern.com/wp-content/uploads/2024/11/Screenshot-2024-11-23-at-2.24.48 PM.png
GEO:-33.9498;115.0736
X-APPLE-STRUCTURED-LOCATION;VALUE=URI;X-ADDRESS=Settlers Tavern 114 Bussell Hwy Margaret River WA 6285 Australia;X-APPLE-RADIUS=500;X-TITLE=114 Bussell Hwy:geo:115.0736,-33.9498
END:VEVENT
END:VCALENDAR