BEGIN:VCALENDAR
VERSION:2.0
PRODID:-//Settlers Tavern - ECPv6.15.20//NONSGML v1.0//EN
CALSCALE:GREGORIAN
METHOD:PUBLISH
X-WR-CALNAME:Settlers Tavern
X-ORIGINAL-URL:https://www.settlerstavern.com
X-WR-CALDESC:Events for Settlers Tavern
REFRESH-INTERVAL;VALUE=DURATION:PT1H
X-Robots-Tag:noindex
X-PUBLISHED-TTL:PT1H
BEGIN:VTIMEZONE
TZID:Australia/Perth
BEGIN:STANDARD
TZOFFSETFROM:+0800
TZOFFSETTO:+0800
TZNAME:AWST
DTSTART:20230101T000000
END:STANDARD
END:VTIMEZONE
BEGIN:VEVENT
DTSTART;TZID=Australia/Perth:20240412T210000
DTEND;TZID=Australia/Perth:20240413T000000
DTSTAMP:20260423T213118
CREATED:20240307T164708Z
LAST-MODIFIED:20240530T052528Z
UID:10000500-1712955600-1712966400@www.settlerstavern.com
SUMMARY:MARGS PRO PARTY ft. BOSTON SWITCH
DESCRIPTION:Boston Switch returns to his home town for one of the biggest weeks of the year during the WSL Margaret River Pro Surf Competition. Throwing wild after parties since 2014 during the competition Boston Switch has performed at Tracks Magazine Bells Pro Afters & the Goldcoast Quiksilver Pro Afters.\nBringing this one back to the town he grew up in\, he’ll also be bringing a stacked lineup including Perth DJs & Music Producers ASH PLUGGY & GARCIA.\nSettlers Tavern Presents – Margs Pro Party ft. BOSTON SWITCH\, ASH PLUGGY & GARCIA\nDate: 12/4/2024 (Friday)\nVenue: Settlers Tavern\, Margaret River\nLineup: Boston Switch\, Ash Pluggy & Garcia\nTime: 9pm – 12am\nTickets: $10+bf Early Bird\n\n\nBOSTON SWITCH:\n\nGiving electronic music enthusiasts something to rave about\, Blake McDonald the producer behind the name Boston Switch is the Western Australian\, setting off electronic release radars across the shores and raising every room’s energy. The producer\, DJ and notable pro surfer has been laying down the law with his alluring bass and tech house notions\, attaining over 300\,000 streams\, a barrage of YouTube spins and enviable spots on some of the country’s most renowned events and festivals\, while also being nominated for Western Australia Music’s Regional Song of the Year award. \nDelivering a wealth of standout productions\, the boston Switch sound is dance floor confronting and a true indication of his tech and bass house tenacity. Releasing on Jendex Records\, Crookwell and recently on Dirty Dog with the single ‘Summer Sun’\, Blake’s tempered sonic spotlight has proven worthy of tastemakers globally. 2020’s release ‘Let Me Know’ tapped just under 100k streams in a little over a month\, while his collaboration ‘Better Alone’ with Ash Pluggy has attracted over 180k plays on Spotify and over 200k on YouTube. In between studio sessions and surfing with the Cw Surfboards team\, Boston Switch’s mixtapes set the house scene ablaze\, with Switch Tapes and Boston & Bros featuring 30 min guest mixes from fellow industry pioneers. \nNo stranger to the festival circuit\, Boston Switch’s highly trimmed bass house cuts and signature tech house hues have been a favourite of many for some time\, both as an artist and organiser for regional Western Australia’s Electric Button Events. From Factory Festival\, Stereosonic\, Southbound\, Enchanted Gardens and Future Music Festival across Australia to Thailand’s Fishbowl and Greek Islands Far Out Beach Club\, Altbar and Escobar\, Blake’s searing catalogue of spawning crowd heaters have set alight crowds across the seas. Commanding attention globally with his mastery from the studio to the stage\, it’s a true testament to the Boston Switch signature sound.
URL:https://www.settlerstavern.com/event/margs-pro-party-ft-boston-switch2024/
LOCATION:Settlers Tavern\, 114 Bussell Hwy\, Margaret River\, WA\, 6285\, Australia
CATEGORIES:DJ,Drum and Bass,Electronic,Featured,House,Music,Party,Special Event,Tickets
ATTACH;FMTTYPE=image/png:https://www.settlerstavern.com/wp-content/uploads/2024/04/MargsPro2024banner.png
GEO:-33.9498;115.0736
X-APPLE-STRUCTURED-LOCATION;VALUE=URI;X-ADDRESS=Settlers Tavern 114 Bussell Hwy Margaret River WA 6285 Australia;X-APPLE-RADIUS=500;X-TITLE=114 Bussell Hwy:geo:115.0736,-33.9498
END:VEVENT
BEGIN:VEVENT
DTSTART;TZID=Australia/Perth:20240419T210000
DTEND;TZID=Australia/Perth:20240419T233000
DTSTAMP:20260423T213118
CREATED:20240404T194251Z
LAST-MODIFIED:20240530T052527Z
UID:10000496-1713560400-1713569400@www.settlerstavern.com
SUMMARY:LATIN PARTY with NIKORMA
DESCRIPTION:AY CARAMBA! It’s a Latin Party at Settlers Tavern so let’s get ready to rumbaaaaa\,\nmusic by: Nikorma.\n\nReggaeton shapes & tropical vibes.\n\nB.Y.O dancing shoes.\n      \nFree entry.\n9Pm to 11.59pm\nSee you there!
URL:https://www.settlerstavern.com/event/latin-party-with-nikorma/
LOCATION:Settlers Tavern\, 114 Bussell Hwy\, Margaret River\, WA\, 6285\, Australia
CATEGORIES:DJ,Latin,Music,Reggaeton
ATTACH;FMTTYPE=image/png:https://www.settlerstavern.com/wp-content/uploads/2024/04/1f483_1f3fe.png
GEO:-33.9498;115.0736
X-APPLE-STRUCTURED-LOCATION;VALUE=URI;X-ADDRESS=Settlers Tavern 114 Bussell Hwy Margaret River WA 6285 Australia;X-APPLE-RADIUS=500;X-TITLE=114 Bussell Hwy:geo:115.0736,-33.9498
END:VEVENT
BEGIN:VEVENT
DTSTART;TZID=Australia/Perth:20240426T210000
DTEND;TZID=Australia/Perth:20240426T233000
DTSTAMP:20260423T213118
CREATED:20240321T173420Z
LAST-MODIFIED:20240530T052526Z
UID:10000493-1714165200-1714174200@www.settlerstavern.com
SUMMARY:UTOPIA DOWN UNDER ft SAMMYTHESINNER
DESCRIPTION:    \n  \, +  \n$ ! https://megatix.com.au/events/utopiamargaretriver\n FRI 26 APRIL\n SETTLERS TAVERN\, MARGARET RIVER\n 9PM – 12AM\n DOOR SALES AVAILABLE\n________________________\nBass queens Ren Zukii & Sammythesinnner join forces  to tear up Margs their double headline regional tour!\nGet pumped for a night filled with DnB\, 140\, UKG\, and House bangers!\n________________________\n REN ZUKII\n SAMMYTHESINNER\n FORREST FAIRY\n TEMPAH B2B HOLLOW\n BLOODY TROOPA
URL:https://www.settlerstavern.com/event/utopia-down-under-ft-sammythesinner/
LOCATION:Settlers Tavern\, 114 Bussell Hwy\, Margaret River\, WA\, 6285\, Australia
CATEGORIES:DJ,Drum and Bass,Electronic,Garage,Music
ATTACH;FMTTYPE=image/jpeg:https://www.settlerstavern.com/wp-content/uploads/2024/04/Utopia-Down-Under-Margs-Cover-Final-copy-1.jpg
GEO:-33.9498;115.0736
X-APPLE-STRUCTURED-LOCATION;VALUE=URI;X-ADDRESS=Settlers Tavern 114 Bussell Hwy Margaret River WA 6285 Australia;X-APPLE-RADIUS=500;X-TITLE=114 Bussell Hwy:geo:115.0736,-33.9498
END:VEVENT
END:VCALENDAR