BEGIN:VCALENDAR
VERSION:2.0
PRODID:-//Settlers Tavern - ECPv6.15.20//NONSGML v1.0//EN
CALSCALE:GREGORIAN
METHOD:PUBLISH
X-WR-CALNAME:Settlers Tavern
X-ORIGINAL-URL:https://www.settlerstavern.com
X-WR-CALDESC:Events for Settlers Tavern
REFRESH-INTERVAL;VALUE=DURATION:PT1H
X-Robots-Tag:noindex
X-PUBLISHED-TTL:PT1H
BEGIN:VTIMEZONE
TZID:Australia/Perth
BEGIN:STANDARD
TZOFFSETFROM:+0800
TZOFFSETTO:+0800
TZNAME:AWST
DTSTART:20210101T000000
END:STANDARD
END:VTIMEZONE
BEGIN:VEVENT
DTSTART;TZID=Australia/Perth:20221209T210000
DTEND;TZID=Australia/Perth:20221209T210000
DTSTAMP:20260426T000650
CREATED:20221130T185612Z
LAST-MODIFIED:20240530T054812Z
UID:10000791-1670619600-1670619600@www.settlerstavern.com
SUMMARY:Chris Archee
DESCRIPTION:FREE ENTRY\nFacebook event: facebook.com/events/1299321514223956/ \nAre you geared up for Xmas? You may need a new pair of dancing shoes after this set\, I know I will! 3 hours of mixed genre DJ beats to take you on a journey.
URL:https://www.settlerstavern.com/event/chris-archee-5-3/
LOCATION:Settlers Tavern\, 114 Bussell Hwy\, Margaret River\, WA\, 6285\, Australia
CATEGORIES:DJ,Music
GEO:-33.9498;115.0736
X-APPLE-STRUCTURED-LOCATION;VALUE=URI;X-ADDRESS=Settlers Tavern 114 Bussell Hwy Margaret River WA 6285 Australia;X-APPLE-RADIUS=500;X-TITLE=114 Bussell Hwy:geo:115.0736,-33.9498
END:VEVENT
BEGIN:VEVENT
DTSTART;TZID=Australia/Perth:20221223T210000
DTEND;TZID=Australia/Perth:20221223T210000
DTSTAMP:20260426T000650
CREATED:20221204T200910Z
LAST-MODIFIED:20240530T054819Z
UID:10000635-1671829200-1671829200@www.settlerstavern.com
SUMMARY:LATIN PARTY
DESCRIPTION:FREE ENTRY\nFacebook event: facebook.com/events/564079015483274 \nHey Hey! This is the best party of Margaret River! \nPERREO IS ART TOO.\nBRING ALL YOUR LATIN VIBES TO SMASH THE DANCE FLOOR.\nONLY LATIN MUSIC!!!\nMusic by Rami Larguia.\n Friday 23rd December.\nSettlers Tavern\, Margaret River.\n9 pm to 11.55 pm.\nFree entry at the door but LIMITED CAPACITY
URL:https://www.settlerstavern.com/event/latin-party-16-3/
LOCATION:Settlers Tavern\, 114 Bussell Hwy\, Margaret River\, WA\, 6285\, Australia
CATEGORIES:DJ,Latin,Music
ATTACH;FMTTYPE=image/png:https://www.settlerstavern.com/wp-content/uploads/2024/04/1f483-2.png
GEO:-33.9498;115.0736
X-APPLE-STRUCTURED-LOCATION;VALUE=URI;X-ADDRESS=Settlers Tavern 114 Bussell Hwy Margaret River WA 6285 Australia;X-APPLE-RADIUS=500;X-TITLE=114 Bussell Hwy:geo:115.0736,-33.9498
END:VEVENT
END:VCALENDAR