BEGIN:VCALENDAR
VERSION:2.0
PRODID:-//Settlers Tavern - ECPv6.15.20//NONSGML v1.0//EN
CALSCALE:GREGORIAN
METHOD:PUBLISH
X-ORIGINAL-URL:https://www.settlerstavern.com
X-WR-CALDESC:Events for Settlers Tavern
REFRESH-INTERVAL;VALUE=DURATION:PT1H
X-Robots-Tag:noindex
X-PUBLISHED-TTL:PT1H
BEGIN:VTIMEZONE
TZID:Australia/Perth
BEGIN:STANDARD
TZOFFSETFROM:+0800
TZOFFSETTO:+0800
TZNAME:AWST
DTSTART:20210101T000000
END:STANDARD
END:VTIMEZONE
BEGIN:VEVENT
DTSTART;TZID=Australia/Perth:20221112T210000
DTEND;TZID=Australia/Perth:20221112T210000
DTSTAMP:20260426T014755
CREATED:20221102T173350Z
LAST-MODIFIED:20240530T054748Z
UID:10000776-1668286800-1668286800@www.settlerstavern.com
SUMMARY:Safari Electronic Party
DESCRIPTION:FREE ENTRY\nFacebook event: facebook.com/events/3237995723141045/ \nWe want to invite you to join dancing with some friends who enjoy electronic music and dance.\nThree of the best djs around will be giving you the best vibes this night.\nEnjoy yourself\n\nOSCAR\nTALIA\nVENJAMIN
URL:https://www.settlerstavern.com/event/safari-electronic-party/
LOCATION:Settlers Tavern\, 114 Bussell Hwy\, Margaret River\, WA\, 6285\, Australia
CATEGORIES:DJ,Music
GEO:-33.9498;115.0736
X-APPLE-STRUCTURED-LOCATION;VALUE=URI;X-ADDRESS=Settlers Tavern 114 Bussell Hwy Margaret River WA 6285 Australia;X-APPLE-RADIUS=500;X-TITLE=114 Bussell Hwy:geo:115.0736,-33.9498
END:VEVENT
BEGIN:VEVENT
DTSTART;TZID=Australia/Perth:20221118T210000
DTEND;TZID=Australia/Perth:20221118T210000
DTSTAMP:20260426T014755
CREATED:20221110T172834Z
LAST-MODIFIED:20240530T054755Z
UID:10000782-1668805200-1668805200@www.settlerstavern.com
SUMMARY:DJ Erik
DESCRIPTION:FREE ENTRY\nFacebook event: facebook.com/events/469065935216664/ \nDJ ERIK is firing up his decks on our main stage Friday night!\n   \nHead down to your favourite watering hole and get ready to dance to all of your favourite house tracks!
URL:https://www.settlerstavern.com/event/dj-erik-20-3/
LOCATION:Settlers Tavern\, 114 Bussell Hwy\, Margaret River\, WA\, 6285\, Australia
CATEGORIES:DJ,Music
ATTACH;FMTTYPE=image/png:https://www.settlerstavern.com/wp-content/uploads/2024/04/Dj-Erik-FB-cover.png
GEO:-33.9498;115.0736
X-APPLE-STRUCTURED-LOCATION;VALUE=URI;X-ADDRESS=Settlers Tavern 114 Bussell Hwy Margaret River WA 6285 Australia;X-APPLE-RADIUS=500;X-TITLE=114 Bussell Hwy:geo:115.0736,-33.9498
END:VEVENT
END:VCALENDAR