BEGIN:VCALENDAR
VERSION:2.0
PRODID:-//Settlers Tavern - ECPv6.15.20//NONSGML v1.0//EN
CALSCALE:GREGORIAN
METHOD:PUBLISH
X-ORIGINAL-URL:https://www.settlerstavern.com
X-WR-CALDESC:Events for Settlers Tavern
REFRESH-INTERVAL;VALUE=DURATION:PT1H
X-Robots-Tag:noindex
X-PUBLISHED-TTL:PT1H
BEGIN:VTIMEZONE
TZID:Australia/Perth
BEGIN:STANDARD
TZOFFSETFROM:+0800
TZOFFSETTO:+0800
TZNAME:AWST
DTSTART:20210101T000000
END:STANDARD
END:VTIMEZONE
BEGIN:VEVENT
DTSTART;TZID=Australia/Perth:20220701T210000
DTEND;TZID=Australia/Perth:20220701T210000
DTSTAMP:20260426T115515
CREATED:20220627T175727Z
LAST-MODIFIED:20240530T054639Z
UID:10000727-1656709200-1656709200@www.settlerstavern.com
SUMMARY:Dj Kiyoshi
DESCRIPTION:FREE EVENT\nFacebook event: https://www.facebook.com/events/712003886552752/ \nA Perth Based DJ from Margaret River. Kiyoshi is an enthusiastic multi-genre DJ who ensures he brings a vibrant energy to all his gigs. While creating mashups on the go\, his sets are both flowing and engaging.\nFrom supporting San Cisco at Metro City\, and playing at a number of other venues in Perth\, (Windsor Hotel\, Leftbank\, Badlands Bar\, The Ave nightclub and Club Humble to name a few) and now starting his own event brand “Altitude Events”\, he has gained the experience to thoroughly read crowds\, hold energy throughout his set and flow smoothly between different genres and songs!
URL:https://www.settlerstavern.com/event/dj-kiyoshi-4-3/
LOCATION:Settlers Tavern\, 114 Bussell Hwy\, Margaret River\, WA\, 6285\, Australia
CATEGORIES:DJ,Music
ATTACH;FMTTYPE=image/png:https://www.settlerstavern.com/wp-content/uploads/2024/04/thumbnail_Kiyoshi-Settlers-Poster-July-01.png
GEO:-33.9498;115.0736
X-APPLE-STRUCTURED-LOCATION;VALUE=URI;X-ADDRESS=Settlers Tavern 114 Bussell Hwy Margaret River WA 6285 Australia;X-APPLE-RADIUS=500;X-TITLE=114 Bussell Hwy:geo:115.0736,-33.9498
END:VEVENT
BEGIN:VEVENT
DTSTART;TZID=Australia/Perth:20220708T210000
DTEND;TZID=Australia/Perth:20220708T210000
DTSTAMP:20260426T115515
CREATED:20220704T175644Z
LAST-MODIFIED:20240530T054642Z
UID:10000730-1657314000-1657314000@www.settlerstavern.com
SUMMARY:NonEntity DJ Set _ Featuring S K
DESCRIPTION:FREE EVENT\nFacebook event: https://www.facebook.com/events/581219523520861/ \nNonEntity and S K both spent the better part of the last decade performing all around Melbourne with their exquisite turntable selections\, ranging from hip hop to dub\, UK bass and beyond.\nNow they have returned to their birthing grounds of W.A\, and are bringing the party to Settlers in Margaret River!\nHip hop\, ragga and party jams from 9 pm till midnight. FREE ENTRY\, down at your favourite watering hole!
URL:https://www.settlerstavern.com/event/nonentity-dj-set-_-featuring-s-k/
LOCATION:Settlers Tavern\, 114 Bussell Hwy\, Margaret River\, WA\, 6285\, Australia
CATEGORIES:DJ,Dub,Music,Party
ATTACH;FMTTYPE=image/jpeg:https://www.settlerstavern.com/wp-content/uploads/2024/04/Settlers-with-skahna-web.jpg
GEO:-33.9498;115.0736
X-APPLE-STRUCTURED-LOCATION;VALUE=URI;X-ADDRESS=Settlers Tavern 114 Bussell Hwy Margaret River WA 6285 Australia;X-APPLE-RADIUS=500;X-TITLE=114 Bussell Hwy:geo:115.0736,-33.9498
END:VEVENT
BEGIN:VEVENT
DTSTART;TZID=Australia/Perth:20220722T210000
DTEND;TZID=Australia/Perth:20220722T210000
DTSTAMP:20260426T115515
CREATED:20220712T183624Z
LAST-MODIFIED:20240530T054648Z
UID:10000735-1658523600-1658523600@www.settlerstavern.com
SUMMARY:Latin Party
DESCRIPTION:FREE ENTRY\nFacebook event: https://www.facebook.com/events/735436964243037 \nNext edition of Margaret River WA Latin Party.\nOne more time latin music with the best vibes on the dance floor\nMusic by: Oscar & Benjamin\nSee you there!
URL:https://www.settlerstavern.com/event/latin-party-13-3/
LOCATION:Settlers Tavern\, 114 Bussell Hwy\, Margaret River\, WA\, 6285\, Australia
CATEGORIES:DJ,Latin,Music
ATTACH;FMTTYPE=image/jpeg:https://www.settlerstavern.com/wp-content/uploads/2024/04/Latinjulyweb.jpg
GEO:-33.9498;115.0736
X-APPLE-STRUCTURED-LOCATION;VALUE=URI;X-ADDRESS=Settlers Tavern 114 Bussell Hwy Margaret River WA 6285 Australia;X-APPLE-RADIUS=500;X-TITLE=114 Bussell Hwy:geo:115.0736,-33.9498
END:VEVENT
BEGIN:VEVENT
DTSTART;TZID=Australia/Perth:20220729T210000
DTEND;TZID=Australia/Perth:20220729T210000
DTSTAMP:20260426T115515
CREATED:20220712T184052Z
LAST-MODIFIED:20240530T054648Z
UID:10000736-1659128400-1659128400@www.settlerstavern.com
SUMMARY:DJ Chris Archee
DESCRIPTION:FREE ENTRY\nFacebook event: https://www.facebook.com/events/718385209274418/ \nYes\, it’s been a few since the man hit the decks. Come along have a few and help him tear the roof off! Open format all night
URL:https://www.settlerstavern.com/event/dj-chris-archee/
LOCATION:Settlers Tavern\, 114 Bussell Hwy\, Margaret River\, WA\, 6285\, Australia
CATEGORIES:DJ,Music
ATTACH;FMTTYPE=image/jpeg:https://www.settlerstavern.com/wp-content/uploads/2024/04/chrisarcheeweb.jpg
GEO:-33.9498;115.0736
X-APPLE-STRUCTURED-LOCATION;VALUE=URI;X-ADDRESS=Settlers Tavern 114 Bussell Hwy Margaret River WA 6285 Australia;X-APPLE-RADIUS=500;X-TITLE=114 Bussell Hwy:geo:115.0736,-33.9498
END:VEVENT
END:VCALENDAR