BEGIN:VCALENDAR
VERSION:2.0
PRODID:-//Settlers Tavern - ECPv6.15.18//NONSGML v1.0//EN
CALSCALE:GREGORIAN
METHOD:PUBLISH
X-ORIGINAL-URL:https://www.settlerstavern.com
X-WR-CALDESC:Events for Settlers Tavern
REFRESH-INTERVAL;VALUE=DURATION:PT1H
X-Robots-Tag:noindex
X-PUBLISHED-TTL:PT1H
BEGIN:VTIMEZONE
TZID:Australia/Perth
BEGIN:STANDARD
TZOFFSETFROM:+0800
TZOFFSETTO:+0800
TZNAME:AWST
DTSTART:20240101T000000
END:STANDARD
END:VTIMEZONE
BEGIN:VEVENT
DTSTART;TZID=Australia/Perth:20251128T210000
DTEND;TZID=Australia/Perth:20251128T233000
DTSTAMP:20260422T061306
CREATED:20251122T011559Z
LAST-MODIFIED:20251122T011818Z
UID:10001057-1764363600-1764372600@www.settlerstavern.com
SUMMARY:DJ EVAN
DESCRIPTION:Originally from Canada and now based in Margaret River\, Evan delivers dynamic house and techno sets shaped by a lifelong love of electronic music. Since completing a 10-week DJ course with Lab Six in Perth in 2019\, he’s been steadily carving out his sound—blending all the flavours of house and techno with a focus on discovering fresh\, cutting-edge tracks. \nHis high-energy sets have lit up venues from Perth to Margaret River\, including a packed-out NYE 2025 takeover at Rio’s Bar in Margaret River and a hard-hitting\, driving techno performance at The Rechabite Hotel in Perth for the Berlin Rave event with Techn0de. \nEvan recently joined the team at Radio Margaret River\, where he fires up the airwaves every Saturday from 8–9pm with his show ‘*The House Warming Party’*—an hour of house music built to kickstart the night. He also drops regular mixes on SoundCloud\, showcasing a taste of his evolving sound. Drawing inspiration from heavy hitters like Carl Cox\, Sam Divine\, Sam Alfred\, Frankie Knuckles\, Kerri Chandler\, Adam Beyer\, Charlotte de Witte\, Space 92\, and many more\, Evan channels their influence into sets that hit hard\, stay fresh\, and keep you moving through the night. \nOn November 28th\, he brings his signature sound and driving energy to Settlers Tavern—expect deep\, groovy rhythms\, rolling basslines\, and a night built for the dancefloor.
URL:https://www.settlerstavern.com/event/dj-evan/
LOCATION:Settlers Tavern\, 114 Bussell Hwy\, Margaret River\, WA\, 6285\, Australia
CATEGORIES:House,Live Music,Live Music Australia,Techno
ATTACH;FMTTYPE=image/png:https://www.settlerstavern.com/wp-content/uploads/2025/11/dj-evan2.png
GEO:-33.9498;115.0736
X-APPLE-STRUCTURED-LOCATION;VALUE=URI;X-ADDRESS=Settlers Tavern 114 Bussell Hwy Margaret River WA 6285 Australia;X-APPLE-RADIUS=500;X-TITLE=114 Bussell Hwy:geo:115.0736,-33.9498
END:VEVENT
END:VCALENDAR