BEGIN:VCALENDAR
VERSION:2.0
PRODID:-//Settlers Tavern - ECPv6.15.18//NONSGML v1.0//EN
CALSCALE:GREGORIAN
METHOD:PUBLISH
X-ORIGINAL-URL:https://www.settlerstavern.com
X-WR-CALDESC:Events for Settlers Tavern
REFRESH-INTERVAL;VALUE=DURATION:PT1H
X-Robots-Tag:noindex
X-PUBLISHED-TTL:PT1H
BEGIN:VTIMEZONE
TZID:Australia/Perth
BEGIN:STANDARD
TZOFFSETFROM:+0800
TZOFFSETTO:+0800
TZNAME:AWST
DTSTART:20240101T000000
END:STANDARD
END:VTIMEZONE
BEGIN:VEVENT
DTSTART;TZID=Australia/Perth:20251109T153000
DTEND;TZID=Australia/Perth:20251109T183000
DTSTAMP:20260422T061421
CREATED:20251016T044029Z
LAST-MODIFIED:20251018T020613Z
UID:10001037-1762702200-1762713000@www.settlerstavern.com
SUMMARY:TWIN FINS
DESCRIPTION:The Twin Fins area Margaret River–based band bringing the golden sounds of summer to life with a surf-soaked\, retro coastal vibe. With a set list full of Beach Boys classics and other sun-drenched tunes\, they channel the care free spirit of the 60s and 70s\, perfect for beachside parties\, festivals\, weddings\, and laid-back evening by the ocean.
URL:https://www.settlerstavern.com/event/twin-fins/
LOCATION:Settlers Tavern\, 114 Bussell Hwy\, Margaret River\, WA\, 6285\, Australia
CATEGORIES:Live Music,Live Music Australia,Surf
ATTACH;FMTTYPE=image/jpeg:https://www.settlerstavern.com/wp-content/uploads/2025/10/74786b29-4aac-4c10-b787-ea7ce28930b7-1_all_4938-1-scaled.jpg
GEO:-33.9498;115.0736
X-APPLE-STRUCTURED-LOCATION;VALUE=URI;X-ADDRESS=Settlers Tavern 114 Bussell Hwy Margaret River WA 6285 Australia;X-APPLE-RADIUS=500;X-TITLE=114 Bussell Hwy:geo:115.0736,-33.9498
END:VEVENT
END:VCALENDAR