BEGIN:VCALENDAR
VERSION:2.0
PRODID:-//Settlers Tavern - ECPv6.15.18//NONSGML v1.0//EN
CALSCALE:GREGORIAN
METHOD:PUBLISH
X-ORIGINAL-URL:https://www.settlerstavern.com
X-WR-CALDESC:Events for Settlers Tavern
REFRESH-INTERVAL;VALUE=DURATION:PT1H
X-Robots-Tag:noindex
X-PUBLISHED-TTL:PT1H
BEGIN:VTIMEZONE
TZID:Australia/Perth
BEGIN:STANDARD
TZOFFSETFROM:+0800
TZOFFSETTO:+0800
TZNAME:AWST
DTSTART:20240101T000000
END:STANDARD
END:VTIMEZONE
BEGIN:VEVENT
DTSTART;TZID=Australia/Perth:20251031T210000
DTEND;TZID=Australia/Perth:20251101T000000
DTSTAMP:20260422T061308
CREATED:20250213T060742Z
LAST-MODIFIED:20250915T120951Z
UID:10000933-1761944400-1761955200@www.settlerstavern.com
SUMMARY:DJ ERIK
DESCRIPTION:Inspired by the ever-evolving landscape of electronic music\, DJ Erik weaves together intricate rhythms\, soaring melodies\, and cutting-edge production techniques to craft a distinctive sonic experience. From the pulsing basslines or Tech House to the euphoric drops of House and the breakneck drum patterns of DnB\, DJ Erik’s music is a testament to his innovative spirit and passion for the genre. \nDJ Erik is a dynamic Australian electronic music artist\, blending the infectious energy or House\, the frenetic beats of Drum and Bass\, and the futuristic vibes of Tech House. With a fresh commercial edge\, DJ Erik creates an electrifying sound that resonates with dance floors and music enthusiasts alike. \nCome join DJ Erik for a Halloween dance party!
URL:https://www.settlerstavern.com/event/dj-erik-2/
LOCATION:Settlers Tavern\, 114 Bussell Hwy\, Margaret River\, WA\, 6285\, Australia
CATEGORIES:DJ,Drum and Bass,House,Live Music,Live Music Australia
ATTACH;FMTTYPE=image/png:https://www.settlerstavern.com/wp-content/uploads/2025/02/Settlers-tavern.png-1-e1757938088779.png
GEO:-33.9498;115.0736
X-APPLE-STRUCTURED-LOCATION;VALUE=URI;X-ADDRESS=Settlers Tavern 114 Bussell Hwy Margaret River WA 6285 Australia;X-APPLE-RADIUS=500;X-TITLE=114 Bussell Hwy:geo:115.0736,-33.9498
END:VEVENT
END:VCALENDAR